Workbook

Sheet Resultados
A1: Cod_Categoria | B1: Categoria | C1: Cod_Macroproceso | D1: Macroproceso | E1: Cod_Estandar | F1: Estandar | G1: Cod_Criterio | H1: Criterio | I1: Tipo_Criterio | J1: Respuesta
A2: APO | B2: Apoyo | C2: ADA | D2: Admisión y alta | E2: ADA-1 | F2: El establecimiento está organizado para garantizar el proceso de admisión a los usuarios bajo los atributos de oportunidad, continuidad y según las normas institucionales. | G2: ADA1-1 | H2: El establecimiento tiene un sistema de registro de los usuarios por historias clínicas individuales/ fichas familiares y estandariza los formatos de acuerdo con la normatividad vigente. | I2: Estructura | J2: 2
A3: APO | B3: Apoyo | C3: ADA | D3: Admisión y alta | E3: ADA-1 | F3: El establecimiento está organizado para garantizar el proceso de admisión a los usuarios bajo los atributos de oportunidad, continuidad y según las normas institucionales. | G3: ADA1-2 | H3: Se garantiza la conservación y custodia del sistema de registro (historias clínicas/fichas familiares) y está contemplado en el manual de procedimientos del establecimiento y acorde a lo dispuesto por la normatividad vigente. | I3: Proceso | J3: 2
A4: APO | B4: Apoyo | C4: ADA | D4: Admisión y alta | E4: ADA-1 | F4: El establecimiento está organizado para garantizar el proceso de admisión a los usuarios bajo los atributos de oportunidad, continuidad y según las normas institucionales. | G4: ADA1-3 | H4: El proceso diario de recojo/ archivamiento de las fichas familiares/historias clínicas está documentado e identifica aspectos críticos que podrían alterar su conservación/ tenencia. | I4: Proceso | J4: 1
A5: APO | B5: Apoyo | C5: ADA | D5: Admisión y alta | E5: ADA-1 | F5: El establecimiento está organizado para garantizar el proceso de admisión a los usuarios bajo los atributos de oportunidad, continuidad y según las normas institucionales. | G5: ADA1-5 | H5: Se cuenta con personal capacitado en el último año, para realizar las actividades en el área de admisión del establecimiento. | I5: Estructura | J5: 2
A6: APO | B6: Apoyo | C6: DLDE | D6: Descontaminacion,limpieza,desinfeccion, esteriliz. | E6: DLDE-1 | F6: El establecimiento de salud se organiza para aplicar medidas de decontaminacion, limpieza, desinfección y esterilización de materiales, equipos, enseres e instalaciones. | G6: DLDE1-1 | H6: Se cuenta con un manual de desinfección y esterilización acorde a su categoría y es conocido por el personal de todas las áreas responsables de esta proceso. | I6: Estructura | J6: 2
A7: APO | B7: Apoyo | C7: DLDE | D7: Descontaminacion,limpieza,desinfeccion, esteriliz. | E7: DLDE-2 | F7: Se realizan los procesos de decontaminacion, limpieza, desinfección, empaque, esterilización, almacenamiento y distribución de los materiales de acuerdo con normas establecidas. | G7: DLDE2-3 | H7: Se empaca y esteriliza el material/equipo de acuerdo con los procedimientos establecidos. | I7: Proceso | J7: 2
A8: APO | B8: Apoyo | C8: DLDE | D8: Descontaminacion,limpieza,desinfeccion, esteriliz. | E8: DLDE-4 | F8: Se realiza la limpieza de las instalaciones del establecimiento de acuerdo con normas específicas. | G8: DLDE4-2 | H8: El establecimiento cuenta y aplica procedimientos establecidos de segregación, acopio y disposición final de residuos sólidos. | I8: Estructura | J8: 2
A9: APO | B9: Apoyo | C9: DLDE | D9: Descontaminacion,limpieza,desinfeccion, esteriliz. | E9: DLDE-4 | F9: Se realiza la limpieza de las instalaciones del establecimiento de acuerdo con normas específicas. | G9: DLDE4-4 | H9: Se cuantifica la percepción de los usuarios (interno y externo) respecto a la limpieza del establecimiento de salud y se implementtan acciones para su mejora. | I9: Resultado | J9: 2
A10: APO | B10: Apoyo | C10: EIF | D10: Gestión de equipos e infraestructura | E10: EIF-1 | F10: El establecimiento cuenta con recurso humano capacitado y aplica la normas para disponer de equipos e infraestructura operativos y en buen estado. | G10: EIF1-1 | H10: El establecimiento de salud cuenta con un plan de mantenimiento preventivo y de recuperación de la planta física y servicios básicos incorporado al plan operativo de actividades (POA). | I10: Estructura | J10: 1
A11: APO | B11: Apoyo | C11: EIF | D11: Gestión de equipos e infraestructura | E11: EIF-1 | F11: El establecimiento cuenta con recurso humano capacitado y aplica la normas para disponer de equipos e infraestructura operativos y en buen estado. | G11: EIF1-4 | H11: El personal que realiza el mantenimiento preventivo y de recuperación de la infraestructura y equipos está capacitado para ese fin durante el último año. | I11: Estructura | J11: 2
A12: APO | B12: Apoyo | C12: EIF | D12: Gestión de equipos e infraestructura | E12: EIF-1 | F12: El establecimiento cuenta con recurso humano capacitado y aplica la normas para disponer de equipos e infraestructura operativos y en buen estado. | G12: EIF1-6 | H12: El establecimiento de salud cuenta con sistema de inventario y registro de operatividad de equipos e instrumentos. | I12: Estructura | J12: 2
A13: APO | B13: Apoyo | C13: GIM | D13: Gestión de insumos y materiales | E13: GIM-1 | F13: Se tiene definido los mecanismos de requerimiento y adquisición de insumos y materiales. | G13: GIM1-1 | H13: Se cuenta con líneas de acción para planificar el requerimiento y la adquisición de insumos y materiales conforme a las normas vigentes. | I13: Estructura | J13: 2
... A133: PRE | B133: Prestación | C133: EMG | D133: Atención de emergencias | E133: EMG-1 | F133: El servicio de emergencia está organizado para responder de manera inmediata frente a las necesidades de atención de usuarios en riesgo. | G133: EMG1-6 | H133: El establecimiento ha definido medidas para la atención de emergencia sin condicionamientos que vulneren los derechos de los usuarios (restricciones por pagos de atenciones, solicitud de compra de insumos, etc.). | I133: Estructura | J133: 2

Sheet ResultxMacroproceso
A1: CodMac | B1: Total | C1: E | D1: P | E1: R
A2: ADA | B2: 7 | C2: 4 | D2: 3
A3: AEX | B3: 9 | C3: 5 | D3: 4
A4: ATA | B4: 18 | C4: 8 | D4: 10
A5: CGP | B5: 7 | C5: 4 | D5: 2 | E5: 1
A6: DIR | B6: 11 | C6: 6 | D6: 5
A7: DLDE | B7: 8 | C7: 4 | D7: 2 | E7: 2
A8: EIF | B8: 5 | C8: 5
A9: EMG | B9: 2 | C9: 2
A10: GCA | B10: 27 | C10: 7 | D10: 7 | E10: 13
A11: GIM | B11: 10 | C11: 4 | D11: 4 | E11: 2
A12: GIN | B12: 10 | C12: 6 | D12: 4
A13: GMD | B13: 14 | C13: 6 | D13: 8
A14: GRH | B14: 12 | C14: 7 | D14: 5
A15: GSD | B15: 14 | C15: 9 | D15: 5
A16: MRA | B16: 27 | C16: 8 | D16: 17 | E16: 2
A17: MRS | B17: 2 | D17: 0 | E17: 2
A18: RCR | B18: 16 | C18: 8 | D18: 2 | E18: 6

Sheet CriteriosxMacroprocesos
A1: Cod_Macroproceso | B1: Total | C1: E | D1: P | E1: R
A2: ADA | B2: 4 | C2: 2 | D2: 2
A3: AEX | B3: 13 | C3: 9 | D3: 4
A4: ATA | B4: 11 | C4: 4 | D4: 7
A5: CGP | B5: 7 | C5: 4 | D5: 2 | E5: 1
A6: DIR | B6: 9 | C6: 5 | D6: 4
A7: DLDE | B7: 4 | C7: 2 | D7: 1 | E7: 1
A8: EIF | B8: 3 | C8: 3
A9: EMG | B9: 1 | C9: 1
A10: GCA | B10: 18 | C10: 6 | D10: 5 | E10: 7
A11: GIM | B11: 5 | C11: 2 | D11: 2 | E11: 1
A12: GIN | B12: 7 | C12: 3 | D12: 4
A13: GMD | B13: 7 | C13: 3 | D13: 4
A14: GRH | B14: 9 | C14: 4 | D14: 5
A15: GSD | B15: 8 | C15: 5 | D15: 3
A16: MRA | B16: 14 | C16: 4 | D16: 9 | E16: 1
A17: MRS | B17: 2 | D17: 1 | E17: 1
A18: RCR | B18: 10 | C18: 6 | D18: 1 | E18: 3

Sheet ResultxEstandar
A1: CodMac | B1: Total | C1: E | D1: P | E1: R
A2: ADA-1 | B2: 7 | C2: 4 | D2: 3
A3: AEX-1 | B3: 4 | C3: 4
A4: AEX-2 | B4: 3 | D4: 3
A5: AEX-3 | B5: 2 | C5: 1 | D5: 1
A6: AEX-4 | B6: 0 | C6: 0 | D6: 0
A7: ATA-1 | B7: 6 | C7: 4 | D7: 2
A8: ATA-3 | B8: 9 | C8: 2 | D8: 7
A9: ATA-4 | B9: 3 | C9: 2 | D9: 1
A10: CGP-1 | B10: 2 | C10: 2
A11: CGP-2 | B11: 5 | C11: 2 | D11: 2 | E11: 1
A12: DIR-1 | B12: 8 | C12: 5 | D12: 3
A13: DIR-2 | B13: 3 | C13: 1 | D13: 2
A14: DLDE-1 | B14: 2 | C14: 2
A15: DLDE-2 | B15: 2 | D15: 2
A16: DLDE-4 | B16: 4 | C16: 2 | E16: 2
A17: EIF-1 | B17: 5 | C17: 5
A18: EMG-1 | B18: 2 | C18: 2
A19: GCA-1 | B19: 0 | C19: 0
A20: GCA-2 | B20: 13 | C20: 7 | D20: 6
A21: GCA-3 | B21: 14 | D21: 1 | E21: 13
A22: GIM-1 | B22: 4 | C22: 4
A23: GIM-2 | B23: 6 | D23: 4 | E23: 2
A24: GIN-1 | B24: 7 | C24: 6 | D24: 1
A25: GIN-3 | B25: 3 | D25: 3
A26: GMD-1 | B26: 8 | C26: 2 | D26: 6
A27: GMD-2 | B27: 2 | D27: 2
A28: GMD-3 | B28: 4 | C28: 4
A29: GRH-1 | B29: 3 | C29: 3
A30: GRH-2 | B30: 3 | D30: 3
A31: GRH-3 | B31: 4 | C31: 4
A32: GRH-4 | B32: 2 | D32: 2
A33: GSD-1 | B33: 8 | C33: 8
A34: GSD-2 | B34: 6 | C34: 1 | D34: 5
A35: MRA-1 | B35: 3 | D35: 1 | E35: 2
A36: MRA-6 | B36: 14 | C36: 6 | D36: 8
A37: MRA-7 | B37: 8 | C37: 2 | D37: 6
A38: MRA-8 | B38: 2 | D38: 2
A39: MRS-2 | B39: 2 | D39: 0 | E39: 2
A40: RCR-1 | B40: 6 | C40: 6
...

Sheet CriteriosxEstandares
A1: Cod_Estandar | B1: Total | C1: E | D1: P | E1: R
A2: ADA-1 | B2: 4 | C2: 2 | D2: 2
A3: AEX-1 | B3: 6 | C3: 6
A4: AEX-2 | B4: 2 | D4: 2
A5: AEX-3 | B5: 2 | C5: 1 | D5: 1
A6: AEX-4 | B6: 3 | C6: 2 | D6: 1
A7: ATA-1 | B7: 3 | C7: 2 | D7: 1
A8: ATA-3 | B8: 6 | C8: 1 | D8: 5
A9: ATA-4 | B9: 2 | C9: 1 | D9: 1
A10: CGP-1 | B10: 2 | C10: 2
A11: CGP-2 | B11: 5 | C11: 2 | D11: 2 | E11: 1
A12: DIR-1 | B12: 6 | C12: 4 | D12: 2
A13: DIR-2 | B13: 3 | C13: 1 | D13: 2
A14: DLDE-1 | B14: 1 | C14: 1
A15: DLDE-2 | B15: 1 | D15: 1
A16: DLDE-4 | B16: 2 | C16: 1 | E16: 1
A17: EIF-1 | B17: 3 | C17: 3
A18: EMG-1 | B18: 1 | C18: 1
A19: GCA-1 | B19: 2 | C19: 2
A20: GCA-2 | B20: 8 | C20: 4 | D20: 4
A21: GCA-3 | B21: 8 | D21: 1 | E21: 7
A22: GIM-1 | B22: 2 | C22: 2
A23: GIM-2 | B23: 3 | D23: 2 | E23: 1
A24: GIN-1 | B24: 4 | C24: 3 | D24: 1
A25: GIN-3 | B25: 3 | D25: 3
A26: GMD-1 | B26: 4 | C26: 1 | D26: 3
A27: GMD-2 | B27: 1 | D27: 1
A28: GMD-3 | B28: 2 | C28: 2
A29: GRH-1 | B29: 2 | C29: 2
A30: GRH-2 | B30: 2 | D30: 2
A31: GRH-3 | B31: 2 | C31: 2
A32: GRH-4 | B32: 3 | D32: 3
A33: GSD-1 | B33: 4 | C33: 4
A34: GSD-2 | B34: 4 | C34: 1 | D34: 3
A35: MRA-1 | B35: 2 | D35: 1 | E35: 1
A36: MRA-6 | B36: 7 | C36: 3 | D36: 4
A37: MRA-7 | B37: 4 | C37: 1 | D37: 3
A38: MRA-8 | B38: 1 | D38: 1
A39: MRS-2 | B39: 2 | D39: 1 | E39: 1
A40: RCR-1 | B40: 3 | C40: 3
...

Sheet Simulacion
C1: Establecimiento : | D1: 00001426-PUESTO DE SALUD LARI
C2: Tipo de Establecimiento : | D2: I-2
C3: Fase: | D3: AutoEvaluación
C4: Año: | D4: 2025 | I4: TIPO DE CRITERIO | AL4: MACROPROCESO | AR4: CATEGORIAS
C5: Periodo : | D5: 1 | AH5: REPORTE DETALLE X MACROPROCESO
E6: Nro total criterios | I6: PMT=Punt.max.xTipo | M6: Factores | Q6: Puntaje Max.Con Conefic. | U6: PTC=Proporc.del tipo de criterio | Z6: Puntaje Obtenido por Tipo de Criterio | AD6: Puntaj.Max.por proporcion | AH6: Puntaje obtenido por Macroproceso | AK6: Puntaje obtenido por Macroproceso aplicando Puntaje por Tipo de Criterio | AM6: Puntaje Máximo por Macro proceso | AN6: Puntaje Obtenido x Macro proceso | AO6: Cumplimiento x Macro proceso | AR6: Puntaje Max. x categoria | AS6: Puntaje Obtenido por categoria | AT6: Puntaje Obtenido x Categoría | AU6: Cumplimiento x categoria | AW6: RESULTADO FINAL
A7: CodCateg | B7: CODMACRO | C7: Macroprocesos | D7: Criterios eval | E7: E | F7: P | G7: R | H7: T | I7: E | J7: P | K7: R | L7: T | M7: E | N7: P | O7: R | P7: T | Q7: E | R7: P | S7: R | T7: T | U7: E | V7: P | W7: R | X7: T | Z7: E | AA7: P | AB7: R | AC7: T | AD7: E | AE7: P | AF7: R | AG7: T | AH7: E | AI7: P | AJ7: R | AK7: Total | AL7: % Macro proceso | AM7: Total | AN7: Total | AO7: % | AP7: Puntaje Max. Por Categoria | AQ7: % Categoria | AR7: Total | AS7: Total | AT7: Total | AU7: % | AW7: =IF(AND(AT33>=BA24,AT33<=BB24),BC24,IF(AND(AT33>=BA25,AT33<=BB25),BC25,IF(AND(AT33>=BA26,AT33<=BB26),BC26,IF(AND(AT33>=BA27,AT33<=BB27),BC27,IF(AND(AT33>=BA28,AT33<=BB28),BC28,""))))) -> NO aprobado - Subsanar en 6 meses (70%-84%)
A8: GER | B8: DIR | C8: Direccionamiento | D8: =IF(ISERROR(VLOOKUP($B8,CriteriosxMacroprocesos!$A:$E,2,FALSE)),0,VLOOKUP($B8,CriteriosxMacroprocesos!$A:$E,2,FALSE)) -> 9 | E8: =IF(ISERROR(VLOOKUP($B8,CriteriosxMacroprocesos!$A:$E,3,FALSE)),0,VLOOKUP($B8,CriteriosxMacroprocesos!$A:$E,3,FALSE)) -> 5 | F8: =IF(ISERROR(VLOOKUP($B8,CriteriosxMacroprocesos!$A:$E,4,FALSE)),0,VLOOKUP($B8,CriteriosxMacroprocesos!$A:$E,4,FALSE)) -> 4 | G8: =IF(ISERROR(VLOOKUP($B8,CriteriosxMacroprocesos!$A:$E,5,FALSE)),0,VLOOKUP($B8,CriteriosxMacroprocesos!$A:$E,5,FALSE)) -> 0 | H8: =+G8+F8+E8 -> 9 | I8: =+E8*2 -> 10 | J8: =+F8*2 -> 8 | K8: =+G8*2 -> 0 | L8: =+K8+J8+I8 -> 18 | M8: 1 | N8: 2 | O8: 3 | P8: =+M8+N8+O8 -> 6 | Q8: =+I8*M8 -> 10 | R8: =+J8*N8 -> 16 | S8: =+K8*O8 -> 0 | T8: =SUM(Q8:S8) -> 26 | U8: =IF(ISERR(Q8/$T8*100),0,Q8/$T8*100) -> 38.461538 | V8: =IF(ISERR(R8/$T8*100),0,R8/$T8*100) -> 61.538462 | W8: =IF(ISERR(S8/$T8*100),0,S8/$T8*100) -> 0 | X8: =+L8 -> 18 | Y8: =+U8+V8+W8 -> 100 | Z8: =IF(ISERROR(VLOOKUP($B8,ResultxMacroproceso!$A:$E,3,FALSE)),0,VLOOKUP($B8,ResultxMacroproceso!$A:$E,3,FALSE)) -> 6 | AA8: =IF(ISERROR(VLOOKUP($B8,ResultxMacroproceso!$A:$E,4,FALSE)),0,VLOOKUP($B8,ResultxMacroproceso!$A:$E,4,FALSE)) -> 5 | AB8: =IF(ISERROR(VLOOKUP($B8,ResultxMacroproceso!$A:$E,5,FALSE)),0,VLOOKUP($B8,ResultxMacroproceso!$A:$E,5,FALSE)) -> 0 | AC8: =+Z8+AA8+AB8 -> 11 | AD8: =IF(ISERROR(+U8/100*X8),0,+U8/100*X8) -> 6.9230769 | AE8: =IF(ISERROR(+V8/100*X8),0,+V8/100*X8) -> 11.076923 | AF8: =IF(ISERROR(+W8/100*X8),0,+W8/100*X8) -> 0 | AG8: =SUM(AD8:AF8) -> 18 | AH8: =IF(ISERROR(+Z8*AD8/I8),0,+Z8*AD8/I8) -> 4.1538462 | AI8: =IF(ISERROR(+AA8*AE8/J8),0,+AA8*AE8/J8) -> 6.9230769 | AJ8: =IF(ISERROR(+AB8*AF8/K8),0,+AB8*AF8/K8) -> 0 | AK8: =+AH8+AI8+AJ8 -> 11.076923 | AL8: 8 | AM8: =IF(D8=0,0,IF(ISERROR(+AL8*$AG$30/100),0,+AL8*$AG$30/100)) -> 21.12 | AN8: =IF(ISERROR(+AK8*AM8/AG8),0,+AK8*AM8/AG8) -> 12.996923 | AO8: =IF(ISERROR(AN8*100/AM8),0,+AN8*100/AM8) -> 61.538462 | AP8: =SUM(AM8:AM13) -> 92.4 | AQ8: 35 | AR8: =IF(ISERROR(+AQ8*$AP$30/100),0,ROUND(+AQ8*$AP$30/100,2)) -> 70.22 | AS8: =SUM(AN8:AN13) -> 66.49865 | AT8: =IF(ISERROR(AS8*AR8/AP8),0,ROUND(AS8*AR8/AP8,2)) -> 50.54 | AU8: =IF(ISERROR(AT8*100/AR8),0,+AT8*100/AR8) -> 71.973797
B9: GRH | C9: Gestión de recursos humanos | D9: =IF(ISERROR(VLOOKUP($B9,CriteriosxMacroprocesos!$A:$E,2,FALSE)),0,VLOOKUP($B9,CriteriosxMacroprocesos!$A:$E,2,FALSE)) -> 9 | E9: =IF(ISERROR(VLOOKUP($B9,CriteriosxMacroprocesos!$A:$E,3,FALSE)),0,VLOOKUP($B9,CriteriosxMacroprocesos!$A:$E,3,FALSE)) -> 4 | F9: =IF(ISERROR(VLOOKUP($B9,CriteriosxMacroprocesos!$A:$E,4,FALSE)),0,VLOOKUP($B9,CriteriosxMacroprocesos!$A:$E,4,FALSE)) -> 5 | G9: =IF(ISERROR(VLOOKUP($B9,CriteriosxMacroprocesos!$A:$E,5,FALSE)),0,VLOOKUP($B9,CriteriosxMacroprocesos!$A:$E,5,FALSE)) -> 0 | H9: =+G9+F9+E9 -> 9 | I9: =+E9*2 -> 8 | J9: =+F9*2 -> 10 | K9: =+G9*2 -> 0 | L9: =+K9+J9+I9 -> 18 | M9: 1 | N9: 2 | O9: 3 | P9: =+M9+N9+O9 -> 6 | Q9: =+I9*M9 -> 8 | R9: =+J9*N9 -> 20 | S9: =+K9*O9 -> 0 | T9: =SUM(Q9:S9) -> 28 | U9: =IF(ISERR(Q9/$T9*100),0,Q9/$T9*100) -> 28.571429 | V9: =IF(ISERR(R9/$T9*100),0,R9/$T9*100) -> 71.428571 | W9: =IF(ISERR(S9/$T9*100),0,S9/$T9*100) -> 0 | X9: =+L9 -> 18 | Y9: =+U9+V9+W9 -> 100 | Z9: =IF(ISERROR(VLOOKUP($B9,ResultxMacroproceso!$A:$E,3,FALSE)),0,VLOOKUP($B9,ResultxMacroproceso!$A:$E,3,FALSE)) -> 7 | AA9: =IF(ISERROR(VLOOKUP($B9,ResultxMacroproceso!$A:$E,4,FALSE)),0,VLOOKUP($B9,ResultxMacroproceso!$A:$E,4,FALSE)) -> 5 | AB9: =IF(ISERROR(VLOOKUP($B9,ResultxMacroproceso!$A:$E,5,FALSE)),0,VLOOKUP($B9,ResultxMacroproceso!$A:$E,5,FALSE)) -> 0 | AC9: =+Z9+AA9+AB9 -> 12 | AD9: =IF(ISERROR(+U9/100*X9),0,+U9/100*X9) -> 5.1428571 | AE9: =IF(ISERROR(+V9/100*X9),0,+V9/100*X9) -> 12.857143 | AF9: =IF(ISERROR(+W9/100*X9),0,+W9/100*X9) -> 0 | AG9: =SUM(AD9:AF9) -> 18 | AH9: =IF(ISERROR(+Z9*AD9/I9),0,+Z9*AD9/I9) -> 4.5 | AI9: =IF(ISERROR(+AA9*AE9/J9),0,+AA9*AE9/J9) -> 6.4285714 | AJ9: =IF(ISERROR(+AB9*AF9/K9),0,+AB9*AF9/K9) -> 0 | AK9: =+AH9+AI9+AJ9 -> 10.928571 | AL9: 6 | AM9: =IF(D9=0,0,IF(ISERROR(+AL9*$AG$30/100),0,+AL9*$AG$30/100)) -> 15.84 | AN9: =IF(ISERROR(+AK9*AM9/AG9),0,+AK9*AM9/AG9) -> 9.6171429 | AO9: =IF(ISERROR(AN9*100/AM9),0,+AN9*100/AM9) -> 60.714286
B10: GCA | C10: Gestión de la calidad | D10: =IF(ISERROR(VLOOKUP($B10,CriteriosxMacroprocesos!$A:$E,2,FALSE)),0,VLOOKUP($B10,CriteriosxMacroprocesos!$A:$E,2,FALSE)) -> 18 | E10: =IF(ISERROR(VLOOKUP($B10,CriteriosxMacroprocesos!$A:$E,3,FALSE)),0,VLOOKUP($B10,CriteriosxMacroprocesos!$A:$E,3,FALSE)) -> 6 | F10: =IF(ISERROR(VLOOKUP($B10,CriteriosxMacroprocesos!$A:$E,4,FALSE)),0,VLOOKUP($B10,CriteriosxMacroprocesos!$A:$E,4,FALSE)) -> 5 | G10: =IF(ISERROR(VLOOKUP($B10,CriteriosxMacroprocesos!$A:$E,5,FALSE)),0,VLOOKUP($B10,CriteriosxMacroprocesos!$A:$E,5,FALSE)) -> 7 | H10: =+G10+F10+E10 -> 18 | I10: =+E10*2 -> 12 | J10: =+F10*2 -> 10 | K10: =+G10*2 -> 14 | L10: =+K10+J10+I10 -> 36 | M10: 1 | N10: 2 | O10: 3 | P10: =+M10+N10+O10 -> 6 | Q10: =+I10*M10 -> 12 | R10: =+J10*N10 -> 20 | S10: =+K10*O10 -> 42 | T10: =SUM(Q10:S10) -> 74 | U10: =IF(ISERR(Q10/$T10*100),0,Q10/$T10*100) -> 16.216216 | V10: =IF(ISERR(R10/$T10*100),0,R10/$T10*100) -> 27.027027 | W10: =IF(ISERR(S10/$T10*100),0,S10/$T10*100) -> 56.756757 | X10: =+L10 -> 36 | Y10: =+U10+V10+W10 -> 100 | Z10: =IF(ISERROR(VLOOKUP($B10,ResultxMacroproceso!$A:$E,3,FALSE)),0,VLOOKUP($B10,ResultxMacroproceso!$A:$E,3,FALSE)) -> 7 | AA10: =IF(ISERROR(VLOOKUP($B10,ResultxMacroproceso!$A:$E,4,FALSE)),0,VLOOKUP($B10,ResultxMacroproceso!$A:$E,4,FALSE)) -> 7 | AB10: =IF(ISERROR(VLOOKUP($B10,ResultxMacroproceso!$A:$E,5,FALSE)),0,VLOOKUP($B10,ResultxMacroproceso!$A:$E,5,FALSE)) -> 13 | AC10: =+Z10+AA10+AB10 -> 27 | AD10: =IF(ISERROR(+U10/100*X10),0,+U10/100*X10) -> 5.8378378 | AE10: =IF(ISERROR(+V10/100*X10),0,+V10/100*X10) -> 9.7297297 | AF10: =IF(ISERROR(+W10/100*X10),0,+W10/100*X10) -> 20.432432 | AG10: =SUM(AD10:AF10) -> 36 | AH10: =IF(ISERROR(+Z10*AD10/I10),0,+Z10*AD10/I10) -> 3.4054054 | AI10: =IF(ISERROR(+AA10*AE10/J10),0,+AA10*AE10/J10) -> 6.8108108 | AJ10: =IF(ISERROR(+AB10*AF10/K10),0,+AB10*AF10/K10) -> 18.972973 | AK10: =+AH10+AI10+AJ10 -> 29.189189 | AL10: 7 | AM10: =IF(D10=0,0,IF(ISERROR(+AL10*$AG$30/100),0,+AL10*$AG$30/100)) -> 18.48 | AN10: =IF(ISERROR(+AK10*AM10/AG10),0,+AK10*AM10/AG10) -> 14.983784 | AO10: =IF(ISERROR(AN10*100/AM10),0,+AN10*100/AM10) -> 81.081081
B11: MRA | C11: Manejo del riesgo de atención | D11: =IF(ISERROR(VLOOKUP($B11,CriteriosxMacroprocesos!$A:$E,2,FALSE)),0,VLOOKUP($B11,CriteriosxMacroprocesos!$A:$E,2,FALSE)) -> 14 | E11: =IF(ISERROR(VLOOKUP($B11,CriteriosxMacroprocesos!$A:$E,3,FALSE)),0,VLOOKUP($B11,CriteriosxMacroprocesos!$A:$E,3,FALSE)) -> 4 | F11: =IF(ISERROR(VLOOKUP($B11,CriteriosxMacroprocesos!$A:$E,4,FALSE)),0,VLOOKUP($B11,CriteriosxMacroprocesos!$A:$E,4,FALSE)) -> 9 | G11: =IF(ISERROR(VLOOKUP($B11,CriteriosxMacroprocesos!$A:$E,5,FALSE)),0,VLOOKUP($B11,CriteriosxMacroprocesos!$A:$E,5,FALSE)) -> 1 | H11: =+G11+F11+E11 -> 14 | I11: =+E11*2 -> 8 | J11: =+F11*2 -> 18 | K11: =+G11*2 -> 2 | L11: =+K11+J11+I11 -> 28 | M11: 1 | N11: 2 | O11: 3 | P11: =+M11+N11+O11 -> 6 | Q11: =+I11*M11 -> 8 | R11: =+J11*N11 -> 36 | S11: =+K11*O11 -> 6 | T11: =SUM(Q11:S11) -> 50 | U11: =IF(ISERR(Q11/$T11*100),0,Q11/$T11*100) -> 16 | V11: =IF(ISERR(R11/$T11*100),0,R11/$T11*100) -> 72 | W11: =IF(ISERR(S11/$T11*100),0,S11/$T11*100) -> 12 | X11: =+L11 -> 28 | Y11: =+U11+V11+W11 -> 100 | Z11: =IF(ISERROR(VLOOKUP($B11,ResultxMacroproceso!$A:$E,3,FALSE)),0,VLOOKUP($B11,ResultxMacroproceso!$A:$E,3,FALSE)) -> 8 | AA11: =IF(ISERROR(VLOOKUP($B11,ResultxMacroproceso!$A:$E,4,FALSE)),0,VLOOKUP($B11,ResultxMacroproceso!$A:$E,4,FALSE)) -> 17 | AB11: =IF(ISERROR(VLOOKUP($B11,ResultxMacroproceso!$A:$E,5,FALSE)),0,VLOOKUP($B11,ResultxMacroproceso!$A:$E,5,FALSE)) -> 2 | AC11: =+Z11+AA11+AB11 -> 27 | AD11: =IF(ISERROR(+U11/100*X11),0,+U11/100*X11) -> 4.48 | AE11: =IF(ISERROR(+V11/100*X11),0,+V11/100*X11) -> 20.16 | AF11: =IF(ISERROR(+W11/100*X11),0,+W11/100*X11) -> 3.36 | AG11: =SUM(AD11:AF11) -> 28 | AH11: =IF(ISERROR(+Z11*AD11/I11),0,+Z11*AD11/I11) -> 4.48 | AI11: =IF(ISERROR(+AA11*AE11/J11),0,+AA11*AE11/J11) -> 19.04 | AJ11: =IF(ISERROR(+AB11*AF11/K11),0,+AB11*AF11/K11) -> 3.36 | AK11: =+AH11+AI11+AJ11 -> 26.88 | AL11: 7 | AM11: =IF(D11=0,0,IF(ISERROR(+AL11*$AG$30/100),0,+AL11*$AG$30/100)) -> 18.48 | AN11: =IF(ISERROR(+AK11*AM11/AG11),0,+AK11*AM11/AG11) -> 17.7408 | AO11: =IF(ISERROR(AN11*100/AM11),0,+AN11*100/AM11) -> 96
B12: GSD | C12: Gestión de seguridad ante desastres | D12: =IF(ISERROR(VLOOKUP($B12,CriteriosxMacroprocesos!$A:$E,2,FALSE)),0,VLOOKUP($B12,CriteriosxMacroprocesos!$A:$E,2,FALSE)) -> 8 | E12: =IF(ISERROR(VLOOKUP($B12,CriteriosxMacroprocesos!$A:$E,3,FALSE)),0,VLOOKUP($B12,CriteriosxMacroprocesos!$A:$E,3,FALSE)) -> 5 | F12: =IF(ISERROR(VLOOKUP($B12,CriteriosxMacroprocesos!$A:$E,4,FALSE)),0,VLOOKUP($B12,CriteriosxMacroprocesos!$A:$E,4,FALSE)) -> 3 | G12: =IF(ISERROR(VLOOKUP($B12,CriteriosxMacroprocesos!$A:$E,5,FALSE)),0,VLOOKUP($B12,CriteriosxMacroprocesos!$A:$E,5,FALSE)) -> 0 | H12: =+G12+F12+E12 -> 8 | I12: =+E12*2 -> 10 | J12: =+F12*2 -> 6 | K12: =+G12*2 -> 0 | L12: =+K12+J12+I12 -> 16 | M12: 1 | N12: 2 | O12: 3 | P12: =+M12+N12+O12 -> 6 | Q12: =+I12*M12 -> 10 | R12: =+J12*N12 -> 12 | S12: =+K12*O12 -> 0 | T12: =SUM(Q12:S12) -> 22 | U12: =IF(ISERR(Q12/$T12*100),0,Q12/$T12*100) -> 45.454545 | V12: =IF(ISERR(R12/$T12*100),0,R12/$T12*100) -> 54.545455 | W12: =IF(ISERR(S12/$T12*100),0,S12/$T12*100) -> 0 | X12: =+L12 -> 16 | Y12: =+U12+V12+W12 -> 100 | Z12: =IF(ISERROR(VLOOKUP($B12,ResultxMacroproceso!$A:$E,3,FALSE)),0,VLOOKUP($B12,ResultxMacroproceso!$A:$E,3,FALSE)) -> 9 | AA12: =IF(ISERROR(VLOOKUP($B12,ResultxMacroproceso!$A:$E,4,FALSE)),0,VLOOKUP($B12,ResultxMacroproceso!$A:$E,4,FALSE)) -> 5 | AB12: =IF(ISERROR(VLOOKUP($B12,ResultxMacroproceso!$A:$E,5,FALSE)),0,VLOOKUP($B12,ResultxMacroproceso!$A:$E,5,FALSE)) -> 0 | AC12: =+Z12+AA12+AB12 -> 14 | AD12: =IF(ISERROR(+U12/100*X12),0,+U12/100*X12) -> 7.2727273 | AE12: =IF(ISERROR(+V12/100*X12),0,+V12/100*X12) -> 8.7272727 | AF12: =IF(ISERROR(+W12/100*X12),0,+W12/100*X12) -> 0 | AG12: =SUM(AD12:AF12) -> 16 | AH12: =IF(ISERROR(+Z12*AD12/I12),0,+Z12*AD12/I12) -> 6.5454545 | AI12: =IF(ISERROR(+AA12*AE12/J12),0,+AA12*AE12/J12) -> 7.2727273 | AJ12: =IF(ISERROR(+AB12*AF12/K12),0,+AB12*AF12/K12) -> 0 | AK12: =+AH12+AI12+AJ12 -> 13.818182 | AL12: 2 | AM12: =IF(D12=0,0,IF(ISERROR(+AL12*$AG$30/100),0,+AL12*$AG$30/100)) -> 5.28 | AN12: =IF(ISERROR(+AK12*AM12/AG12),0,+AK12*AM12/AG12) -> 4.56 | AO12: =IF(ISERROR(AN12*100/AM12),0,+AN12*100/AM12) -> 86.363636
B13: CGP | C13: Control de la gestión y prestación | D13: =IF(ISERROR(VLOOKUP($B13,CriteriosxMacroprocesos!$A:$E,2,FALSE)),0,VLOOKUP($B13,CriteriosxMacroprocesos!$A:$E,2,FALSE)) -> 7 | E13: =IF(ISERROR(VLOOKUP($B13,CriteriosxMacroprocesos!$A:$E,3,FALSE)),0,VLOOKUP($B13,CriteriosxMacroprocesos!$A:$E,3,FALSE)) -> 4 | F13: =IF(ISERROR(VLOOKUP($B13,CriteriosxMacroprocesos!$A:$E,4,FALSE)),0,VLOOKUP($B13,CriteriosxMacroprocesos!$A:$E,4,FALSE)) -> 2 | G13: =IF(ISERROR(VLOOKUP($B13,CriteriosxMacroprocesos!$A:$E,5,FALSE)),0,VLOOKUP($B13,CriteriosxMacroprocesos!$A:$E,5,FALSE)) -> 1 | H13: =+G13+F13+E13 -> 7 | I13: =+E13*2 -> 8 | J13: =+F13*2 -> 4 | K13: =+G13*2 -> 2 | L13: =+K13+J13+I13 -> 14 | M13: 1 | N13: 2 | O13: 3 | P13: =+M13+N13+O13 -> 6 | Q13: =+I13*M13 -> 8 | R13: =+J13*N13 -> 8 | S13: =+K13*O13 -> 6 | T13: =SUM(Q13:S13) -> 22 | U13: =IF(ISERR(Q13/$T13*100),0,Q13/$T13*100) -> 36.363636 | V13: =IF(ISERR(R13/$T13*100),0,R13/$T13*100) -> 36.363636 | W13: =IF(ISERR(S13/$T13*100),0,S13/$T13*100) -> 27.272727 | X13: =+L13 -> 14 | Y13: =+U13+V13+W13 -> 100 | Z13: =IF(ISERROR(VLOOKUP($B13,ResultxMacroproceso!$A:$E,3,FALSE)),0,VLOOKUP($B13,ResultxMacroproceso!$A:$E,3,FALSE)) -> 4 | AA13: =IF(ISERROR(VLOOKUP($B13,ResultxMacroproceso!$A:$E,4,FALSE)),0,VLOOKUP($B13,ResultxMacroproceso!$A:$E,4,FALSE)) -> 2 | AB13: =IF(ISERROR(VLOOKUP($B13,ResultxMacroproceso!$A:$E,5,FALSE)),0,VLOOKUP($B13,ResultxMacroproceso!$A:$E,5,FALSE)) -> 1 | AC13: =+Z13+AA13+AB13 -> 7 | AD13: =IF(ISERROR(+U13/100*X13),0,+U13/100*X13) -> 5.0909091 | AE13: =IF(ISERROR(+V13/100*X13),0,+V13/100*X13) -> 5.0909091 | AF13: =IF(ISERROR(+W13/100*X13),0,+W13/100*X13) -> 3.8181818 | AG13: =SUM(AD13:AF13) -> 14 | AH13: =IF(ISERROR(+Z13*AD13/I13),0,+Z13*AD13/I13) -> 2.5454545 | AI13: =IF(ISERROR(+AA13*AE13/J13),0,+AA13*AE13/J13) -> 2.5454545 | AJ13: =IF(ISERROR(+AB13*AF13/K13),0,+AB13*AF13/K13) -> 1.9090909 | AK13: =+AH13+AI13+AJ13 -> 7 | AL13: 5 | AM13: =IF(D13=0,0,IF(ISERROR(+AL13*$AG$30/100),0,+AL13*$AG$30/100)) -> 13.2 | AN13: =IF(ISERROR(+AK13*AM13/AG13),0,+AK13*AM13/AG13) -> 6.6 | AO13: =IF(ISERROR(AN13*100/AM13),0,+AN13*100/AM13) -> 50 | AW13: Calificaciones :
A14: PRE | B14: ATA | C14: Atención ambulatoria | D14: =IF(ISERROR(VLOOKUP($B14,CriteriosxMacroprocesos!$A:$E,2,FALSE)),0,VLOOKUP($B14,CriteriosxMacroprocesos!$A:$E,2,FALSE)) -> 11 | E14: =IF(ISERROR(VLOOKUP($B14,CriteriosxMacroprocesos!$A:$E,3,FALSE)),0,VLOOKUP($B14,CriteriosxMacroprocesos!$A:$E,3,FALSE)) -> 4 | F14: =IF(ISERROR(VLOOKUP($B14,CriteriosxMacroprocesos!$A:$E,4,FALSE)),0,VLOOKUP($B14,CriteriosxMacroprocesos!$A:$E,4,FALSE)) -> 7 | G14: =IF(ISERROR(VLOOKUP($B14,CriteriosxMacroprocesos!$A:$E,5,FALSE)),0,VLOOKUP($B14,CriteriosxMacroprocesos!$A:$E,5,FALSE)) -> 0 | H14: =+G14+F14+E14 -> 11 | I14: =+E14*2 -> 8 | J14: =+F14*2 -> 14 | K14: =+G14*2 -> 0 | L14: =+K14+J14+I14 -> 22 | M14: 1 | N14: 2 | O14: 3 | P14: =+M14+N14+O14 -> 6 | Q14: =+I14*M14 -> 8 | R14: =+J14*N14 -> 28 | S14: =+K14*O14 -> 0 | T14: =SUM(Q14:S14) -> 36 | U14: =IF(ISERR(Q14/$T14*100),0,Q14/$T14*100) -> 22.222222 | V14: =IF(ISERR(R14/$T14*100),0,R14/$T14*100) -> 77.777778 | W14: =IF(ISERR(S14/$T14*100),0,S14/$T14*100) -> 0 | X14: =+L14 -> 22 | Y14: =+U14+V14+W14 -> 100 | Z14: =IF(ISERROR(VLOOKUP($B14,ResultxMacroproceso!$A:$E,3,FALSE)),0,VLOOKUP($B14,ResultxMacroproceso!$A:$E,3,FALSE)) -> 8 | AA14: =IF(ISERROR(VLOOKUP($B14,ResultxMacroproceso!$A:$E,4,FALSE)),0,VLOOKUP($B14,ResultxMacroproceso!$A:$E,4,FALSE)) -> 10 | AB14: =IF(ISERROR(VLOOKUP($B14,ResultxMacroproceso!$A:$E,5,FALSE)),0,VLOOKUP($B14,ResultxMacroproceso!$A:$E,5,FALSE)) -> 0 | AC14: =+Z14+AA14+AB14 -> 18 | AD14: =IF(ISERROR(+U14/100*X14),0,+U14/100*X14) -> 4.8888889 | AE14: =IF(ISERROR(+V14/100*X14),0,+V14/100*X14) -> 17.111111 | AF14: =IF(ISERROR(+W14/100*X14),0,+W14/100*X14) -> 0 | AG14: =SUM(AD14:AF14) -> 22 | AH14: =IF(ISERROR(+Z14*AD14/I14),0,+Z14*AD14/I14) -> 4.8888889 | AI14: =IF(ISERROR(+AA14*AE14/J14),0,+AA14*AE14/J14) -> 12.222222 | AJ14: =IF(ISERROR(+AB14*AF14/K14),0,+AB14*AF14/K14) -> 0 | AK14: =+AH14+AI14+AJ14 -> 17.111111 | AL14: 7 | AM14: =IF(D14=0,0,IF(ISERROR(+AL14*$AG$30/100),0,+AL14*$AG$30/100)) -> 18.48 | AN14: =IF(ISERROR(+AK14*AM14/AG14),0,+AK14*AM14/AG14) -> 14.373333 | AO14: =IF(ISERROR(AN14*100/AM14),0,+AN14*100/AM14) -> 77.777778 | AP14: =SUM(AM14:AM19) -> 55.44 | AQ14: 40 | AR14: =IF(ISERROR(+AQ14*$AP$30/100),0,ROUND(+AQ14*$AP$30/100,2)) -> 80.26 | AS14: =SUM(AN14:AN19) -> 39.919216 | AT14: =IF(ISERROR(AS14*AR14/AP14),0,ROUND(AS14*AR14/AP14,2)) -> 57.79 | AU14: =IF(ISERROR(AT14*100/AR14),0,+AT14*100/AR14) -> 72.003489
B15: AEX | C15: Atención extramural | D15: =IF(ISERROR(VLOOKUP($B15,CriteriosxMacroprocesos!$A:$E,2,FALSE)),0,VLOOKUP($B15,CriteriosxMacroprocesos!$A:$E,2,FALSE)) -> 13 | E15: =IF(ISERROR(VLOOKUP($B15,CriteriosxMacroprocesos!$A:$E,3,FALSE)),0,VLOOKUP($B15,CriteriosxMacroprocesos!$A:$E,3,FALSE)) -> 9 | F15: =IF(ISERROR(VLOOKUP($B15,CriteriosxMacroprocesos!$A:$E,4,FALSE)),0,VLOOKUP($B15,CriteriosxMacroprocesos!$A:$E,4,FALSE)) -> 4 | G15: =IF(ISERROR(VLOOKUP($B15,CriteriosxMacroprocesos!$A:$E,5,FALSE)),0,VLOOKUP($B15,CriteriosxMacroprocesos!$A:$E,5,FALSE)) -> 0 | H15: =+G15+F15+E15 -> 13 | I15: =+E15*2 -> 18 | J15: =+F15*2 -> 8 | K15: =+G15*2 -> 0 | L15: =+K15+J15+I15 -> 26 | M15: 1 | N15: 2 | O15: 3 | P15: =+M15+N15+O15 -> 6 | Q15: =+I15*M15 -> 18 | R15: =+J15*N15 -> 16 | S15: =+K15*O15 -> 0 | T15: =SUM(Q15:S15) -> 34 | U15: =IF(ISERR(Q15/$T15*100),0,Q15/$T15*100) -> 52.941176 | V15: =IF(ISERR(R15/$T15*100),0,R15/$T15*100) -> 47.058824 | W15: =IF(ISERR(S15/$T15*100),0,S15/$T15*100) -> 0 | X15: =+L15 -> 26 | Y15: =+U15+V15+W15 -> 100 | Z15: =IF(ISERROR(VLOOKUP($B15,ResultxMacroproceso!$A:$E,3,FALSE)),0,VLOOKUP($B15,ResultxMacroproceso!$A:$E,3,FALSE)) -> 5 | AA15: =IF(ISERROR(VLOOKUP($B15,ResultxMacroproceso!$A:$E,4,FALSE)),0,VLOOKUP($B15,ResultxMacroproceso!$A:$E,4,FALSE)) -> 4 | AB15: =IF(ISERROR(VLOOKUP($B15,ResultxMacroproceso!$A:$E,5,FALSE)),0,VLOOKUP($B15,ResultxMacroproceso!$A:$E,5,FALSE)) -> 0 | AC15: =+Z15+AA15+AB15 -> 9 | AD15: =IF(ISERROR(+U15/100*X15),0,+U15/100*X15) -> 13.764706 | AE15: =IF(ISERROR(+V15/100*X15),0,+V15/100*X15) -> 12.235294 | AF15: =IF(ISERROR(+W15/100*X15),0,+W15/100*X15) -> 0 | AG15: =SUM(AD15:AF15) -> 26 | AH15: =IF(ISERROR(+Z15*AD15/I15),0,+Z15*AD15/I15) -> 3.8235294 | AI15: =IF(ISERROR(+AA15*AE15/J15),0,+AA15*AE15/J15) -> 6.1176471 | AJ15: =IF(ISERROR(+AB15*AF15/K15),0,+AB15*AF15/K15) -> 0 | AK15: =+AH15+AI15+AJ15 -> 9.9411765 | AL15: 7 | AM15: =IF(D15=0,0,IF(ISERROR(+AL15*$AG$30/100),0,+AL15*$AG$30/100)) -> 18.48 | AN15: =IF(ISERROR(+AK15*AM15/AG15),0,+AK15*AM15/AG15) -> 7.0658824 | AO15: =IF(ISERROR(AN15*100/AM15),0,+AN15*100/AM15) -> 38.235294 | AW15: NO aprobado. Reiniciar desde Autoeval. (< 50%)
B16: ATH | C16: Atención de hospitalización | D16: =IF(ISERROR(VLOOKUP($B16,CriteriosxMacroprocesos!$A:$E,2,FALSE)),0,VLOOKUP($B16,CriteriosxMacroprocesos!$A:$E,2,FALSE)) -> 0 | E16: =IF(ISERROR(VLOOKUP($B16,CriteriosxMacroprocesos!$A:$E,3,FALSE)),0,VLOOKUP($B16,CriteriosxMacroprocesos!$A:$E,3,FALSE)) -> 0 | F16: =IF(ISERROR(VLOOKUP($B16,CriteriosxMacroprocesos!$A:$E,4,FALSE)),0,VLOOKUP($B16,CriteriosxMacroprocesos!$A:$E,4,FALSE)) -> 0 | G16: =IF(ISERROR(VLOOKUP($B16,CriteriosxMacroprocesos!$A:$E,5,FALSE)),0,VLOOKUP($B16,CriteriosxMacroprocesos!$A:$E,5,FALSE)) -> 0 | H16: =+G16+F16+E16 -> 0 | I16: =+E16*2 -> 0 | J16: =+F16*2 -> 0 | K16: =+G16*2 -> 0 | L16: =+K16+J16+I16 -> 0 | M16: 1 | N16: 2 | O16: 3 | P16: =+M16+N16+O16 -> 6 | Q16: =+I16*M16 -> 0 | R16: =+J16*N16 -> 0 | S16: =+K16*O16 -> 0 | T16: =SUM(Q16:S16) -> 0 | U16: =IF(ISERR(Q16/$T16*100),0,Q16/$T16*100) -> 0 | V16: =IF(ISERR(R16/$T16*100),0,R16/$T16*100) -> 0 | W16: =IF(ISERR(S16/$T16*100),0,S16/$T16*100) -> 0 | X16: =+L16 -> 0 | Y16: =+U16+V16+W16 -> 0 | Z16: =IF(ISERROR(VLOOKUP($B16,ResultxMacroproceso!$A:$E,3,FALSE)),0,VLOOKUP($B16,ResultxMacroproceso!$A:$E,3,FALSE)) -> 0 | AA16: =IF(ISERROR(VLOOKUP($B16,ResultxMacroproceso!$A:$E,4,FALSE)),0,VLOOKUP($B16,ResultxMacroproceso!$A:$E,4,FALSE)) -> 0 | AB16: =IF(ISERROR(VLOOKUP($B16,ResultxMacroproceso!$A:$E,5,FALSE)),0,VLOOKUP($B16,ResultxMacroproceso!$A:$E,5,FALSE)) -> 0 | AC16: =+Z16+AA16+AB16 -> 0 | AD16: =IF(ISERROR(+U16/100*X16),0,+U16/100*X16) -> 0 | AE16: =IF(ISERROR(+V16/100*X16),0,+V16/100*X16) -> 0 | AF16: =IF(ISERROR(+W16/100*X16),0,+W16/100*X16) -> 0 | AG16: =SUM(AD16:AF16) -> 0 | AH16: =IF(ISERROR(+Z16*AD16/I16),0,+Z16*AD16/I16) -> 0 | AI16: =IF(ISERROR(+AA16*AE16/J16),0,+AA16*AE16/J16) -> 0 | AJ16: =IF(ISERROR(+AB16*AF16/K16),0,+AB16*AF16/K16) -> 0 | AK16: =+AH16+AI16+AJ16 -> 0 | AL16: 7 | AM16: =IF(D16=0,0,IF(ISERROR(+AL16*$AG$30/100),0,+AL16*$AG$30/100)) -> 0 | AN16: =IF(ISERROR(+AK16*AM16/AG16),0,+AK16*AM16/AG16) -> 0 | AO16: =IF(ISERROR(AN16*100/AM16),0,+AN16*100/AM16) -> 0 | AW16: NO aprobado - Subsanar en 9 meses (50%-69%)
B17: EMG | C17: Atención de emergencias | D17: =IF(ISERROR(VLOOKUP($B17,CriteriosxMacroprocesos!$A:$E,2,FALSE)),0,VLOOKUP($B17,CriteriosxMacroprocesos!$A:$E,2,FALSE)) -> 1 | E17: =IF(ISERROR(VLOOKUP($B17,CriteriosxMacroprocesos!$A:$E,3,FALSE)),0,VLOOKUP($B17,CriteriosxMacroprocesos!$A:$E,3,FALSE)) -> 1 | F17: =IF(ISERROR(VLOOKUP($B17,CriteriosxMacroprocesos!$A:$E,4,FALSE)),0,VLOOKUP($B17,CriteriosxMacroprocesos!$A:$E,4,FALSE)) -> 0 | G17: =IF(ISERROR(VLOOKUP($B17,CriteriosxMacroprocesos!$A:$E,5,FALSE)),0,VLOOKUP($B17,CriteriosxMacroprocesos!$A:$E,5,FALSE)) -> 0 | H17: =+G17+F17+E17 -> 1 | I17: =+E17*2 -> 2 | J17: =+F17*2 -> 0 | K17: =+G17*2 -> 0 | L17: =+K17+J17+I17 -> 2 | M17: 1 | N17: 2 | O17: 3 | P17: =+M17+N17+O17 -> 6 | Q17: =+I17*M17 -> 2 | R17: =+J17*N17 -> 0 | S17: =+K17*O17 -> 0 | T17: =SUM(Q17:S17) -> 2 | U17: =IF(ISERR(Q17/$T17*100),0,Q17/$T17*100) -> 100 | V17: =IF(ISERR(R17/$T17*100),0,R17/$T17*100) -> 0 | W17: =IF(ISERR(S17/$T17*100),0,S17/$T17*100) -> 0 | X17: =+L17 -> 2 | Y17: =+U17+V17+W17 -> 100 | Z17: =IF(ISERROR(VLOOKUP($B17,ResultxMacroproceso!$A:$E,3,FALSE)),0,VLOOKUP($B17,ResultxMacroproceso!$A:$E,3,FALSE)) -> 2 | AA17: =IF(ISERROR(VLOOKUP($B17,ResultxMacroproceso!$A:$E,4,FALSE)),0,VLOOKUP($B17,ResultxMacroproceso!$A:$E,4,FALSE)) -> 0 | AB17: =IF(ISERROR(VLOOKUP($B17,ResultxMacroproceso!$A:$E,5,FALSE)),0,VLOOKUP($B17,ResultxMacroproceso!$A:$E,5,FALSE)) -> 0 | AC17: =+Z17+AA17+AB17 -> 2 | AD17: =IF(ISERROR(+U17/100*X17),0,+U17/100*X17) -> 2 | AE17: =IF(ISERROR(+V17/100*X17),0,+V17/100*X17) -> 0 | AF17: =IF(ISERROR(+W17/100*X17),0,+W17/100*X17) -> 0 | AG17: =SUM(AD17:AF17) -> 2 | AH17: =IF(ISERROR(+Z17*AD17/I17),0,+Z17*AD17/I17) -> 2 | AI17: =IF(ISERROR(+AA17*AE17/J17),0,+AA17*AE17/J17) -> 0 | AJ17: =IF(ISERROR(+AB17*AF17/K17),0,+AB17*AF17/K17) -> 0 | AK17: =+AH17+AI17+AJ17 -> 2 | AL17: 7 | AM17: =IF(D17=0,0,IF(ISERROR(+AL17*$AG$30/100),0,+AL17*$AG$30/100)) -> 18.48 | AN17: =IF(ISERROR(+AK17*AM17/AG17),0,+AK17*AM17/AG17) -> 18.48 | AO17: =IF(ISERROR(AN17*100/AM17),0,+AN17*100/AM17) -> 100 | AW17: NO aprobado - Subsanar en 6 meses (70%-84%)
B18: ATQ | C18: Atención quirúrgica | D18: =IF(ISERROR(VLOOKUP($B18,CriteriosxMacroprocesos!$A:$E,2,FALSE)),0,VLOOKUP($B18,CriteriosxMacroprocesos!$A:$E,2,FALSE)) -> 0 | E18: =IF(ISERROR(VLOOKUP($B18,CriteriosxMacroprocesos!$A:$E,3,FALSE)),0,VLOOKUP($B18,CriteriosxMacroprocesos!$A:$E,3,FALSE)) -> 0 | F18: =IF(ISERROR(VLOOKUP($B18,CriteriosxMacroprocesos!$A:$E,4,FALSE)),0,VLOOKUP($B18,CriteriosxMacroprocesos!$A:$E,4,FALSE)) -> 0 | G18: =IF(ISERROR(VLOOKUP($B18,CriteriosxMacroprocesos!$A:$E,5,FALSE)),0,VLOOKUP($B18,CriteriosxMacroprocesos!$A:$E,5,FALSE)) -> 0 | H18: =+G18+F18+E18 -> 0 | I18: =+E18*2 -> 0 | J18: =+F18*2 -> 0 | K18: =+G18*2 -> 0 | L18: =+K18+J18+I18 -> 0 | M18: 1 | N18: 2 | O18: 3 | P18: =+M18+N18+O18 -> 6 | Q18: =+I18*M18 -> 0 | R18: =+J18*N18 -> 0 | S18: =+K18*O18 -> 0 | T18: =SUM(Q18:S18) -> 0 | U18: =IF(ISERR(Q18/$T18*100),0,Q18/$T18*100) -> 0 | V18: =IF(ISERR(R18/$T18*100),0,R18/$T18*100) -> 0 | W18: =IF(ISERR(S18/$T18*100),0,S18/$T18*100) -> 0 | X18: =+L18 -> 0 | Y18: =+U18+V18+W18 -> 0 | Z18: =IF(ISERROR(VLOOKUP($B18,ResultxMacroproceso!$A:$E,3,FALSE)),0,VLOOKUP($B18,ResultxMacroproceso!$A:$E,3,FALSE)) -> 0 | AA18: =IF(ISERROR(VLOOKUP($B18,ResultxMacroproceso!$A:$E,4,FALSE)),0,VLOOKUP($B18,ResultxMacroproceso!$A:$E,4,FALSE)) -> 0 | AB18: =IF(ISERROR(VLOOKUP($B18,ResultxMacroproceso!$A:$E,5,FALSE)),0,VLOOKUP($B18,ResultxMacroproceso!$A:$E,5,FALSE)) -> 0 | AC18: =+Z18+AA18+AB18 -> 0 | AD18: =IF(ISERROR(+U18/100*X18),0,+U18/100*X18) -> 0 | AE18: =IF(ISERROR(+V18/100*X18),0,+V18/100*X18) -> 0 | AF18: =IF(ISERROR(+W18/100*X18),0,+W18/100*X18) -> 0 | AG18: =SUM(AD18:AF18) -> 0 | AH18: =IF(ISERROR(+Z18*AD18/I18),0,+Z18*AD18/I18) -> 0 | AI18: =IF(ISERROR(+AA18*AE18/J18),0,+AA18*AE18/J18) -> 0 | AJ18: =IF(ISERROR(+AB18*AF18/K18),0,+AB18*AF18/K18) -> 0 | AK18: =+AH18+AI18+AJ18 -> 0 | AL18: 7 | AM18: =IF(D18=0,0,IF(ISERROR(+AL18*$AG$30/100),0,+AL18*$AG$30/100)) -> 0 | AN18: =IF(ISERROR(+AK18*AM18/AG18),0,+AK18*AM18/AG18) -> 0 | AO18: =IF(ISERROR(AN18*100/AM18),0,+AN18*100/AM18) -> 0 | AW18: Aprobado (85% o más)
B19: DIV | C19: Docencia e Investigación | D19: =IF(ISERROR(VLOOKUP($B19,CriteriosxMacroprocesos!$A:$E,2,FALSE)),0,VLOOKUP($B19,CriteriosxMacroprocesos!$A:$E,2,FALSE)) -> 0 | E19: =IF(ISERROR(VLOOKUP($B19,CriteriosxMacroprocesos!$A:$E,3,FALSE)),0,VLOOKUP($B19,CriteriosxMacroprocesos!$A:$E,3,FALSE)) -> 0 | F19: =IF(ISERROR(VLOOKUP($B19,CriteriosxMacroprocesos!$A:$E,4,FALSE)),0,VLOOKUP($B19,CriteriosxMacroprocesos!$A:$E,4,FALSE)) -> 0 | G19: =IF(ISERROR(VLOOKUP($B19,CriteriosxMacroprocesos!$A:$E,5,FALSE)),0,VLOOKUP($B19,CriteriosxMacroprocesos!$A:$E,5,FALSE)) -> 0 | H19: =+G19+F19+E19 -> 0 | I19: =+E19*2 -> 0 | J19: =+F19*2 -> 0 | K19: =+G19*2 -> 0 | L19: =+K19+J19+I19 -> 0 | M19: 1 | N19: 2 | O19: 3 | P19: =+M19+N19+O19 -> 6 | Q19: =+I19*M19 -> 0 | R19: =+J19*N19 -> 0 | S19: =+K19*O19 -> 0 | T19: =SUM(Q19:S19) -> 0 | U19: =IF(ISERR(Q19/$T19*100),0,Q19/$T19*100) -> 0 | V19: =IF(ISERR(R19/$T19*100),0,R19/$T19*100) -> 0 | W19: =IF(ISERR(S19/$T19*100),0,S19/$T19*100) -> 0 | X19: =+L19 -> 0 | Y19: =+U19+V19+W19 -> 0 | Z19: =IF(ISERROR(VLOOKUP($B19,ResultxMacroproceso!$A:$E,3,FALSE)),0,VLOOKUP($B19,ResultxMacroproceso!$A:$E,3,FALSE)) -> 0 | AA19: =IF(ISERROR(VLOOKUP($B19,ResultxMacroproceso!$A:$E,4,FALSE)),0,VLOOKUP($B19,ResultxMacroproceso!$A:$E,4,FALSE)) -> 0 | AB19: =IF(ISERROR(VLOOKUP($B19,ResultxMacroproceso!$A:$E,5,FALSE)),0,VLOOKUP($B19,ResultxMacroproceso!$A:$E,5,FALSE)) -> 0 | AC19: =+Z19+AA19+AB19 -> 0 | AD19: =IF(ISERROR(+U19/100*X19),0,+U19/100*X19) -> 0 | AE19: =IF(ISERROR(+V19/100*X19),0,+V19/100*X19) -> 0 | AF19: =IF(ISERROR(+W19/100*X19),0,+W19/100*X19) -> 0 | AG19: =SUM(AD19:AF19) -> 0 | AH19: =IF(ISERROR(+Z19*AD19/I19),0,+Z19*AD19/I19) -> 0 | AI19: =IF(ISERROR(+AA19*AE19/J19),0,+AA19*AE19/J19) -> 0 | AJ19: =IF(ISERROR(+AB19*AF19/K19),0,+AB19*AF19/K19) -> 0 | AK19: =+AH19+AI19+AJ19 -> 0 | AL19: 5 | AM19: =IF(D19=0,0,IF(ISERROR(+AL19*$AG$30/100),0,+AL19*$AG$30/100)) -> 0 | AN19: =IF(ISERROR(+AK19*AM19/AG19),0,+AK19*AM19/AG19) -> 0 | AO19: =IF(ISERROR(AN19*100/AM19),0,+AN19*100/AM19) -> 0
A20: APO | B20: ADT | C20: Apoyo diagnóstico y terapéutico | D20: =IF(ISERROR(VLOOKUP($B20,CriteriosxMacroprocesos!$A:$E,2,FALSE)),0,VLOOKUP($B20,CriteriosxMacroprocesos!$A:$E,2,FALSE)) -> 0 | E20: =IF(ISERROR(VLOOKUP($B20,CriteriosxMacroprocesos!$A:$E,3,FALSE)),0,VLOOKUP($B20,CriteriosxMacroprocesos!$A:$E,3,FALSE)) -> 0 | F20: =IF(ISERROR(VLOOKUP($B20,CriteriosxMacroprocesos!$A:$E,4,FALSE)),0,VLOOKUP($B20,CriteriosxMacroprocesos!$A:$E,4,FALSE)) -> 0 | G20: =IF(ISERROR(VLOOKUP($B20,CriteriosxMacroprocesos!$A:$E,5,FALSE)),0,VLOOKUP($B20,CriteriosxMacroprocesos!$A:$E,5,FALSE)) -> 0 | H20: =+G20+F20+E20 -> 0 | I20: =+E20*2 -> 0 | J20: =+F20*2 -> 0 | K20: =+G20*2 -> 0 | L20: =+K20+J20+I20 -> 0 | M20: 1 | N20: 2 | O20: 3 | P20: =+M20+N20+O20 -> 6 | Q20: =+I20*M20 -> 0 | R20: =+J20*N20 -> 0 | S20: =+K20*O20 -> 0 | T20: =SUM(Q20:S20) -> 0 | U20: =IF(ISERR(Q20/$T20*100),0,Q20/$T20*100) -> 0 | V20: =IF(ISERR(R20/$T20*100),0,R20/$T20*100) -> 0 | W20: =IF(ISERR(S20/$T20*100),0,S20/$T20*100) -> 0 | X20: =+L20 -> 0 | Y20: =+U20+V20+W20 -> 0 | Z20: =IF(ISERROR(VLOOKUP($B20,ResultxMacroproceso!$A:$E,3,FALSE)),0,VLOOKUP($B20,ResultxMacroproceso!$A:$E,3,FALSE)) -> 0 | AA20: =IF(ISERROR(VLOOKUP($B20,ResultxMacroproceso!$A:$E,4,FALSE)),0,VLOOKUP($B20,ResultxMacroproceso!$A:$E,4,FALSE)) -> 0 | AB20: =IF(ISERROR(VLOOKUP($B20,ResultxMacroproceso!$A:$E,5,FALSE)),0,VLOOKUP($B20,ResultxMacroproceso!$A:$E,5,FALSE)) -> 0 | AC20: =+Z20+AA20+AB20 -> 0 | AD20: =IF(ISERROR(+U20/100*X20),0,+U20/100*X20) -> 0 | AE20: =IF(ISERROR(+V20/100*X20),0,+V20/100*X20) -> 0 | AF20: =IF(ISERROR(+W20/100*X20),0,+W20/100*X20) -> 0 | AG20: =SUM(AD20:AF20) -> 0 | AH20: =IF(ISERROR(+Z20*AD20/I20),0,+Z20*AD20/I20) -> 0 | AI20: =IF(ISERROR(+AA20*AE20/J20),0,+AA20*AE20/J20) -> 0 | AJ20: =IF(ISERROR(+AB20*AF20/K20),0,+AB20*AF20/K20) -> 0 | AK20: =+AH20+AI20+AJ20 -> 0 | AL20: 2.5 | AM20: =IF(D20=0,0,IF(ISERROR(+AL20*$AG$30/100),0,+AL20*$AG$30/100)) -> 0 | AN20: =IF(ISERROR(+AK20*AM20/AG20),0,+AK20*AM20/AG20) -> 0 | AO20: =IF(ISERROR(AN20*100/AM20),0,+AN20*100/AM20) -> 0 | AP20: =SUM(AM20:AM29) -> 52.8 | AQ20: 25 | AR20: =IF(ISERROR(+AQ20*$AP$30/100),0,ROUND(+AQ20*$AP$30/100,2)) -> 50.16 | AS20: =SUM(AN20:AN29) -> 44.783529 | AT20: =IF(ISERROR(AS20*AR20/AP20),0,ROUND(AS20*AR20/AP20,2)) -> 42.54 | AU20: =IF(ISERROR(AT20*100/AR20),0,+AT20*100/AR20) -> 84.808612
B21: ADA | C21: Admisión y alta | D21: =IF(ISERROR(VLOOKUP($B21,CriteriosxMacroprocesos!$A:$E,2,FALSE)),0,VLOOKUP($B21,CriteriosxMacroprocesos!$A:$E,2,FALSE)) -> 4 | E21: =IF(ISERROR(VLOOKUP($B21,CriteriosxMacroprocesos!$A:$E,3,FALSE)),0,VLOOKUP($B21,CriteriosxMacroprocesos!$A:$E,3,FALSE)) -> 2 | F21: =IF(ISERROR(VLOOKUP($B21,CriteriosxMacroprocesos!$A:$E,4,FALSE)),0,VLOOKUP($B21,CriteriosxMacroprocesos!$A:$E,4,FALSE)) -> 2 | G21: =IF(ISERROR(VLOOKUP($B21,CriteriosxMacroprocesos!$A:$E,5,FALSE)),0,VLOOKUP($B21,CriteriosxMacroprocesos!$A:$E,5,FALSE)) -> 0 | H21: =+G21+F21+E21 -> 4 | I21: =+E21*2 -> 4 | J21: =+F21*2 -> 4 | K21: =+G21*2 -> 0 | L21: =+K21+J21+I21 -> 8 | M21: 1 | N21: 2 | O21: 3 | P21: =+M21+N21+O21 -> 6 | Q21: =+I21*M21 -> 4 | R21: =+J21*N21 -> 8 | S21: =+K21*O21 -> 0 | T21: =SUM(Q21:S21) -> 12 | U21: =IF(ISERR(Q21/$T21*100),0,Q21/$T21*100) -> 33.333333 | V21: =IF(ISERR(R21/$T21*100),0,R21/$T21*100) -> 66.666667 | W21: =IF(ISERR(S21/$T21*100),0,S21/$T21*100) -> 0 | X21: =+L21 -> 8 | Y21: =+U21+V21+W21 -> 100 | Z21: =IF(ISERROR(VLOOKUP($B21,ResultxMacroproceso!$A:$E,3,FALSE)),0,VLOOKUP($B21,ResultxMacroproceso!$A:$E,3,FALSE)) -> 4 | AA21: =IF(ISERROR(VLOOKUP($B21,ResultxMacroproceso!$A:$E,4,FALSE)),0,VLOOKUP($B21,ResultxMacroproceso!$A:$E,4,FALSE)) -> 3 | AB21: =IF(ISERROR(VLOOKUP($B21,ResultxMacroproceso!$A:$E,5,FALSE)),0,VLOOKUP($B21,ResultxMacroproceso!$A:$E,5,FALSE)) -> 0 | AC21: =+Z21+AA21+AB21 -> 7 | AD21: =IF(ISERROR(+U21/100*X21),0,+U21/100*X21) -> 2.6666667 | AE21: =IF(ISERROR(+V21/100*X21),0,+V21/100*X21) -> 5.3333333 | AF21: =IF(ISERROR(+W21/100*X21),0,+W21/100*X21) -> 0 | AG21: =SUM(AD21:AF21) -> 8 | AH21: =IF(ISERROR(+Z21*AD21/I21),0,+Z21*AD21/I21) -> 2.6666667 | AI21: =IF(ISERROR(+AA21*AE21/J21),0,+AA21*AE21/J21) -> 4 | AJ21: =IF(ISERROR(+AB21*AF21/K21),0,+AB21*AF21/K21) -> 0 | AK21: =+AH21+AI21+AJ21 -> 6.6666667 | AL21: 2.5 | AM21: =IF(D21=0,0,IF(ISERROR(+AL21*$AG$30/100),0,+AL21*$AG$30/100)) -> 6.6 | AN21: =IF(ISERROR(+AK21*AM21/AG21),0,+AK21*AM21/AG21) -> 5.5 | AO21: =IF(ISERROR(AN21*100/AM21),0,+AN21*100/AM21) -> 83.333333 | AR21: =IF(ISERROR(+AQ21*$AP$30/100),0,ROUND(+AQ21*$AP$30/100,2)) -> 0 | AS21: =SUM(AN22:AN31) -> 190.48492 | AT21: =IF(ISERROR(AS21*AR21/AP21),0,ROUND(AS21*AR21/AP21,2)) -> 0 | AU21: =IF(ISERROR(AT21*100/AR21),0,+AT21*100/AR21) -> 0
B22: RCR | C22: Referencia y contrarreferencia | D22: =IF(ISERROR(VLOOKUP($B22,CriteriosxMacroprocesos!$A:$E,2,FALSE)),0,VLOOKUP($B22,CriteriosxMacroprocesos!$A:$E,2,FALSE)) -> 10 | E22: =IF(ISERROR(VLOOKUP($B22,CriteriosxMacroprocesos!$A:$E,3,FALSE)),0,VLOOKUP($B22,CriteriosxMacroprocesos!$A:$E,3,FALSE)) -> 6 | F22: =IF(ISERROR(VLOOKUP($B22,CriteriosxMacroprocesos!$A:$E,4,FALSE)),0,VLOOKUP($B22,CriteriosxMacroprocesos!$A:$E,4,FALSE)) -> 1 | G22: =IF(ISERROR(VLOOKUP($B22,CriteriosxMacroprocesos!$A:$E,5,FALSE)),0,VLOOKUP($B22,CriteriosxMacroprocesos!$A:$E,5,FALSE)) -> 3 | H22: =+G22+F22+E22 -> 10 | I22: =+E22*2 -> 12 | J22: =+F22*2 -> 2 | K22: =+G22*2 -> 6 | L22: =+K22+J22+I22 -> 20 | M22: 1 | N22: 2 | O22: 3 | P22: =+M22+N22+O22 -> 6 | Q22: =+I22*M22 -> 12 | R22: =+J22*N22 -> 4 | S22: =+K22*O22 -> 18 | T22: =SUM(Q22:S22) -> 34 | U22: =IF(ISERR(Q22/$T22*100),0,Q22/$T22*100) -> 35.294118 | V22: =IF(ISERR(R22/$T22*100),0,R22/$T22*100) -> 11.764706 | W22: =IF(ISERR(S22/$T22*100),0,S22/$T22*100) -> 52.941176 | X22: =+L22 -> 20 | Y22: =+U22+V22+W22 -> 100 | Z22: =IF(ISERROR(VLOOKUP($B22,ResultxMacroproceso!$A:$E,3,FALSE)),0,VLOOKUP($B22,ResultxMacroproceso!$A:$E,3,FALSE)) -> 8 | AA22: =IF(ISERROR(VLOOKUP($B22,ResultxMacroproceso!$A:$E,4,FALSE)),0,VLOOKUP($B22,ResultxMacroproceso!$A:$E,4,FALSE)) -> 2 | AB22: =IF(ISERROR(VLOOKUP($B22,ResultxMacroproceso!$A:$E,5,FALSE)),0,VLOOKUP($B22,ResultxMacroproceso!$A:$E,5,FALSE)) -> 6 | AC22: =+Z22+AA22+AB22 -> 16 | AD22: =IF(ISERROR(+U22/100*X22),0,+U22/100*X22) -> 7.0588235 | AE22: =IF(ISERROR(+V22/100*X22),0,+V22/100*X22) -> 2.3529412 | AF22: =IF(ISERROR(+W22/100*X22),0,+W22/100*X22) -> 10.588235 | AG22: =SUM(AD22:AF22) -> 20 | AH22: =IF(ISERROR(+Z22*AD22/I22),0,+Z22*AD22/I22) -> 4.7058824 | AI22: =IF(ISERROR(+AA22*AE22/J22),0,+AA22*AE22/J22) -> 2.3529412 | AJ22: =IF(ISERROR(+AB22*AF22/K22),0,+AB22*AF22/K22) -> 10.588235 | AK22: =+AH22+AI22+AJ22 -> 17.647059 | AL22: 2.5 | AM22: =IF(D22=0,0,IF(ISERROR(+AL22*$AG$30/100),0,+AL22*$AG$30/100)) -> 6.6 | AN22: =IF(ISERROR(+AK22*AM22/AG22),0,+AK22*AM22/AG22) -> 5.8235294 | AO22: =IF(ISERROR(AN22*100/AM22),0,+AN22*100/AM22) -> 88.235294 | AR22: =IF(ISERROR(+AQ22*$AP$30/100),0,ROUND(+AQ22*$AP$30/100,2)) -> 0 | AS22: =SUM(AN23:AN32) -> 184.66139 | AT22: =IF(ISERROR(AS22*AR22/AP22),0,ROUND(AS22*AR22/AP22,2)) -> 0 | AU22: =IF(ISERROR(AT22*100/AR22),0,+AT22*100/AR22) -> 0
B23: GMD | C23: Gestión de medicamentos | D23: =IF(ISERROR(VLOOKUP($B23,CriteriosxMacroprocesos!$A:$E,2,FALSE)),0,VLOOKUP($B23,CriteriosxMacroprocesos!$A:$E,2,FALSE)) -> 7 | E23: =IF(ISERROR(VLOOKUP($B23,CriteriosxMacroprocesos!$A:$E,3,FALSE)),0,VLOOKUP($B23,CriteriosxMacroprocesos!$A:$E,3,FALSE)) -> 3 | F23: =IF(ISERROR(VLOOKUP($B23,CriteriosxMacroprocesos!$A:$E,4,FALSE)),0,VLOOKUP($B23,CriteriosxMacroprocesos!$A:$E,4,FALSE)) -> 4 | G23: =IF(ISERROR(VLOOKUP($B23,CriteriosxMacroprocesos!$A:$E,5,FALSE)),0,VLOOKUP($B23,CriteriosxMacroprocesos!$A:$E,5,FALSE)) -> 0 | H23: =+G23+F23+E23 -> 7 | I23: =+E23*2 -> 6 | J23: =+F23*2 -> 8 | K23: =+G23*2 -> 0 | L23: =+K23+J23+I23 -> 14 | M23: 1 | N23: 2 | O23: 3 | P23: =+M23+N23+O23 -> 6 | Q23: =+I23*M23 -> 6 | R23: =+J23*N23 -> 16 | S23: =+K23*O23 -> 0 | T23: =SUM(Q23:S23) -> 22 | U23: =IF(ISERR(Q23/$T23*100),0,Q23/$T23*100) -> 27.272727 | V23: =IF(ISERR(R23/$T23*100),0,R23/$T23*100) -> 72.727273 | W23: =IF(ISERR(S23/$T23*100),0,S23/$T23*100) -> 0 | X23: =+L23 -> 14 | Y23: =+U23+V23+W23 -> 100 | Z23: =IF(ISERROR(VLOOKUP($B23,ResultxMacroproceso!$A:$E,3,FALSE)),0,VLOOKUP($B23,ResultxMacroproceso!$A:$E,3,FALSE)) -> 6 | AA23: =IF(ISERROR(VLOOKUP($B23,ResultxMacroproceso!$A:$E,4,FALSE)),0,VLOOKUP($B23,ResultxMacroproceso!$A:$E,4,FALSE)) -> 8 | AB23: =IF(ISERROR(VLOOKUP($B23,ResultxMacroproceso!$A:$E,5,FALSE)),0,VLOOKUP($B23,ResultxMacroproceso!$A:$E,5,FALSE)) -> 0 | AC23: =+Z23+AA23+AB23 -> 14 | AD23: =IF(ISERROR(+U23/100*X23),0,+U23/100*X23) -> 3.8181818 | AE23: =IF(ISERROR(+V23/100*X23),0,+V23/100*X23) -> 10.181818 | AF23: =IF(ISERROR(+W23/100*X23),0,+W23/100*X23) -> 0 | AG23: =SUM(AD23:AF23) -> 14 | AH23: =IF(ISERROR(+Z23*AD23/I23),0,+Z23*AD23/I23) -> 3.8181818 | AI23: =IF(ISERROR(+AA23*AE23/J23),0,+AA23*AE23/J23) -> 10.181818 | AJ23: =IF(ISERROR(+AB23*AF23/K23),0,+AB23*AF23/K23) -> 0 | AK23: =+AH23+AI23+AJ23 -> 14 | AL23: 2.5 | AM23: =IF(D23=0,0,IF(ISERROR(+AL23*$AG$30/100),0,+AL23*$AG$30/100)) -> 6.6 | AN23: =IF(ISERROR(+AK23*AM23/AG23),0,+AK23*AM23/AG23) -> 6.6 | AO23: =IF(ISERROR(AN23*100/AM23),0,+AN23*100/AM23) -> 100 | AR23: =IF(ISERROR(+AQ23*$AP$30/100),0,ROUND(+AQ23*$AP$30/100,2)) -> 0 | AS23: =SUM(AN24:AN33) -> 178.06139 | AT23: =IF(ISERROR(AS23*AR23/AP23),0,ROUND(AS23*AR23/AP23,2)) -> 0 | AU23: =IF(ISERROR(AT23*100/AR23),0,+AT23*100/AR23) -> 0
B24: GIN | C24: Gestión de la información | D24: =IF(ISERROR(VLOOKUP($B24,CriteriosxMacroprocesos!$A:$E,2,FALSE)),0,VLOOKUP($B24,CriteriosxMacroprocesos!$A:$E,2,FALSE)) -> 7 | E24: =IF(ISERROR(VLOOKUP($B24,CriteriosxMacroprocesos!$A:$E,3,FALSE)),0,VLOOKUP($B24,CriteriosxMacroprocesos!$A:$E,3,FALSE)) -> 3 | F24: =IF(ISERROR(VLOOKUP($B24,CriteriosxMacroprocesos!$A:$E,4,FALSE)),0,VLOOKUP($B24,CriteriosxMacroprocesos!$A:$E,4,FALSE)) -> 4 | G24: =IF(ISERROR(VLOOKUP($B24,CriteriosxMacroprocesos!$A:$E,5,FALSE)),0,VLOOKUP($B24,CriteriosxMacroprocesos!$A:$E,5,FALSE)) -> 0 | H24: =+G24+F24+E24 -> 7 | I24: =+E24*2 -> 6 | J24: =+F24*2 -> 8 | K24: =+G24*2 -> 0 | L24: =+K24+J24+I24 -> 14 | M24: 1 | N24: 2 | O24: 3 | P24: =+M24+N24+O24 -> 6 | Q24: =+I24*M24 -> 6 | R24: =+J24*N24 -> 16 | S24: =+K24*O24 -> 0 | T24: =SUM(Q24:S24) -> 22 | U24: =IF(ISERR(Q24/$T24*100),0,Q24/$T24*100) -> 27.272727 | V24: =IF(ISERR(R24/$T24*100),0,R24/$T24*100) -> 72.727273 | W24: =IF(ISERR(S24/$T24*100),0,S24/$T24*100) -> 0 | X24: =+L24 -> 14 | Y24: =+U24+V24+W24 -> 100 | Z24: =IF(ISERROR(VLOOKUP($B24,ResultxMacroproceso!$A:$E,3,FALSE)),0,VLOOKUP($B24,ResultxMacroproceso!$A:$E,3,FALSE)) -> 6 | AA24: =IF(ISERROR(VLOOKUP($B24,ResultxMacroproceso!$A:$E,4,FALSE)),0,VLOOKUP($B24,ResultxMacroproceso!$A:$E,4,FALSE)) -> 4 | AB24: =IF(ISERROR(VLOOKUP($B24,ResultxMacroproceso!$A:$E,5,FALSE)),0,VLOOKUP($B24,ResultxMacroproceso!$A:$E,5,FALSE)) -> 0 | AC24: =+Z24+AA24+AB24 -> 10 | AD24: =IF(ISERROR(+U24/100*X24),0,+U24/100*X24) -> 3.8181818 | AE24: =IF(ISERROR(+V24/100*X24),0,+V24/100*X24) -> 10.181818 | AF24: =IF(ISERROR(+W24/100*X24),0,+W24/100*X24) -> 0 | AG24: =SUM(AD24:AF24) -> 14 | AH24: =IF(ISERROR(+Z24*AD24/I24),0,+Z24*AD24/I24) -> 3.8181818 | AI24: =IF(ISERROR(+AA24*AE24/J24),0,+AA24*AE24/J24) -> 5.0909091 | AJ24: =IF(ISERROR(+AB24*AF24/K24),0,+AB24*AF24/K24) -> 0 | AK24: =+AH24+AI24+AJ24 -> 8.9090909 | AL24: 2.5 | AM24: =IF(D24=0,0,IF(ISERROR(+AL24*$AG$30/100),0,+AL24*$AG$30/100)) -> 6.6 | AN24: =IF(ISERROR(+AK24*AM24/AG24),0,+AK24*AM24/AG24) -> 4.2 | AO24: =IF(ISERROR(AN24*100/AM24),0,+AN24*100/AM24) -> 63.636364 | AR24: =IF(ISERROR(+AQ24*$AP$30/100),0,ROUND(+AQ24*$AP$30/100,2)) -> 0 | AS24: =SUM(AN25:AN34) -> 173.86139 | AT24: =IF(ISERROR(AS24*AR24/AP24),0,ROUND(AS24*AR24/AP24,2)) -> 0 | AU24: =IF(ISERROR(AT24*100/AR24),0,+AT24*100/AR24) -> 0 | BA24: 0 | BB24: 49.99999 | BC24: NO aprobado. Reiniciar desde la Autoevaluación (Menos 50%)
B25: DLDE | C25: Descontaminación, Limpieza, Desinfeccción y Esterilización | D25: =IF(ISERROR(VLOOKUP($B25,CriteriosxMacroprocesos!$A:$E,2,FALSE)),0,VLOOKUP($B25,CriteriosxMacroprocesos!$A:$E,2,FALSE)) -> 4 | E25: =IF(ISERROR(VLOOKUP($B25,CriteriosxMacroprocesos!$A:$E,3,FALSE)),0,VLOOKUP($B25,CriteriosxMacroprocesos!$A:$E,3,FALSE)) -> 2 | F25: =IF(ISERROR(VLOOKUP($B25,CriteriosxMacroprocesos!$A:$E,4,FALSE)),0,VLOOKUP($B25,CriteriosxMacroprocesos!$A:$E,4,FALSE)) -> 1 | G25: =IF(ISERROR(VLOOKUP($B25,CriteriosxMacroprocesos!$A:$E,5,FALSE)),0,VLOOKUP($B25,CriteriosxMacroprocesos!$A:$E,5,FALSE)) -> 1 | H25: =+G25+F25+E25 -> 4 | I25: =+E25*2 -> 4 | J25: =+F25*2 -> 2 | K25: =+G25*2 -> 2 | L25: =+K25+J25+I25 -> 8 | M25: 1 | N25: 2 | O25: 3 | P25: =+M25+N25+O25 -> 6 | Q25: =+I25*M25 -> 4 | R25: =+J25*N25 -> 4 | S25: =+K25*O25 -> 6 | T25: =SUM(Q25:S25) -> 14 | U25: =IF(ISERR(Q25/$T25*100),0,Q25/$T25*100) -> 28.571429 | V25: =IF(ISERR(R25/$T25*100),0,R25/$T25*100) -> 28.571429 | W25: =IF(ISERR(S25/$T25*100),0,S25/$T25*100) -> 42.857143 | X25: =+L25 -> 8 | Y25: =+U25+V25+W25 -> 100 | Z25: =IF(ISERROR(VLOOKUP($B25,ResultxMacroproceso!$A:$E,3,FALSE)),0,VLOOKUP($B25,ResultxMacroproceso!$A:$E,3,FALSE)) -> 4 | AA25: =IF(ISERROR(VLOOKUP($B25,ResultxMacroproceso!$A:$E,4,FALSE)),0,VLOOKUP($B25,ResultxMacroproceso!$A:$E,4,FALSE)) -> 2 | AB25: =IF(ISERROR(VLOOKUP($B25,ResultxMacroproceso!$A:$E,5,FALSE)),0,VLOOKUP($B25,ResultxMacroproceso!$A:$E,5,FALSE)) -> 2 | AC25: =+Z25+AA25+AB25 -> 8 | AD25: =IF(ISERROR(+U25/100*X25),0,+U25/100*X25) -> 2.2857143 | AE25: =IF(ISERROR(+V25/100*X25),0,+V25/100*X25) -> 2.2857143 | AF25: =IF(ISERROR(+W25/100*X25),0,+W25/100*X25) -> 3.4285714 | AG25: =SUM(AD25:AF25) -> 8 | AH25: =IF(ISERROR(+Z25*AD25/I25),0,+Z25*AD25/I25) -> 2.2857143 | AI25: =IF(ISERROR(+AA25*AE25/J25),0,+AA25*AE25/J25) -> 2.2857143 | AJ25: =IF(ISERROR(+AB25*AF25/K25),0,+AB25*AF25/K25) -> 3.4285714 | AK25: =+AH25+AI25+AJ25 -> 8 | AL25: 2.5 | AM25: =IF(D25=0,0,IF(ISERROR(+AL25*$AG$30/100),0,+AL25*$AG$30/100)) -> 6.6 | AN25: =IF(ISERROR(+AK25*AM25/AG25),0,+AK25*AM25/AG25) -> 6.6 | AO25: =IF(ISERROR(AN25*100/AM25),0,+AN25*100/AM25) -> 100 | AR25: =IF(ISERROR(+AQ25*$AP$30/100),0,ROUND(+AQ25*$AP$30/100,2)) -> 0 | AS25: =SUM(AN26:AN35) -> 167.26139 | AT25: =IF(ISERROR(AS25*AR25/AP25),0,ROUND(AS25*AR25/AP25,2)) -> 0 | AU25: =IF(ISERROR(AT25*100/AR25),0,+AT25*100/AR25) -> 0 | BA25: 0 | BB25: 49.99999 | BC25: NO aprobado. Reiniciar desde la Autoevaluación (Menos 50%)
B26: MRS | C26: Manejo del riesgo social | D26: =IF(ISERROR(VLOOKUP($B26,CriteriosxMacroprocesos!$A:$E,2,FALSE)),0,VLOOKUP($B26,CriteriosxMacroprocesos!$A:$E,2,FALSE)) -> 2 | E26: =IF(ISERROR(VLOOKUP($B26,CriteriosxMacroprocesos!$A:$E,3,FALSE)),0,VLOOKUP($B26,CriteriosxMacroprocesos!$A:$E,3,FALSE)) -> 0 | F26: =IF(ISERROR(VLOOKUP($B26,CriteriosxMacroprocesos!$A:$E,4,FALSE)),0,VLOOKUP($B26,CriteriosxMacroprocesos!$A:$E,4,FALSE)) -> 1 | G26: =IF(ISERROR(VLOOKUP($B26,CriteriosxMacroprocesos!$A:$E,5,FALSE)),0,VLOOKUP($B26,CriteriosxMacroprocesos!$A:$E,5,FALSE)) -> 1 | H26: =+G26+F26+E26 -> 2 | I26: =+E26*2 -> 0 | J26: =+F26*2 -> 2 | K26: =+G26*2 -> 2 | L26: =+K26+J26+I26 -> 4 | M26: 1 | N26: 2 | O26: 3 | P26: =+M26+N26+O26 -> 6 | Q26: =+I26*M26 -> 0 | R26: =+J26*N26 -> 4 | S26: =+K26*O26 -> 6 | T26: =SUM(Q26:S26) -> 10 | U26: =IF(ISERR(Q26/$T26*100),0,Q26/$T26*100) -> 0 | V26: =IF(ISERR(R26/$T26*100),0,R26/$T26*100) -> 40 | W26: =IF(ISERR(S26/$T26*100),0,S26/$T26*100) -> 60 | X26: =+L26 -> 4 | Y26: =+U26+V26+W26 -> 100 | Z26: =IF(ISERROR(VLOOKUP($B26,ResultxMacroproceso!$A:$E,3,FALSE)),0,VLOOKUP($B26,ResultxMacroproceso!$A:$E,3,FALSE)) -> 0 | AA26: =IF(ISERROR(VLOOKUP($B26,ResultxMacroproceso!$A:$E,4,FALSE)),0,VLOOKUP($B26,ResultxMacroproceso!$A:$E,4,FALSE)) -> 0 | AB26: =IF(ISERROR(VLOOKUP($B26,ResultxMacroproceso!$A:$E,5,FALSE)),0,VLOOKUP($B26,ResultxMacroproceso!$A:$E,5,FALSE)) -> 2 | AC26: =+Z26+AA26+AB26 -> 2 | AD26: =IF(ISERROR(+U26/100*X26),0,+U26/100*X26) -> 0 | AE26: =IF(ISERROR(+V26/100*X26),0,+V26/100*X26) -> 1.6 | AF26: =IF(ISERROR(+W26/100*X26),0,+W26/100*X26) -> 2.4 | AG26: =SUM(AD26:AF26) -> 4 | AH26: =IF(ISERROR(+Z26*AD26/I26),0,+Z26*AD26/I26) -> 0 | AI26: =IF(ISERROR(+AA26*AE26/J26),0,+AA26*AE26/J26) -> 0 | AJ26: =IF(ISERROR(+AB26*AF26/K26),0,+AB26*AF26/K26) -> 2.4 | AK26: =+AH26+AI26+AJ26 -> 2.4 | AL26: 2.5 | AM26: =IF(D26=0,0,IF(ISERROR(+AL26*$AG$30/100),0,+AL26*$AG$30/100)) -> 6.6 | AN26: =IF(ISERROR(+AK26*AM26/AG26),0,+AK26*AM26/AG26) -> 3.96 | AO26: =IF(ISERROR(AN26*100/AM26),0,+AN26*100/AM26) -> 60 | AR26: =IF(ISERROR(+AQ26*$AP$30/100),0,ROUND(+AQ26*$AP$30/100,2)) -> 0 | AS26: =SUM(AN27:AN36) -> 163.30139 | AT26: =IF(ISERROR(AS26*AR26/AP26),0,ROUND(AS26*AR26/AP26,2)) -> 0 | AU26: =IF(ISERROR(AT26*100/AR26),0,+AT26*100/AR26) -> 0 | BA26: 50 | BB26: 69.99999 | BC26: NO aprobado - Subsanar en 9 meses (50%-69%)
B27: NYD | C27: Nutrición y dietética | D27: =IF(ISERROR(VLOOKUP($B27,CriteriosxMacroprocesos!$A:$E,2,FALSE)),0,VLOOKUP($B27,CriteriosxMacroprocesos!$A:$E,2,FALSE)) -> 0 | E27: =IF(ISERROR(VLOOKUP($B27,CriteriosxMacroprocesos!$A:$E,3,FALSE)),0,VLOOKUP($B27,CriteriosxMacroprocesos!$A:$E,3,FALSE)) -> 0 | F27: =IF(ISERROR(VLOOKUP($B27,CriteriosxMacroprocesos!$A:$E,4,FALSE)),0,VLOOKUP($B27,CriteriosxMacroprocesos!$A:$E,4,FALSE)) -> 0 | G27: =IF(ISERROR(VLOOKUP($B27,CriteriosxMacroprocesos!$A:$E,5,FALSE)),0,VLOOKUP($B27,CriteriosxMacroprocesos!$A:$E,5,FALSE)) -> 0 | H27: =+G27+F27+E27 -> 0 | I27: =+E27*2 -> 0 | J27: =+F27*2 -> 0 | K27: =+G27*2 -> 0 | L27: =+K27+J27+I27 -> 0 | M27: 1 | N27: 2 | O27: 3 | P27: =+M27+N27+O27 -> 6 | Q27: =+I27*M27 -> 0 | R27: =+J27*N27 -> 0 | S27: =+K27*O27 -> 0 | T27: =SUM(Q27:S27) -> 0 | U27: =IF(ISERR(Q27/$T27*100),0,Q27/$T27*100) -> 0 | V27: =IF(ISERR(R27/$T27*100),0,R27/$T27*100) -> 0 | W27: =IF(ISERR(S27/$T27*100),0,S27/$T27*100) -> 0 | X27: =+L27 -> 0 | Y27: =+U27+V27+W27 -> 0 | Z27: =IF(ISERROR(VLOOKUP($B27,ResultxMacroproceso!$A:$E,3,FALSE)),0,VLOOKUP($B27,ResultxMacroproceso!$A:$E,3,FALSE)) -> 0 | AA27: =IF(ISERROR(VLOOKUP($B27,ResultxMacroproceso!$A:$E,4,FALSE)),0,VLOOKUP($B27,ResultxMacroproceso!$A:$E,4,FALSE)) -> 0 | AB27: =IF(ISERROR(VLOOKUP($B27,ResultxMacroproceso!$A:$E,5,FALSE)),0,VLOOKUP($B27,ResultxMacroproceso!$A:$E,5,FALSE)) -> 0 | AC27: =+Z27+AA27+AB27 -> 0 | AD27: =IF(ISERROR(+U27/100*X27),0,+U27/100*X27) -> 0 | AE27: =IF(ISERROR(+V27/100*X27),0,+V27/100*X27) -> 0 | AF27: =IF(ISERROR(+W27/100*X27),0,+W27/100*X27) -> 0 | AG27: =SUM(AD27:AF27) -> 0 | AH27: =IF(ISERROR(+Z27*AD27/I27),0,+Z27*AD27/I27) -> 0 | AI27: =IF(ISERROR(+AA27*AE27/J27),0,+AA27*AE27/J27) -> 0 | AJ27: =IF(ISERROR(+AB27*AF27/K27),0,+AB27*AF27/K27) -> 0 | AK27: =+AH27+AI27+AJ27 -> 0 | AL27: 2.5 | AM27: =IF(D27=0,0,IF(ISERROR(+AL27*$AG$30/100),0,+AL27*$AG$30/100)) -> 0 | AN27: =IF(ISERROR(+AK27*AM27/AG27),0,+AK27*AM27/AG27) -> 0 | AO27: =IF(ISERROR(AN27*100/AM27),0,+AN27*100/AM27) -> 0 | AR27: =IF(ISERROR(+AQ27*$AP$30/100),0,ROUND(+AQ27*$AP$30/100,2)) -> 0 | AS27: =SUM(AN28:AN37) -> 163.30139 | AT27: =IF(ISERROR(AS27*AR27/AP27),0,ROUND(AS27*AR27/AP27,2)) -> 0 | AU27: =IF(ISERROR(AT27*100/AR27),0,+AT27*100/AR27) -> 0 | BA27: 70 | BB27: 84.99999 | BC27: NO aprobado - Subsanar en 6 meses (70%-84%)
B28: GIM | C28: Gestión de insumos y materiales | D28: =IF(ISERROR(VLOOKUP($B28,CriteriosxMacroprocesos!$A:$E,2,FALSE)),0,VLOOKUP($B28,CriteriosxMacroprocesos!$A:$E,2,FALSE)) -> 5 | E28: =IF(ISERROR(VLOOKUP($B28,CriteriosxMacroprocesos!$A:$E,3,FALSE)),0,VLOOKUP($B28,CriteriosxMacroprocesos!$A:$E,3,FALSE)) -> 2 | F28: =IF(ISERROR(VLOOKUP($B28,CriteriosxMacroprocesos!$A:$E,4,FALSE)),0,VLOOKUP($B28,CriteriosxMacroprocesos!$A:$E,4,FALSE)) -> 2 | G28: =IF(ISERROR(VLOOKUP($B28,CriteriosxMacroprocesos!$A:$E,5,FALSE)),0,VLOOKUP($B28,CriteriosxMacroprocesos!$A:$E,5,FALSE)) -> 1 | H28: =+G28+F28+E28 -> 5 | I28: =+E28*2 -> 4 | J28: =+F28*2 -> 4 | K28: =+G28*2 -> 2 | L28: =+K28+J28+I28 -> 10 | M28: 1 | N28: 2 | O28: 3 | P28: =+M28+N28+O28 -> 6 | Q28: =+I28*M28 -> 4 | R28: =+J28*N28 -> 8 | S28: =+K28*O28 -> 6 | T28: =SUM(Q28:S28) -> 18 | U28: =IF(ISERR(Q28/$T28*100),0,Q28/$T28*100) -> 22.222222 | V28: =IF(ISERR(R28/$T28*100),0,R28/$T28*100) -> 44.444444 | W28: =IF(ISERR(S28/$T28*100),0,S28/$T28*100) -> 33.333333 | X28: =+L28 -> 10 | Y28: =+U28+V28+W28 -> 100 | Z28: =IF(ISERROR(VLOOKUP($B28,ResultxMacroproceso!$A:$E,3,FALSE)),0,VLOOKUP($B28,ResultxMacroproceso!$A:$E,3,FALSE)) -> 4 | AA28: =IF(ISERROR(VLOOKUP($B28,ResultxMacroproceso!$A:$E,4,FALSE)),0,VLOOKUP($B28,ResultxMacroproceso!$A:$E,4,FALSE)) -> 4 | AB28: =IF(ISERROR(VLOOKUP($B28,ResultxMacroproceso!$A:$E,5,FALSE)),0,VLOOKUP($B28,ResultxMacroproceso!$A:$E,5,FALSE)) -> 2 | AC28: =+Z28+AA28+AB28 -> 10 | AD28: =IF(ISERROR(+U28/100*X28),0,+U28/100*X28) -> 2.2222222 | AE28: =IF(ISERROR(+V28/100*X28),0,+V28/100*X28) -> 4.4444444 | AF28: =IF(ISERROR(+W28/100*X28),0,+W28/100*X28) -> 3.3333333 | AG28: =SUM(AD28:AF28) -> 10 | AH28: =IF(ISERROR(+Z28*AD28/I28),0,+Z28*AD28/I28) -> 2.2222222 | AI28: =IF(ISERROR(+AA28*AE28/J28),0,+AA28*AE28/J28) -> 4.4444444 | AJ28: =IF(ISERROR(+AB28*AF28/K28),0,+AB28*AF28/K28) -> 3.3333333 | AK28: =+AH28+AI28+AJ28 -> 10 | AL28: 2.5 | AM28: =IF(D28=0,0,IF(ISERROR(+AL28*$AG$30/100),0,+AL28*$AG$30/100)) -> 6.6 | AN28: =IF(ISERROR(+AK28*AM28/AG28),0,+AK28*AM28/AG28) -> 6.6 | AO28: =IF(ISERROR(AN28*100/AM28),0,+AN28*100/AM28) -> 100 | AR28: =IF(ISERROR(+AQ28*$AP$30/100),0,ROUND(+AQ28*$AP$30/100,2)) -> 0 | AS28: =SUM(AN29:AN38) -> 156.70139 | AT28: =IF(ISERROR(AS28*AR28/AP28),0,ROUND(AS28*AR28/AP28,2)) -> 0 | AU28: =IF(ISERROR(AT28*100/AR28),0,+AT28*100/AR28) -> 0 | BA28: 85 | BB28: 100 | BC28: Aprobado (85%)
