Workbook

Sheet Resultados
A1: Cod_Categoria | B1: Categoria | C1: Cod_Macroproceso | D1: Macroproceso | E1: Cod_Estandar | F1: Estandar | G1: Cod_Criterio | H1: Criterio | I1: Tipo_Criterio | J1: Respuesta
A2: APO | B2: Apoyo | C2: ADA | D2: Admisión y alta | E2: ADA-1 | F2: El establecimiento está organizado para garantizar el proceso de admisión a los usuarios bajo los atributos de oportunidad, continuidad y según las normas institucionales. | G2: ADA1-1 | H2: El establecimiento tiene un sistema de registro de los usuarios por historias clínicas individuales/ fichas familiares y estandariza los formatos de acuerdo con la normatividad vigente. | I2: Estructura | J2: 2
A3: APO | B3: Apoyo | C3: ADA | D3: Admisión y alta | E3: ADA-1 | F3: El establecimiento está organizado para garantizar el proceso de admisión a los usuarios bajo los atributos de oportunidad, continuidad y según las normas institucionales. | G3: ADA1-2 | H3: Se garantiza la conservación y custodia del sistema de registro (historias clínicas/fichas familiares) y está contemplado en el manual de procedimientos del establecimiento y acorde a lo dispuesto por la normatividad vigente. | I3: Proceso | J3: 2
A4: APO | B4: Apoyo | C4: ADA | D4: Admisión y alta | E4: ADA-1 | F4: El establecimiento está organizado para garantizar el proceso de admisión a los usuarios bajo los atributos de oportunidad, continuidad y según las normas institucionales. | G4: ADA1-3 | H4: El proceso diario de recojo/ archivamiento de las fichas familiares/historias clínicas está documentado e identifica aspectos críticos que podrían alterar su conservación/ tenencia. | I4: Proceso | J4: 1
A5: APO | B5: Apoyo | C5: ADA | D5: Admisión y alta | E5: ADA-1 | F5: El establecimiento está organizado para garantizar el proceso de admisión a los usuarios bajo los atributos de oportunidad, continuidad y según las normas institucionales. | G5: ADA1-5 | H5: Se cuenta con personal capacitado en el último año, para realizar las actividades en el área de admisión del establecimiento. | I5: Estructura | J5: 2
A6: APO | B6: Apoyo | C6: DLDE | D6: Descontaminacion,limpieza,desinfeccion, esteriliz. | E6: DLDE-1 | F6: El establecimiento de salud se organiza para aplicar medidas de decontaminacion, limpieza, desinfección y esterilización de materiales, equipos, enseres e instalaciones. | G6: DLDE1-1 | H6: Se cuenta con un manual de desinfección y esterilización acorde a su categoría y es conocido por el personal de todas las áreas responsables de esta proceso. | I6: Estructura | J6: 2
A7: APO | B7: Apoyo | C7: DLDE | D7: Descontaminacion,limpieza,desinfeccion, esteriliz. | E7: DLDE-2 | F7: Se realizan los procesos de decontaminacion, limpieza, desinfección, empaque, esterilización, almacenamiento y distribución de los materiales de acuerdo con normas establecidas. | G7: DLDE2-3 | H7: Se empaca y esteriliza el material/equipo de acuerdo con los procedimientos establecidos. | I7: Proceso | J7: 2
A8: APO | B8: Apoyo | C8: DLDE | D8: Descontaminacion,limpieza,desinfeccion, esteriliz. | E8: DLDE-4 | F8: Se realiza la limpieza de las instalaciones del establecimiento de acuerdo con normas específicas. | G8: DLDE4-2 | H8: El establecimiento cuenta y aplica procedimientos establecidos de segregación, acopio y disposición final de residuos sólidos. | I8: Estructura | J8: 2
A9: APO | B9: Apoyo | C9: DLDE | D9: Descontaminacion,limpieza,desinfeccion, esteriliz. | E9: DLDE-4 | F9: Se realiza la limpieza de las instalaciones del establecimiento de acuerdo con normas específicas. | G9: DLDE4-4 | H9: Se cuantifica la percepción de los usuarios (interno y externo) respecto a la limpieza del establecimiento de salud y se implementtan acciones para su mejora. | I9: Resultado | J9: 2
A10: APO | B10: Apoyo | C10: EIF | D10: Gestión de equipos e infraestructura | E10: EIF-1 | F10: El establecimiento cuenta con recurso humano capacitado y aplica la normas para disponer de equipos e infraestructura operativos y en buen estado. | G10: EIF1-1 | H10: El establecimiento de salud cuenta con un plan de mantenimiento preventivo y de recuperación de la planta física y servicios básicos incorporado al plan operativo de actividades (POA). | I10: Estructura | J10: 1
A11: APO | B11: Apoyo | C11: EIF | D11: Gestión de equipos e infraestructura | E11: EIF-1 | F11: El establecimiento cuenta con recurso humano capacitado y aplica la normas para disponer de equipos e infraestructura operativos y en buen estado. | G11: EIF1-4 | H11: El personal que realiza el mantenimiento preventivo y de recuperación de la infraestructura y equipos está capacitado para ese fin durante el último año. | I11: Estructura | J11: 2
A12: APO | B12: Apoyo | C12: EIF | D12: Gestión de equipos e infraestructura | E12: EIF-1 | F12: El establecimiento cuenta con recurso humano capacitado y aplica la normas para disponer de equipos e infraestructura operativos y en buen estado. | G12: EIF1-6 | H12: El establecimiento de salud cuenta con sistema de inventario y registro de operatividad de equipos e instrumentos. | I12: Estructura | J12: 2
A13: APO | B13: Apoyo | C13: GIM | D13: Gestión de insumos y materiales | E13: GIM-1 | F13: Se tiene definido los mecanismos de requerimiento y adquisición de insumos y materiales. | G13: GIM1-1 | H13: Se cuenta con líneas de acción para planificar el requerimiento y la adquisición de insumos y materiales conforme a las normas vigentes. | I13: Estructura | J13: 2
... A133: PRE | B133: Prestación | C133: EMG | D133: Atención de emergencias | E133: EMG-1 | F133: El servicio de emergencia está organizado para responder de manera inmediata frente a las necesidades de atención de usuarios en riesgo. | G133: EMG1-6 | H133: El establecimiento ha definido medidas para la atención de emergencia sin condicionamientos que vulneren los derechos de los usuarios (restricciones por pagos de atenciones, solicitud de compra de insumos, etc.). | I133: Estructura | J133: 2

Sheet ResultxMacroproceso
A1: CodMac | B1: Total | C1: E | D1: P | E1: R
A2: ADA | B2: 7 | C2: 4 | D2: 3
A3: AEX | B3: 9 | C3: 5 | D3: 4
A4: ATA | B4: 18 | C4: 8 | D4: 10
A5: CGP | B5: 7 | C5: 4 | D5: 2 | E5: 1
A6: DIR | B6: 11 | C6: 6 | D6: 5
A7: DLDE | B7: 8 | C7: 4 | D7: 2 | E7: 2
A8: EIF | B8: 5 | C8: 5
A9: EMG | B9: 2 | C9: 2
A10: GCA | B10: 27 | C10: 7 | D10: 7 | E10: 13
A11: GIM | B11: 10 | C11: 4 | D11: 4 | E11: 2
A12: GIN | B12: 10 | C12: 6 | D12: 4
A13: GMD | B13: 14 | C13: 6 | D13: 8
A14: GRH | B14: 12 | C14: 7 | D14: 5
A15: GSD | B15: 14 | C15: 9 | D15: 5
A16: MRA | B16: 27 | C16: 8 | D16: 17 | E16: 2
A17: MRS | B17: 2 | D17: 0 | E17: 2
A18: RCR | B18: 16 | C18: 8 | D18: 2 | E18: 6

Sheet CriteriosxMacroprocesos
A1: Cod_Macroproceso | B1: Total | C1: E | D1: P | E1: R
A2: ADA | B2: 4 | C2: 2 | D2: 2
A3: AEX | B3: 13 | C3: 9 | D3: 4
A4: ATA | B4: 11 | C4: 4 | D4: 7
A5: CGP | B5: 7 | C5: 4 | D5: 2 | E5: 1
A6: DIR | B6: 9 | C6: 5 | D6: 4
A7: DLDE | B7: 4 | C7: 2 | D7: 1 | E7: 1
A8: EIF | B8: 3 | C8: 3
A9: EMG | B9: 1 | C9: 1
A10: GCA | B10: 18 | C10: 6 | D10: 5 | E10: 7
A11: GIM | B11: 5 | C11: 2 | D11: 2 | E11: 1
A12: GIN | B12: 7 | C12: 3 | D12: 4
A13: GMD | B13: 7 | C13: 3 | D13: 4
A14: GRH | B14: 9 | C14: 4 | D14: 5
A15: GSD | B15: 8 | C15: 5 | D15: 3
A16: MRA | B16: 14 | C16: 4 | D16: 9 | E16: 1
A17: MRS | B17: 2 | D17: 1 | E17: 1
A18: RCR | B18: 10 | C18: 6 | D18: 1 | E18: 3

Sheet ResultxEstandar
A1: CodMac | B1: Total | C1: E | D1: P | E1: R
A2: ADA-1 | B2: 7 | C2: 4 | D2: 3
A3: AEX-1 | B3: 4 | C3: 4
A4: AEX-2 | B4: 3 | D4: 3
A5: AEX-3 | B5: 2 | C5: 1 | D5: 1
A6: AEX-4 | B6: 0 | C6: 0 | D6: 0
A7: ATA-1 | B7: 6 | C7: 4 | D7: 2
A8: ATA-3 | B8: 9 | C8: 2 | D8: 7
A9: ATA-4 | B9: 3 | C9: 2 | D9: 1
A10: CGP-1 | B10: 2 | C10: 2
A11: CGP-2 | B11: 5 | C11: 2 | D11: 2 | E11: 1
A12: DIR-1 | B12: 8 | C12: 5 | D12: 3
A13: DIR-2 | B13: 3 | C13: 1 | D13: 2
A14: DLDE-1 | B14: 2 | C14: 2
A15: DLDE-2 | B15: 2 | D15: 2
A16: DLDE-4 | B16: 4 | C16: 2 | E16: 2
A17: EIF-1 | B17: 5 | C17: 5
A18: EMG-1 | B18: 2 | C18: 2
A19: GCA-1 | B19: 0 | C19: 0
A20: GCA-2 | B20: 13 | C20: 7 | D20: 6
A21: GCA-3 | B21: 14 | D21: 1 | E21: 13
A22: GIM-1 | B22: 4 | C22: 4
A23: GIM-2 | B23: 6 | D23: 4 | E23: 2
A24: GIN-1 | B24: 7 | C24: 6 | D24: 1
A25: GIN-3 | B25: 3 | D25: 3
A26: GMD-1 | B26: 8 | C26: 2 | D26: 6
A27: GMD-2 | B27: 2 | D27: 2
A28: GMD-3 | B28: 4 | C28: 4
A29: GRH-1 | B29: 3 | C29: 3
A30: GRH-2 | B30: 3 | D30: 3
A31: GRH-3 | B31: 4 | C31: 4
A32: GRH-4 | B32: 2 | D32: 2
A33: GSD-1 | B33: 8 | C33: 8
A34: GSD-2 | B34: 6 | C34: 1 | D34: 5
A35: MRA-1 | B35: 3 | D35: 1 | E35: 2
A36: MRA-6 | B36: 14 | C36: 6 | D36: 8
A37: MRA-7 | B37: 8 | C37: 2 | D37: 6
A38: MRA-8 | B38: 2 | D38: 2
A39: MRS-2 | B39: 2 | D39: 0 | E39: 2
A40: RCR-1 | B40: 6 | C40: 6
A41: RCR-3 | B41: 8 | D41: 2 | E41: 6
A42: RCR-4 | B42: 2 | C42: 2

Sheet CriteriosxEstandares
A1: Cod_Estandar | B1: Total | C1: E | D1: P | E1: R
A2: ADA-1 | B2: 4 | C2: 2 | D2: 2
A3: AEX-1 | B3: 6 | C3: 6
A4: AEX-2 | B4: 2 | D4: 2
A5: AEX-3 | B5: 2 | C5: 1 | D5: 1
A6: AEX-4 | B6: 3 | C6: 2 | D6: 1
A7: ATA-1 | B7: 3 | C7: 2 | D7: 1
A8: ATA-3 | B8: 6 | C8: 1 | D8: 5
A9: ATA-4 | B9: 2 | C9: 1 | D9: 1
A10: CGP-1 | B10: 2 | C10: 2
A11: CGP-2 | B11: 5 | C11: 2 | D11: 2 | E11: 1
A12: DIR-1 | B12: 6 | C12: 4 | D12: 2
A13: DIR-2 | B13: 3 | C13: 1 | D13: 2
A14: DLDE-1 | B14: 1 | C14: 1
A15: DLDE-2 | B15: 1 | D15: 1
A16: DLDE-4 | B16: 2 | C16: 1 | E16: 1
A17: EIF-1 | B17: 3 | C17: 3
A18: EMG-1 | B18: 1 | C18: 1
A19: GCA-1 | B19: 2 | C19: 2
A20: GCA-2 | B20: 8 | C20: 4 | D20: 4
A21: GCA-3 | B21: 8 | D21: 1 | E21: 7
A22: GIM-1 | B22: 2 | C22: 2
A23: GIM-2 | B23: 3 | D23: 2 | E23: 1
A24: GIN-1 | B24: 4 | C24: 3 | D24: 1
A25: GIN-3 | B25: 3 | D25: 3
A26: GMD-1 | B26: 4 | C26: 1 | D26: 3
A27: GMD-2 | B27: 1 | D27: 1
A28: GMD-3 | B28: 2 | C28: 2
A29: GRH-1 | B29: 2 | C29: 2
A30: GRH-2 | B30: 2 | D30: 2
A31: GRH-3 | B31: 2 | C31: 2
A32: GRH-4 | B32: 3 | D32: 3
A33: GSD-1 | B33: 4 | C33: 4
A34: GSD-2 | B34: 4 | C34: 1 | D34: 3
A35: MRA-1 | B35: 2 | D35: 1 | E35: 1
A36: MRA-6 | B36: 7 | C36: 3 | D36: 4
A37: MRA-7 | B37: 4 | C37: 1 | D37: 3
A38: MRA-8 | B38: 1 | D38: 1
A39: MRS-2 | B39: 2 | D39: 1 | E39: 1
A40: RCR-1 | B40: 3 | C40: 3
A41: RCR-3 | B41: 4 | D41: 1 | E41: 3
A42: RCR-4 | B42: 3 | C42: 3

Sheet Simulacion
C1: Establecimiento : | D1: 00001426-PUESTO DE SALUD LARI
C2: Tipo de Establecimiento : | D2: I-2
C3: Fase: | D3: AutoEvaluación
C4: Año: | D4: 2025 | I4: TIPO DE CRITERIO | AL4: MACROPROCESO | AR4: CATEGORIAS
C5: Periodo : | D5: 1 | AH5: REPORTE DETALLE X MACROPROCESO
E6: Nro total criterios | I6: PMT=Punt.max.xTipo | M6: Factores | Q6: Puntaje Max.Con Conefic. | U6: PTC=Proporc.del tipo de criterio | Z6: Puntaje Obtenido por Tipo de Criterio | AD6: Puntaj.Max.por proporcion | AH6: Puntaje obtenido por Macroproceso | AK6: Puntaje obtenido por Macroproceso aplicando Puntaje por Tipo de Criterio | AM6: Puntaje Máximo por Macro proceso | AN6: Puntaje Obtenido x Macro proceso | AO6: Cumplimiento x Macro proceso | AR6: Puntaje Max. x categoria | AS6: Puntaje Obtenido por categoria | AT6: Puntaje Obtenido x Categoría | AU6: Cumplimiento x categoria | AW6: RESULTADO FINAL
A7: CodCateg | B7: CODMACRO | C7: Macroprocesos | D7: Criterios eval | E7: E | F7: P | G7: R | H7: T | I7: E | J7: P | K7: R | L7: T | M7: E | N7: P | O7: R | P7: T | Q7: E | R7: P | S7: R | T7: T | U7: E | V7: P | W7: R | X7: T | Z7: E | AA7: P | AB7: R | AC7: T | AD7: E | AE7: P | AF7: R | AG7: T | AH7: E | AI7: P | AJ7: R | AK7: Total | AL7: % Macro proceso | AM7: Total | AN7: Total | AO7: % | AP7: Puntaje Max. Por Categoria | AQ7: % Categoria | AR7: Total | AS7: Total | AT7: Total | AU7: % | AW7: =IF(AND(AT33>=BA24,AT33<=BB24),BC24,IF(AND(AT33>=BA25,AT33<=BB25),BC25,IF(AND(AT33>=BA26,AT33<=BB26),BC26,IF(AND(AT33>=BA27,AT33<=BB27),BC27,IF(AND(AT33>=BA28,AT33<=BB28),BC28,""))))) -> NO aprobado - Subsanar en 6 meses (70%-84%)
A8: GER | B8: DIR | C8: Direccionamiento | D8: =IF(ISERROR(VLOOKUP($B8,CriteriosxMacroprocesos!$A:$E,2,FALSE)),0,VLOOKUP($B8,CriteriosxMacroprocesos!$A:$E,2,FALSE)) -> 9 | E8: =IF(ISERROR(VLOOKUP($B8,CriteriosxMacroprocesos!$A:$E,3,FALSE)),0,VLOOKUP($B8,CriteriosxMacroprocesos!$A:$E,3,FALSE)) -> 5 | F8: =IF(ISERROR(VLOOKUP($B8,CriteriosxMacroprocesos!$A:$E,4,FALSE)),0,VLOOKUP($B8,CriteriosxMacroprocesos!$A:$E,4,FALSE)) -> 4 | G8: =IF(ISERROR(VLOOKUP($B8,CriteriosxMacroprocesos!$A:$E,5,FALSE)),0,VLOOKUP($B8,CriteriosxMacroprocesos!$A:$E,5,FALSE)) -> 0 | H8: =+G8+F8+E8 -> 9 | I8: =+E8*2 -> 10 | J8: =+F8*2 -> 8 | K8: =+G8*2 -> 0 | L8: =+K8+J8+I8 -> 18 | M8: 1 | N8: 2 | O8: 3 | P8: =+M8+N8+O8 -> 6 | Q8: =+I8*M8 -> 10 | R8: =+J8*N8 -> 16 | S8: =+K8*O8 -> 0 | T8: =SUM(Q8:S8) -> 26 | U8: =IF(ISERR(Q8/$T8*100),0,Q8/$T8*100) -> 38.461538 | V8: =IF(ISERR(R8/$T8*100),0,R8/$T8*100) -> 61.538462 | W8: =IF(ISERR(S8/$T8*100),0,S8/$T8*100) -> 0 | X8: =+L8 -> 18 | Y8: =+U8+V8+W8 -> 100 | Z8: =IF(ISERROR(VLOOKUP($B8,ResultxMacroproceso!$A:$E,3,FALSE)),0,VLOOKUP($B8,ResultxMacroproceso!$A:$E,3,FALSE)) -> 6 | AA8: =IF(ISERROR(VLOOKUP($B8,ResultxMacroproceso!$A:$E,4,FALSE)),0,VLOOKUP($B8,ResultxMacroproceso!$A:$E,4,FALSE)) -> 5 | AB8: =IF(ISERROR(VLOOKUP($B8,ResultxMacroproceso!$A:$E,5,FALSE)),0,VLOOKUP($B8,ResultxMacroproceso!$A:$E,5,FALSE)) -> 0 | AC8: =+Z8+AA8+AB8 -> 11 | AD8: =IF(ISERROR(+U8/100*X8),0,+U8/100*X8) -> 6.9230769 | AE8: =IF(ISERROR(+V8/100*X8),0,+V8/100*X8) -> 11.076923 | AF8: =IF(ISERROR(+W8/100*X8),0,+W8/100*X8) -> 0 | AG8: =SUM(AD8:AF8) -> 18 | AH8: =IF(ISERROR(+Z8*AD8/I8),0,+Z8*AD8/I8) -> 4.1538462 | AI8: =IF(ISERROR(+AA8*AE8/J8),0,+AA8*AE8/J8) -> 6.9230769 | AJ8: =IF(ISERROR(+AB8*AF8/K8),0,+AB8*AF8/K8) -> 0 | AK8: =+AH8+AI8+AJ8 -> 11.076923 | AL8: 8 | AM8: =IF(D8=0,0,IF(ISERROR(+AL8*$AG$30/100),0,+AL8*$AG$30/100)) -> 21.12 | AN8: =IF(ISERROR(+AK8*AM8/AG8),0,+AK8*AM8/AG8) -> 12.996923 | AO8: =IF(ISERROR(AN8*100/AM8),0,+AN8*100/AM8) -> 61.538462 | AP8: =SUM(AM8:AM13) -> 92.4 | AQ8: 35 | AR8: =IF(ISERROR(+AQ8*$AP$30/100),0,ROUND(+AQ8*$AP$30/100,2)) -> 70.22 | AS8: =SUM(AN8:AN13) -> 66.49865 | AT8: =IF(ISERROR(AS8*AR8/AP8),0,ROUND(AS8*AR8/AP8,2)) -> 50.54 | AU8: =IF(ISERROR(AT8*100/AR8),0,+AT8*100/AR8) -> 71.973797
B9: GRH | C9: Gestión de recursos humanos | D9: =IF(ISERROR(VLOOKUP($B9,CriteriosxMacroprocesos!$A:$E,2,FALSE)),0,VLOOKUP($B9,CriteriosxMacroprocesos!$A:$E,2,FALSE)) -> 9 | E9: =IF(ISERROR(VLOOKUP($B9,CriteriosxMacroprocesos!$A:$E,3,FALSE)),0,VLOOKUP($B9,CriteriosxMacroprocesos!$A:$E,3,FALSE)) -> 4 | F9: =IF(ISERROR(VLOOKUP($B9,CriteriosxMacroprocesos!$A:$E,4,FALSE)),0,VLOOKUP($B9,CriteriosxMacroprocesos!$A:$E,4,FALSE)) -> 5 | G9: =IF(ISERROR(VLOOKUP($B9,CriteriosxMacroprocesos!$A:$E,5,FALSE)),0,VLOOKUP($B9,CriteriosxMacroprocesos!$A:$E,5,FALSE)) -> 0 | H9: =+G9+F9+E9 -> 9 | I9: =+E9*2 -> 8 | J9: =+F9*2 -> 10 | K9: =+G9*2 -> 0 | L9: =+K9+J9+I9 -> 18 | M9: 1 | N9: 2 | O9: 3 | P9: =+M9+N9+O9 -> 6 | Q9: =+I9*M9 -> 8 | R9: =+J9*N9 -> 20 | S9: =+K9*O9 -> 0 | T9: =SUM(Q9:S9) -> 28 | U9: =IF(ISERR(Q9/$T9*100),0,Q9/$T9*100) -> 28.571429 | V9: =IF(ISERR(R9/$T9*100),0,R9/$T9*100) -> 71.428571 | W9: =IF(ISERR(S9/$T9*100),0,S9/$T9*100) -> 0 | X9: =+L9 -> 18 | Y9: =+U9+V9+W9 -> 100 | Z9: =IF(ISERROR(VLOOKUP($B9,ResultxMacroproceso!$A:$E,3,FALSE)),0,VLOOKUP($B9,ResultxMacroproceso!$A:$E,3,FALSE)) -> 7 | AA9: =IF(ISERROR(VLOOKUP($B9,ResultxMacroproceso!$A:$E,4,FALSE)),0,VLOOKUP($B9,ResultxMacroproceso!$A:$E,4,FALSE)) -> 5 | AB9: =IF(ISERROR(VLOOKUP($B9,ResultxMacroproceso!$A:$E,5,FALSE)),0,VLOOKUP($B9,ResultxMacroproceso!$A:$E,5,FALSE)) -> 0 | AC9: =+Z9+AA9+AB9 -> 12 | AD9: =IF(ISERROR(+U9/100*X9),0,+U9/100*X9) -> 5.1428571 | AE9: =IF(ISERROR(+V9/100*X9),0,+V9/100*X9) -> 12.857143 | AF9: =IF(ISERROR(+W9/100*X9),0,+W9/100*X9) -> 0 | AG9: =SUM(AD9:AF9) -> 18 | AH9: =IF(ISERROR(+Z9*AD9/I9),0,+Z9*AD9/I9) -> 4.5 | AI9: =IF(ISERROR(+AA9*AE9/J9),0,+AA9*AE9/J9) -> 6.4285714 | AJ9: =IF(ISERROR(+AB9*AF9/K9),0,+AB9*AF9/K9) -> 0 | AK9: =+AH9+AI9+AJ9 -> 10.928571 | AL9: 6 | AM9: =IF(D9=0,0,IF(ISERROR(+AL9*$AG$30/100),0,+AL9*$AG$30/100)) -> 15.84 | AN9: =IF(ISERROR(+AK9*AM9/AG9),0,+AK9*AM9/AG9) -> 9.6171429 | AO9: =IF(ISERROR(AN9*100/AM9),0,+AN9*100/AM9) -> 60.714286
B10: GCA | C10: Gestión de la calidad | D10: =IF(ISERROR(VLOOKUP($B10,CriteriosxMacroprocesos!$A:$E,2,FALSE)),0,VLOOKUP($B10,CriteriosxMacroprocesos!$A:$E,2,FALSE)) -> 18 | E10: =IF(ISERROR(VLOOKUP($B10,CriteriosxMacroprocesos!$A:$E,3,FALSE)),0,VLOOKUP($B10,CriteriosxMacroprocesos!$A:$E,3,FALSE)) -> 6 | F10: =IF(ISERROR(VLOOKUP($B10,CriteriosxMacroprocesos!$A:$E,4,FALSE)),0,VLOOKUP($B10,CriteriosxMacroprocesos!$A:$E,4,FALSE)) -> 5 | G10: =IF(ISERROR(VLOOKUP($B10,CriteriosxMacroprocesos!$A:$E,5,FALSE)),0,VLOOKUP($B10,CriteriosxMacroprocesos!$A:$E,5,FALSE)) -> 7 | H10: =+G10+F10+E10 -> 18 | I10: =+E10*2 -> 12 | J10: =+F10*2 -> 10 | K10: =+G10*2 -> 14 | L10: =+K10+J10+I10 -> 36 | M10: 1 | N10: 2 | O10: 3 | P10: =+M10+N10+O10 -> 6 | Q10: =+I10*M10 -> 12 | R10: =+J10*N10 -> 20 | S10: =+K10*O10 -> 42 | T10: =SUM(Q10:S10) -> 74 | U10: =IF(ISERR(Q10/$T10*100),0,Q10/$T10*100) -> 16.216216 | V10: =IF(ISERR(R10/$T10*100),0,R10/$T10*100) -> 27.027027 | W10: =IF(ISERR(S10/$T10*100),0,S10/$T10*100) -> 56.756757 | X10: =+L10 -> 36 | Y10: =+U10+V10+W10 -> 100 | Z10: =IF(ISERROR(VLOOKUP($B10,ResultxMacroproceso!$A:$E,3,FALSE)),0,VLOOKUP($B10,ResultxMacroproceso!$A:$E,3,FALSE)) -> 7 | AA10: =IF(ISERROR(VLOOKUP($B10,ResultxMacroproceso!$A:$E,4,FALSE)),0,VLOOKUP($B10,ResultxMacroproceso!$A:$E,4,FALSE)) -> 7 | AB10: =IF(ISERROR(VLOOKUP($B10,ResultxMacroproceso!$A:$E,5,FALSE)),0,VLOOKUP($B10,ResultxMacroproceso!$A:$E,5,FALSE)) -> 13 | AC10: =+Z10+AA10+AB10 -> 27 | AD10: =IF(ISERROR(+U10/100*X10),0,+U10/100*X10) -> 5.8378378 | AE10: =IF(ISERROR(+V10/100*X10),0,+V10/100*X10) -> 9.7297297 | AF10: =IF(ISERROR(+W10/100*X10),0,+W10/100*X10) -> 20.432432 | AG10: =SUM(AD10:AF10) -> 36 | AH10: =IF(ISERROR(+Z10*AD10/I10),0,+Z10*AD10/I10) -> 3.4054054 | AI10: =IF(ISERROR(+AA10*AE10/J10),0,+AA10*AE10/J10) -> 6.8108108 | AJ10: =IF(ISERROR(+AB10*AF10/K10),0,+AB10*AF10/K10) -> 18.972973 | AK10: =+AH10+AI10+AJ10 -> 29.189189 | AL10: 7 | AM10: =IF(D10=0,0,IF(ISERROR(+AL10*$AG$30/100),0,+AL10*$AG$30/100)) -> 18.48 | AN10: =IF(ISERROR(+AK10*AM10/AG10),0,+AK10*AM10/AG10) -> 14.983784 | AO10: =IF(ISERROR(AN10*100/AM10),0,+AN10*100/AM10) -> 81.081081
B11: MRA | C11: Manejo del riesgo de atención | D11: =IF(ISERROR(VLOOKUP($B11,CriteriosxMacroprocesos!$A:$E,2,FALSE)),0,VLOOKUP($B11,CriteriosxMacroprocesos!$A:$E,2,FALSE)) -> 14 | E11: =IF(ISERROR(VLOOKUP($B11,CriteriosxMacroprocesos!$A:$E,3,FALSE)),0,VLOOKUP($B11,CriteriosxMacroprocesos!$A:$E,3,FALSE)) -> 4 | F11: =IF(ISERROR(VLOOKUP($B11,CriteriosxMacroprocesos!$A:$E,4,FALSE)),0,VLOOKUP($B11,CriteriosxMacroprocesos!$A:$E,4,FALSE)) -> 9 | G11: =IF(ISERROR(VLOOKUP($B11,CriteriosxMacroprocesos!$A:$E,5,FALSE)),0,VLOOKUP($B11,CriteriosxMacroprocesos!$A:$E,5,FALSE)) -> 1 | H11: =+G11+F11+E11 -> 14 | I11: =+E11*2 -> 8 | J11: =+F11*2 -> 18 | K11: =+G11*2 -> 2 | L11: =+K11+J11+I11 -> 28 | M11: 1 | N11: 2 | O11: 3 | P11: =+M11+N11+O11 -> 6 | Q11: =+I11*M11 -> 8 | R11: =+J11*N11 -> 36 | S11: =+K11*O11 -> 6 | T11: =SUM(Q11:S11) -> 50 | U11: =IF(ISERR(Q11/$T11*100),0,Q11/$T11*100) -> 16 | V11: =IF(ISERR(R11/$T11*100),0,R11/$T11*100) -> 72 | W11: =IF(ISERR(S11/$T11*100),0,S11/$T11*100) -> 12 | X11: =+L11 -> 28 | Y11: =+U11+V11+W11 -> 100 | Z11: =IF(ISERROR(VLOOKUP($B11,ResultxMacroproceso!$A:$E,3,FALSE)),0,VLOOKUP($B11,ResultxMacroproceso!$A:$E,3,FALSE)) -> 8 | AA11: =IF(ISERROR(VLOOKUP($B11,ResultxMacroproceso!$A:$E,4,FALSE)),0,VLOOKUP($B11,ResultxMacroproceso!$A:$E,4,FALSE)) -> 17 | AB11: =IF(ISERROR(VLOOKUP($B11,ResultxMacroproceso!$A:$E,5,FALSE)),0,VLOOKUP($B11,ResultxMacroproceso!$A:$E,5,FALSE)) -> 2 | AC11: =+Z11+AA11+AB11 -> 27 | AD11: =IF(ISERROR(+U11/100*X11),0,+U11/100*X11) -> 4.48 | AE11: =IF(ISERROR(+V11/100*X11),0,+V11/100*X11) -> 20.16 | AF11: =IF(ISERROR(+W11/100*X11),0,+W11/100*X11) -> 3.36 | AG11: =SUM(AD11:AF11) -> 28 | AH11: =IF(ISERROR(+Z11*AD11/I11),0,+Z11*AD11/I11) -> 4.48 | AI11: =IF(ISERROR(+AA11*AE11/J11),0,+AA11*AE11/J11) -> 19.04 | AJ11: =IF(ISERROR(+AB11*AF11/K11),0,+AB11*AF11/K11) -> 3.36 | AK11: =+AH11+AI11+AJ11 -> 26.88 | AL11: 7 | AM11: =IF(D11=0,0,IF(ISERROR(+AL11*$AG$30/100),0,+AL11*$AG$30/100)) -> 18.48 | AN11: =IF(ISERROR(+AK11*AM11/AG11),0,+AK11*AM11/AG11) -> 17.7408 | AO11: =IF(ISERROR(AN11*100/AM11),0,+AN11*100/AM11) -> 96
B12: GSD | C12: Gestión de seguridad ante desastres | D12: =IF(ISERROR(VLOOKUP($B12,CriteriosxMacroprocesos!$A:$E,2,FALSE)),0,VLOOKUP($B12,CriteriosxMacroprocesos!$A:$E,2,FALSE)) -> 8 | E12: =IF(ISERROR(VLOOKUP($B12,CriteriosxMacroprocesos!$A:$E,3,FALSE)),0,VLOOKUP($B12,CriteriosxMacroprocesos!$A:$E,3,FALSE)) -> 5 | F12: =IF(ISERROR(VLOOKUP($B12,CriteriosxMacroprocesos!$A:$E,4,FALSE)),0,VLOOKUP($B12,CriteriosxMacroprocesos!$A:$E,4,FALSE)) -> 3 | G12: =IF(ISERROR(VLOOKUP($B12,CriteriosxMacroprocesos!$A:$E,5,FALSE)),0,VLOOKUP($B12,CriteriosxMacroprocesos!$A:$E,5,FALSE)) -> 0 | H12: =+G12+F12+E12 -> 8 | I12: =+E12*2 -> 10 | J12: =+F12*2 -> 6 | K12: =+G12*2 -> 0 | L12: =+K12+J12+I12 -> 16 | M12: 1 | N12: 2 | O12: 3 | P12: =+M12+N12+O12 -> 6 | Q12: =+I12*M12 -> 10 | R12: =+J12*N12 -> 12 | S12: =+K12*O12 -> 0 | T12: =SUM(Q12:S12) -> 22 | U12: =IF(ISERR(Q12/$T12*100),0,Q12/$T12*100) -> 45.454545 | V12: =IF(ISERR(R12/$T12*100),0,R12/$T12*100) -> 54.545455 | W12: =IF(ISERR(S12/$T12*100),0,S12/$T12*100) -> 0 | X12: =+L12 -> 16 | Y12: =+U12+V12+W12 -> 100 | Z12: =IF(ISERROR(VLOOKUP($B12,ResultxMacroproceso!$A:$E,3,FALSE)),0,VLOOKUP($B12,ResultxMacroproceso!$A:$E,3,FALSE)) -> 9 | AA12: =IF(ISERROR(VLOOKUP($B12,ResultxMacroproceso!$A:$E,4,FALSE)),0,VLOOKUP($B12,ResultxMacroproceso!$A:$E,4,FALSE)) -> 5 | AB12: =IF(ISERROR(VLOOKUP($B12,ResultxMacroproceso!$A:$E,5,FALSE)),0,VLOOKUP($B12,ResultxMacroproceso!$A:$E,5,FALSE)) -> 0 | AC12: =+Z12+AA12+AB12 -> 14 | AD12: =IF(ISERROR(+U12/100*X12),0,+U12/100*X12) -> 7.2727273 | AE12: =IF(ISERROR(+V12/100*X12),0,+V12/100*X12) -> 8.7272727 | AF12: =IF(ISERROR(+W12/100*X12),0,+W12/100*X12) -> 0 | AG12: =SUM(AD12:AF12) -> 16 | AH12: =IF(ISERROR(+Z12*AD12/I12),0,+Z12*AD12/I12) -> 6.5454545 | AI12: =IF(ISERROR(+AA12*AE12/J12),0,+AA12*AE12/J12) -> 7.2727273 | AJ12: =IF(ISERROR(+AB12*AF12/K12),0,+AB12*AF12/K12) -> 0 | AK12: =+AH12+AI12+AJ12 -> 13.818182 | AL12: 2 | AM12: =IF(D12=0,0,IF(ISERROR(+AL12*$AG$30/100),0,+AL12*$AG$30/100)) -> 5.28 | AN12: =IF(ISERROR(+AK12*AM12/AG12),0,+AK12*AM12/AG12) -> 4.56 | AO12: =IF(ISERROR(AN12*100/AM12),0,+AN12*100/AM12) -> 86.363636
B13: CGP | C13: Control de la gestión y prestación | D13: =IF(ISERROR(VLOOKUP($B13,CriteriosxMacroprocesos!$A:$E,2,FALSE)),0,VLOOKUP($B13,CriteriosxMacroprocesos!$A:$E,2,FALSE)) -> 7 | E13: =IF(ISERROR(VLOOKUP($B13,CriteriosxMacroprocesos!$A:$E,3,FALSE)),0,VLOOKUP($B13,CriteriosxMacroprocesos!$A:$E,3,FALSE)) -> 4 | F13: =IF(ISERROR(VLOOKUP($B13,CriteriosxMacroprocesos!$A:$E,4,FALSE)),0,VLOOKUP($B13,CriteriosxMacroprocesos!$A:$E,4,FALSE)) -> 2 | G13: =IF(ISERROR(VLOOKUP($B13,CriteriosxMacroprocesos!$A:$E,5,FALSE)),0,VLOOKUP($B13,CriteriosxMacroprocesos!$A:$E,5,FALSE)) -> 1 | H13: =+G13+F13+E13 -> 7 | I13: =+E13*2 -> 8 | J13: =+F13*2 -> 4 | K13: =+G13*2 -> 2 | L13: =+K13+J13+I13 -> 14 | M13: 1 | N13: 2 | O13: 3 | P13: =+M13+N13+O13 -> 6 | Q13: =+I13*M13 -> 8 | R13: =+J13*N13 -> 8 | S13: =+K13*O13 -> 6 | T13: =SUM(Q13:S13) -> 22 | U13: =IF(ISERR(Q13/$T13*100),0,Q13/$T13*100) -> 36.363636 | V13: =IF(ISERR(R13/$T13*100),0,R13/$T13*100) -> 36.363636 | W13: =IF(ISERR(S13/$T13*100),0,S13/$T13*100) -> 27.272727 | X13: =+L13 -> 14 | Y13: =+U13+V13+W13 -> 100 | Z13: =IF(ISERROR(VLOOKUP($B13,ResultxMacroproceso!$A:$E,3,FALSE)),0,VLOOKUP($B13,ResultxMacroproceso!$A:$E,3,FALSE)) -> 4 | AA13: =IF(ISERROR(VLOOKUP($B13,ResultxMacroproceso!$A:$E,4,FALSE)),0,VLOOKUP($B13,ResultxMacroproceso!$A:$E,4,FALSE)) -> 2 | AB13: =IF(ISERROR(VLOOKUP($B13,ResultxMacroproceso!$A:$E,5,FALSE)),0,VLOOKUP($B13,ResultxMacroproceso!$A:$E,5,FALSE)) -> 1 | AC13: =+Z13+AA13+AB13 -> 7 | AD13: =IF(ISERROR(+U13/100*X13),0,+U13/100*X13) -> 5.0909091 | AE13: =IF(ISERROR(+V13/100*X13),0,+V13/100*X13) -> 5.0909091 | AF13: =IF(ISERROR(+W13/100*X13),0,+W13/100*X13) -> 3.8181818 | AG13: =SUM(AD13:AF13) -> 14 | AH13: =IF(ISERROR(+Z13*AD13/I13),0,+Z13*AD13/I13) -> 2.5454545 | AI13: =IF(ISERROR(+AA13*AE13/J13),0,+AA13*AE13/J13) -> 2.5454545 | AJ13: =IF(ISERROR(+AB13*AF13/K13),0,+AB13*AF13/K13) -> 1.9090909 | AK13: =+AH13+AI13+AJ13 -> 7 | AL13: 5 | AM13: =IF(D13=0,0,IF(ISERROR(+AL13*$AG$30/100),0,+AL13*$AG$30/100)) -> 13.2 | AN13: =IF(ISERROR(+AK13*AM13/AG13),0,+AK13*AM13/AG13) -> 6.6 | AO13: =IF(ISERROR(AN13*100/AM13),0,+AN13*100/AM13) -> 50 | AW13: Calificaciones :
A14: PRE | B14: ATA | C14: Atención ambulatoria | D14: =IF(ISERROR(VLOOKUP($B14,CriteriosxMacroprocesos!$A:$E,2,FALSE)),0,VLOOKUP($B14,CriteriosxMacroprocesos!$A:$E,2,FALSE)) -> 11 | E14: =IF(ISERROR(VLOOKUP($B14,CriteriosxMacroprocesos!$A:$E,3,FALSE)),0,VLOOKUP($B14,CriteriosxMacroprocesos!$A:$E,3,FALSE)) -> 4 | F14: =IF(ISERROR(VLOOKUP($B14,CriteriosxMacroprocesos!$A:$E,4,FALSE)),0,VLOOKUP($B14,CriteriosxMacroprocesos!$A:$E,4,FALSE)) -> 7 | G14: =IF(ISERROR(VLOOKUP($B14,CriteriosxMacroprocesos!$A:$E,5,FALSE)),0,VLOOKUP($B14,CriteriosxMacroprocesos!$A:$E,5,FALSE)) -> 0 | H14: =+G14+F14+E14 -> 11 | I14: =+E14*2 -> 8 | J14: =+F14*2 -> 14 | K14: =+G14*2 -> 0 | L14: =+K14+J14+I14 -> 22 | M14: 1 | N14: 2 | O14: 3 | P14: =+M14+N14+O14 -> 6 | Q14: =+I14*M14 -> 8 | R14: =+J14*N14 -> 28 | S14: =+K14*O14 -> 0 | T14: =SUM(Q14:S14) -> 36 | U14: =IF(ISERR(Q14/$T14*100),0,Q14/$T14*100) -> 22.222222 | V14: =IF(ISERR(R14/$T14*100),0,R14/$T14*100) -> 77.777778 | W14: =IF(ISERR(S14/$T14*100),0,S14/$T14*100) -> 0 | X14: =+L14 -> 22 | Y14: =+U14+V14+W14 -> 100 | Z14: =IF(ISERROR(VLOOKUP($B14,ResultxMacroproceso!$A:$E,3,FALSE)),0,VLOOKUP($B14,ResultxMacroproceso!$A:$E,3,FALSE)) -> 8 | AA14: =IF(ISERROR(VLOOKUP($B14,ResultxMacroproceso!$A:$E,4,FALSE)),0,VLOOKUP($B14,ResultxMacroproceso!$A:$E,4,FALSE)) -> 10 | AB14: =IF(ISERROR(VLOOKUP($B14,ResultxMacroproceso!$A:$E,5,FALSE)),0,VLOOKUP($B14,ResultxMacroproceso!$A:$E,5,FALSE)) -> 0 | AC14: =+Z14+AA14+AB14 -> 18 | AD14: =IF(ISERROR(+U14/100*X14),0,+U14/100*X14) -> 4.8888889 | AE14: =IF(ISERROR(+V14/100*X14),0,+V14/100*X14) -> 17.111111 | AF14: =IF(ISERROR(+W14/100*X14),0,+W14/100*X14) -> 0 | AG14: =SUM(AD14:AF14) -> 22 | AH14: =IF(ISERROR(+Z14*AD14/I14),0,+Z14*AD14/I14) -> 4.8888889 | AI14: =IF(ISERROR(+AA14*AE14/J14),0,+AA14*AE14/J14) -> 12.222222 | AJ14: =IF(ISERROR(+AB14*AF14/K14),0,+AB14*AF14/K14) -> 0 | AK14: =+AH14+AI14+AJ14 -> 17.111111 | AL14: 7 | AM14: =IF(D14=0,0,IF(ISERROR(+AL14*$AG$30/100),0,+AL14*$AG$30/100)) -> 18.48 | AN14: =IF(ISERROR(+AK14*AM14/AG14),0,+AK14*AM14/AG14) -> 14.373333 | AO14: =IF(ISERROR(AN14*100/AM14),0,+AN14*100/AM14) -> 77.777778 | AP14: =SUM(AM14:AM19) -> 55.44 | AQ14: 40 | AR14: =IF(ISERROR(+AQ14*$AP$30/100),0,ROUND(+AQ14*$AP$30/100,2)) -> 80.26 | AS14: =SUM(AN14:AN19) -> 39.919216 | AT14: =IF(ISERROR(AS14*AR14/AP14),0,ROUND(AS14*AR14/AP14,2)) -> 57.79 | AU14: =IF(ISERROR(AT14*100/AR14),0,+AT14*100/AR14) -> 72.003489
B15: AEX | C15: Atención extramural | D15: =IF(ISERROR(VLOOKUP($B15,CriteriosxMacroprocesos!$A:$E,2,FALSE)),0,VLOOKUP($B15,CriteriosxMacroprocesos!$A:$E,2,FALSE)) -> 13 | E15: =IF(ISERROR(VLOOKUP($B15,CriteriosxMacroprocesos!$A:$E,3,FALSE)),0,VLOOKUP($B15,CriteriosxMacroprocesos!$A:$E,3,FALSE)) -> 9 | F15: =IF(ISERROR(VLOOKUP($B15,CriteriosxMacroprocesos!$A:$E,4,FALSE)),0,VLOOKUP($B15,CriteriosxMacroprocesos!$A:$E,4,FALSE)) -> 4 | G15: =IF(ISERROR(VLOOKUP($B15,CriteriosxMacroprocesos!$A:$E,5,FALSE)),0,VLOOKUP($B15,CriteriosxMacroprocesos!$A:$E,5,FALSE)) -> 0 | H15: =+G15+F15+E15 -> 13 | I15: =+E15*2 -> 18 | J15: =+F15*2 -> 8 | K15: =+G15*2 -> 0 | L15: =+K15+J15+I15 -> 26 | M15: 1 | N15: 2 | O15: 3 | P15: =+M15+N15+O15 -> 6 | Q15: =+I15*M15 -> 18 | R15: =+J15*N15 -> 16 | S15: =+K15*O15 -> 0 | T15: =SUM(Q15:S15) -> 34 | U15: =IF(ISERR(Q15/$T15*100),0,Q15/$T15*100) -> 52.941176 | V15: =IF(ISERR(R15/$T15*100),0,R15/$T15*100) -> 47.058824 | W15: =IF(ISERR(S15/$T15*100),0,S15/$T15*100) -> 0 | X15: =+L15 -> 26 | Y15: =+U15+V15+W15 -> 100 | Z15: =IF(ISERROR(VLOOKUP($B15,ResultxMacroproceso!$A:$E,3,FALSE)),0,VLOOKUP($B15,ResultxMacroproceso!$A:$E,3,FALSE)) -> 5 | AA15: =IF(ISERROR(VLOOKUP($B15,ResultxMacroproceso!$A:$E,4,FALSE)),0,VLOOKUP($B15,ResultxMacroproceso!$A:$E,4,FALSE)) -> 4 | AB15: =IF(ISERROR(VLOOKUP($B15,ResultxMacroproceso!$A:$E,5,FALSE)),0,VLOOKUP($B15,ResultxMacroproceso!$A:$E,5,FALSE)) -> 0 | AC15: =+Z15+AA15+AB15 -> 9 | AD15: =IF(ISERROR(+U15/100*X15),0,+U15/100*X15) -> 13.764706 | AE15: =IF(ISERROR(+V15/100*X15),0,+V15/100*X15) -> 12.235294 | AF15: =IF(ISERROR(+W15/100*X15),0,+W15/100*X15) -> 0 | AG15: =SUM(AD15:AF15) -> 26 | AH15: =IF(ISERROR(+Z15*AD15/I15),0,+Z15*AD15/I15) -> 3.8235294 | AI15: =IF(ISERROR(+AA15*AE15/J15),0,+AA15*AE15/J15) -> 6.1176471 | AJ15: =IF(ISERROR(+AB15*AF15/K15),0,+AB15*AF15/K15) -> 0 | AK15: =+AH15+AI15+AJ15 -> 9.9411765 | AL15: 7 | AM15: =IF(D15=0,0,IF(ISERROR(+AL15*$AG$30/100),0,+AL15*$AG$30/100)) -> 18.48 | AN15: =IF(ISERROR(+AK15*AM15/AG15),0,+AK15*AM15/AG15) -> 7.0658824 | AO15: =IF(ISERROR(AN15*100/AM15),0,+AN15*100/AM15) -> 38.235294 | AW15: NO aprobado. Reiniciar desde Autoeval. (< 50%)
B16: ATH | C16: Atención de hospitalización | D16: =IF(ISERROR(VLOOKUP($B16,CriteriosxMacroprocesos!$A:$E,2,FALSE)),0,VLOOKUP($B16,CriteriosxMacroprocesos!$A:$E,2,FALSE)) -> 0 | E16: =IF(ISERROR(VLOOKUP($B16,CriteriosxMacroprocesos!$A:$E,3,FALSE)),0,VLOOKUP($B16,CriteriosxMacroprocesos!$A:$E,3,FALSE)) -> 0 | F16: =IF(ISERROR(VLOOKUP($B16,CriteriosxMacroprocesos!$A:$E,4,FALSE)),0,VLOOKUP($B16,CriteriosxMacroprocesos!$A:$E,4,FALSE)) -> 0 | G16: =IF(ISERROR(VLOOKUP($B16,CriteriosxMacroprocesos!$A:$E,5,FALSE)),0,VLOOKUP($B16,CriteriosxMacroprocesos!$A:$E,5,FALSE)) -> 0 | H16: =+G16+F16+E16 -> 0 | I16: =+E16*2 -> 0 | J16: =+F16*2 -> 0 | K16: =+G16*2 -> 0 | L16: =+K16+J16+I16 -> 0 | M16: 1 | N16: 2 | O16: 3 | P16: =+M16+N16+O16 -> 6 | Q16: =+I16*M16 -> 0 | R16: =+J16*N16 -> 0 | S16: =+K16*O16 -> 0 | T16: =SUM(Q16:S16) -> 0 | U16: =IF(ISERR(Q16/$T16*100),0,Q16/$T16*100) -> 0 | V16: =IF(ISERR(R16/$T16*100),0,R16/$T16*100) -> 0 | W16: =IF(ISERR(S16/$T16*100),0,S16/$T16*100) -> 0 | X16: =+L16 -> 0 | Y16: =+U16+V16+W16 -> 0 | Z16: =IF(ISERROR(VLOOKUP($B16,ResultxMacroproceso!$A:$E,3,FALSE)),0,VLOOKUP($B16,ResultxMacroproceso!$A:$E,3,FALSE)) -> 0 | AA16: =IF(ISERROR(VLOOKUP($B16,ResultxMacroproceso!$A:$E,4,FALSE)),0,VLOOKUP($B16,ResultxMacroproceso!$A:$E,4,FALSE)) -> 0 | AB16: =IF(ISERROR(VLOOKUP($B16,ResultxMacroproceso!$A:$E,5,FALSE)),0,VLOOKUP($B16,ResultxMacroproceso!$A:$E,5,FALSE)) -> 0 | AC16: =+Z16+AA16+AB16 -> 0 | AD16: =IF(ISERROR(+U16/100*X16),0,+U16/100*X16) -> 0 | AE16: =IF(ISERROR(+V16/100*X16),0,+V16/100*X16) -> 0 | AF16: =IF(ISERROR(+W16/100*X16),0,+W16/100*X16) -> 0 | AG16: =SUM(AD16:AF16) -> 0 | AH16: =IF(ISERROR(+Z16*AD16/I16),0,+Z16*AD16/I16) -> 0 | AI16: =IF(ISERROR(+AA16*AE16/J16),0,+AA16*AE16/J16) -> 0 | AJ16: =IF(ISERROR(+AB16*AF16/K16),0,+AB16*AF16/K16) -> 0 | AK16: =+AH16+AI16+AJ16 -> 0 | AL16: 7 | AM16: =IF(D16=0,0,IF(ISERROR(+AL16*$AG$30/100),0,+AL16*$AG$30/100)) -> 0 | AN16: =IF(ISERROR(+AK16*AM16/AG16),0,+AK16*AM16/AG16) -> 0 | AO16: =IF(ISERROR(AN16*100/AM16),0,+AN16*100/AM16) -> 0 | AW16: NO aprobado - Subsanar en 9 meses (50%-69%)
B17: EMG | C17: Atención de emergencias | D17: =IF(ISERROR(VLOOKUP($B17,CriteriosxMacroprocesos!$A:$E,2,FALSE)),0,VLOOKUP($B17,CriteriosxMacroprocesos!$A:$E,2,FALSE)) -> 1 | E17: =IF(ISERROR(VLOOKUP($B17,CriteriosxMacroprocesos!$A:$E,3,FALSE)),0,VLOOKUP($B17,CriteriosxMacroprocesos!$A:$E,3,FALSE)) -> 1 | F17: =IF(ISERROR(VLOOKUP($B17,CriteriosxMacroprocesos!$A:$E,4,FALSE)),0,VLOOKUP($B17,CriteriosxMacroprocesos!$A:$E,4,FALSE)) -> 0 | G17: =IF(ISERROR(VLOOKUP($B17,CriteriosxMacroprocesos!$A:$E,5,FALSE)),0,VLOOKUP($B17,CriteriosxMacroprocesos!$A:$E,5,FALSE)) -> 0 | H17: =+G17+F17+E17 -> 1 | I17: =+E17*2 -> 2 | J17: =+F17*2 -> 0 | K17: =+G17*2 -> 0 | L17: =+K17+J17+I17 -> 2 | M17: 1 | N17: 2 | O17: 3 | P17: =+M17+N17+O17 -> 6 | Q17: =+I17*M17 -> 2 | R17: =+J17*N17 -> 0 | S17: =+K17*O17 -> 0 | T17: =SUM(Q17:S17) -> 2 | U17: =IF(ISERR(Q17/$T17*100),0,Q17/$T17*100) -> 100 | V17: =IF(ISERR(R17/$T17*100),0,R17/$T17*100) -> 0 | W17: =IF(ISERR(S17/$T17*100),0,S17/$T17*100) -> 0 | X17: =+L17 -> 2 | Y17: =+U17+V17+W17 -> 100 | Z17: =IF(ISERROR(VLOOKUP($B17,ResultxMacroproceso!$A:$E,3,FALSE)),0,VLOOKUP($B17,ResultxMacroproceso!$A:$E,3,FALSE)) -> 2 | AA17: =IF(ISERROR(VLOOKUP($B17,ResultxMacroproceso!$A:$E,4,FALSE)),0,VLOOKUP($B17,ResultxMacroproceso!$A:$E,4,FALSE)) -> 0 | AB17: =IF(ISERROR(VLOOKUP($B17,ResultxMacroproceso!$A:$E,5,FALSE)),0,VLOOKUP($B17,ResultxMacroproceso!$A:$E,5,FALSE)) -> 0 | AC17: =+Z17+AA17+AB17 -> 2 | AD17: =IF(ISERROR(+U17/100*X17),0,+U17/100*X17) -> 2 | AE17: =IF(ISERROR(+V17/100*X17),0,+V17/100*X17) -> 0 | AF17: =IF(ISERROR(+W17/100*X17),0,+W17/100*X17) -> 0 | AG17: =SUM(AD17:AF17) -> 2 | AH17: =IF(ISERROR(+Z17*AD17/I17),0,+Z17*AD17/I17) -> 2 | AI17: =IF(ISERROR(+AA17*AE17/J17),0,+AA17*AE17/J17) -> 0 | AJ17: =IF(ISERROR(+AB17*AF17/K17),0,+AB17*AF17/K17) -> 0 | AK17: =+AH17+AI17+AJ17 -> 2 | AL17: 7 | AM17: =IF(D17=0,0,IF(ISERROR(+AL17*$AG$30/100),0,+AL17*$AG$30/100)) -> 18.48 | AN17: =IF(ISERROR(+AK17*AM17/AG17),0,+AK17*AM17/AG17) -> 18.48 | AO17: =IF(ISERROR(AN17*100/AM17),0,+AN17*100/AM17) -> 100 | AW17: NO aprobado - Subsanar en 6 meses (70%-84%)
B18: ATQ | C18: Atención quirúrgica | D18: =IF(ISERROR(VLOOKUP($B18,CriteriosxMacroprocesos!$A:$E,2,FALSE)),0,VLOOKUP($B18,CriteriosxMacroprocesos!$A:$E,2,FALSE)) -> 0 | E18: =IF(ISERROR(VLOOKUP($B18,CriteriosxMacroprocesos!$A:$E,3,FALSE)),0,VLOOKUP($B18,CriteriosxMacroprocesos!$A:$E,3,FALSE)) -> 0 | F18: =IF(ISERROR(VLOOKUP($B18,CriteriosxMacroprocesos!$A:$E,4,FALSE)),0,VLOOKUP($B18,CriteriosxMacroprocesos!$A:$E,4,FALSE)) -> 0 | G18: =IF(ISERROR(VLOOKUP($B18,CriteriosxMacroprocesos!$A:$E,5,FALSE)),0,VLOOKUP($B18,CriteriosxMacroprocesos!$A:$E,5,FALSE)) -> 0 | H18: =+G18+F18+E18 -> 0 | I18: =+E18*2 -> 0 | J18: =+F18*2 -> 0 | K18: =+G18*2 -> 0 | L18: =+K18+J18+I18 -> 0 | M18: 1 | N18: 2 | O18: 3 | P18: =+M18+N18+O18 -> 6 | Q18: =+I18*M18 -> 0 | R18: =+J18*N18 -> 0 | S18: =+K18*O18 -> 0 | T18: =SUM(Q18:S18) -> 0 | U18: =IF(ISERR(Q18/$T18*100),0,Q18/$T18*100) -> 0 | V18: =IF(ISERR(R18/$T18*100),0,R18/$T18*100) -> 0 | W18: =IF(ISERR(S18/$T18*100),0,S18/$T18*100) -> 0 | X18: =+L18 -> 0 | Y18: =+U18+V18+W18 -> 0 | Z18: =IF(ISERROR(VLOOKUP($B18,ResultxMacroproceso!$A:$E,3,FALSE)),0,VLOOKUP($B18,ResultxMacroproceso!$A:$E,3,FALSE)) -> 0 | AA18: =IF(ISERROR(VLOOKUP($B18,ResultxMacroproceso!$A:$E,4,FALSE)),0,VLOOKUP($B18,ResultxMacroproceso!$A:$E,4,FALSE)) -> 0 | AB18: =IF(ISERROR(VLOOKUP($B18,ResultxMacroproceso!$A:$E,5,FALSE)),0,VLOOKUP($B18,ResultxMacroproceso!$A:$E,5,FALSE)) -> 0 | AC18: =+Z18+AA18+AB18 -> 0 | AD18: =IF(ISERROR(+U18/100*X18),0,+U18/100*X18) -> 0 | AE18: =IF(ISERROR(+V18/100*X18),0,+V18/100*X18) -> 0 | AF18: =IF(ISERROR(+W18/100*X18),0,+W18/100*X18) -> 0 | AG18: =SUM(AD18:AF18) -> 0 | AH18: =IF(ISERROR(+Z18*AD18/I18),0,+Z18*AD18/I18) -> 0 | AI18: =IF(ISERROR(+AA18*AE18/J18),0,+AA18*AE18/J18) -> 0 | AJ18: =IF(ISERROR(+AB18*AF18/K18),0,+AB18*AF18/K18) -> 0 | AK18: =+AH18+AI18+AJ18 -> 0 | AL18: 7 | AM18: =IF(D18=0,0,IF(ISERROR(+AL18*$AG$30/100),0,+AL18*$AG$30/100)) -> 0 | AN18: =IF(ISERROR(+AK18*AM18/AG18),0,+AK18*AM18/AG18) -> 0 | AO18: =IF(ISERROR(AN18*100/AM18),0,+AN18*100/AM18) -> 0 | AW18: Aprobado (85% o más)
B19: DIV | C19: Docencia e Investigación | D19: =IF(ISERROR(VLOOKUP($B19,CriteriosxMacroprocesos!$A:$E,2,FALSE)),0,VLOOKUP($B19,CriteriosxMacroprocesos!$A:$E,2,FALSE)) -> 0 | E19: =IF(ISERROR(VLOOKUP($B19,CriteriosxMacroprocesos!$A:$E,3,FALSE)),0,VLOOKUP($B19,CriteriosxMacroprocesos!$A:$E,3,FALSE)) -> 0 | F19: =IF(ISERROR(VLOOKUP($B19,CriteriosxMacroprocesos!$A:$E,4,FALSE)),0,VLOOKUP($B19,CriteriosxMacroprocesos!$A:$E,4,FALSE)) -> 0 | G19: =IF(ISERROR(VLOOKUP($B19,CriteriosxMacroprocesos!$A:$E,5,FALSE)),0,VLOOKUP($B19,CriteriosxMacroprocesos!$A:$E,5,FALSE)) -> 0 | H19: =+G19+F19+E19 -> 0 | I19: =+E19*2 -> 0 | J19: =+F19*2 -> 0 | K19: =+G19*2 -> 0 | L19: =+K19+J19+I19 -> 0 | M19: 1 | N19: 2 | O19: 3 | P19: =+M19+N19+O19 -> 6 | Q19: =+I19*M19 -> 0 | R19: =+J19*N19 -> 0 | S19: =+K19*O19 -> 0 | T19: =SUM(Q19:S19) -> 0 | U19: =IF(ISERR(Q19/$T19*100),0,Q19/$T19*100) -> 0 | V19: =IF(ISERR(R19/$T19*100),0,R19/$T19*100) -> 0 | W19: =IF(ISERR(S19/$T19*100),0,S19/$T19*100) -> 0 | X19: =+L19 -> 0 | Y19: =+U19+V19+W19 -> 0 | Z19: =IF(ISERROR(VLOOKUP($B19,ResultxMacroproceso!$A:$E,3,FALSE)),0,VLOOKUP($B19,ResultxMacroproceso!$A:$E,3,FALSE)) -> 0 | AA19: =IF(ISERROR(VLOOKUP($B19,ResultxMacroproceso!$A:$E,4,FALSE)),0,VLOOKUP($B19,ResultxMacroproceso!$A:$E,4,FALSE)) -> 0 | AB19: =IF(ISERROR(VLOOKUP($B19,ResultxMacroproceso!$A:$E,5,FALSE)),0,VLOOKUP($B19,ResultxMacroproceso!$A:$E,5,FALSE)) -> 0 | AC19: =+Z19+AA19+AB19 -> 0 | AD19: =IF(ISERROR(+U19/100*X19),0,+U19/100*X19) -> 0 | AE19: =IF(ISERROR(+V19/100*X19),0,+V19/100*X19) -> 0 | AF19: =IF(ISERROR(+W19/100*X19),0,+W19/100*X19) -> 0 | AG19: =SUM(AD19:AF19) -> 0 | AH19: =IF(ISERROR(+Z19*AD19/I19),0,+Z19*AD19/I19) -> 0 | AI19: =IF(ISERROR(+AA19*AE19/J19),0,+AA19*AE19/J19) -> 0 | AJ19: =IF(ISERROR(+AB19*AF19/K19),0,+AB19*AF19/K19) -> 0 | AK19: =+AH19+AI19+AJ19 -> 0 | AL19: 5 | AM19: =IF(D19=0,0,IF(ISERROR(+AL19*$AG$30/100),0,+AL19*$AG$30/100)) -> 0 | AN19: =IF(ISERROR(+AK19*AM19/AG19),0,+AK19*AM19/AG19) -> 0 | AO19: =IF(ISERROR(AN19*100/AM19),0,+AN19*100/AM19) -> 0
A20: APO | B20: ADT | C20: Apoyo diagnóstico y terapéutico | D20: =IF(ISERROR(VLOOKUP($B20,CriteriosxMacroprocesos!$A:$E,2,FALSE)),0,VLOOKUP($B20,CriteriosxMacroprocesos!$A:$E,2,FALSE)) -> 0 | E20: =IF(ISERROR(VLOOKUP($B20,CriteriosxMacroprocesos!$A:$E,3,FALSE)),0,VLOOKUP($B20,CriteriosxMacroprocesos!$A:$E,3,FALSE)) -> 0 | F20: =IF(ISERROR(VLOOKUP($B20,CriteriosxMacroprocesos!$A:$E,4,FALSE)),0,VLOOKUP($B20,CriteriosxMacroprocesos!$A:$E,4,FALSE)) -> 0 | G20: =IF(ISERROR(VLOOKUP($B20,CriteriosxMacroprocesos!$A:$E,5,FALSE)),0,VLOOKUP($B20,CriteriosxMacroprocesos!$A:$E,5,FALSE)) -> 0 | H20: =+G20+F20+E20 -> 0 | I20: =+E20*2 -> 0 | J20: =+F20*2 -> 0 | K20: =+G20*2 -> 0 | L20: =+K20+J20+I20 -> 0 | M20: 1 | N20: 2 | O20: 3 | P20: =+M20+N20+O20 -> 6 | Q20: =+I20*M20 -> 0 | R20: =+J20*N20 -> 0 | S20: =+K20*O20 -> 0 | T20: =SUM(Q20:S20) -> 0 | U20: =IF(ISERR(Q20/$T20*100),0,Q20/$T20*100) -> 0 | V20: =IF(ISERR(R20/$T20*100),0,R20/$T20*100) -> 0 | W20: =IF(ISERR(S20/$T20*100),0,S20/$T20*100) -> 0 | X20: =+L20 -> 0 | Y20: =+U20+V20+W20 -> 0 | Z20: =IF(ISERROR(VLOOKUP($B20,ResultxMacroproceso!$A:$E,3,FALSE)),0,VLOOKUP($B20,ResultxMacroproceso!$A:$E,3,FALSE)) -> 0 | AA20: =IF(ISERROR(VLOOKUP($B20,ResultxMacroproceso!$A:$E,4,FALSE)),0,VLOOKUP($B20,ResultxMacroproceso!$A:$E,4,FALSE)) -> 0 | AB20: =IF(ISERROR(VLOOKUP($B20,ResultxMacroproceso!$A:$E,5,FALSE)),0,VLOOKUP($B20,ResultxMacroproceso!$A:$E,5,FALSE)) -> 0 | AC20: =+Z20+AA20+AB20 -> 0 | AD20: =IF(ISERROR(+U20/100*X20),0,+U20/100*X20) -> 0 | AE20: =IF(ISERROR(+V20/100*X20),0,+V20/100*X20) -> 0 | AF20: =IF(ISERROR(+W20/100*X20),0,+W20/100*X20) -> 0 | AG20: =SUM(AD20:AF20) -> 0 | AH20: =IF(ISERROR(+Z20*AD20/I20),0,+Z20*AD20/I20) -> 0 | AI20: =IF(ISERROR(+AA20*AE20/J20),0,+AA20*AE20/J20) -> 0 | AJ20: =IF(ISERROR(+AB20*AF20/K20),0,+AB20*AF20/K20) -> 0 | AK20: =+AH20+AI20+AJ20 -> 0 | AL20: 2.5 | AM20: =IF(D20=0,0,IF(ISERROR(+AL20*$AG$30/100),0,+AL20*$AG$30/100)) -> 0 | AN20: =IF(ISERROR(+AK20*AM20/AG20),0,+AK20*AM20/AG20) -> 0 | AO20: =IF(ISERROR(AN20*100/AM20),0,+AN20*100/AM20) -> 0 | AP20: =SUM(AM20:AM29) -> 52.8 | AQ20: 25 | AR20: =IF(ISERROR(+AQ20*$AP$30/100),0,ROUND(+AQ20*$AP$30/100,2)) -> 50.16 | AS20: =SUM(AN20:AN29) -> 44.783529 | AT20: =IF(ISERROR(AS20*AR20/AP20),0,ROUND(AS20*AR20/AP20,2)) -> 42.54 | AU20: =IF(ISERROR(AT20*100/AR20),0,+AT20*100/AR20) -> 84.808612
B21: ADA | C21: Admisión y alta | D21: =IF(ISERROR(VLOOKUP($B21,CriteriosxMacroprocesos!$A:$E,2,FALSE)),0,VLOOKUP($B21,CriteriosxMacroprocesos!$A:$E,2,FALSE)) -> 4 | E21: =IF(ISERROR(VLOOKUP($B21,CriteriosxMacroprocesos!$A:$E,3,FALSE)),0,VLOOKUP($B21,CriteriosxMacroprocesos!$A:$E,3,FALSE)) -> 2 | F21: =IF(ISERROR(VLOOKUP($B21,CriteriosxMacroprocesos!$A:$E,4,FALSE)),0,VLOOKUP($B21,CriteriosxMacroprocesos!$A:$E,4,FALSE)) -> 2 | G21: =IF(ISERROR(VLOOKUP($B21,CriteriosxMacroprocesos!$A:$E,5,FALSE)),0,VLOOKUP($B21,CriteriosxMacroprocesos!$A:$E,5,FALSE)) -> 0 | H21: =+G21+F21+E21 -> 4 | I21: =+E21*2 -> 4 | J21: =+F21*2 -> 4 | K21: =+G21*2 -> 0 | L21: =+K21+J21+I21 -> 8 | M21: 1 | N21: 2 | O21: 3 | P21: =+M21+N21+O21 -> 6 | Q21: =+I21*M21 -> 4 | R21: =+J21*N21 -> 8 | S21: =+K21*O21 -> 0 | T21: =SUM(Q21:S21) -> 12 | U21: =IF(ISERR(Q21/$T21*100),0,Q21/$T21*100) -> 33.333333 | V21: =IF(ISERR(R21/$T21*100),0,R21/$T21*100) -> 66.666667 | W21: =IF(ISERR(S21/$T21*100),0,S21/$T21*100) -> 0 | X21: =+L21 -> 8 | Y21: =+U21+V21+W21 -> 100 | Z21: =IF(ISERROR(VLOOKUP($B21,ResultxMacroproceso!$A:$E,3,FALSE)),0,VLOOKUP($B21,ResultxMacroproceso!$A:$E,3,FALSE)) -> 4 | AA21: =IF(ISERROR(VLOOKUP($B21,ResultxMacroproceso!$A:$E,4,FALSE)),0,VLOOKUP($B21,ResultxMacroproceso!$A:$E,4,FALSE)) -> 3 | AB21: =IF(ISERROR(VLOOKUP($B21,ResultxMacroproceso!$A:$E,5,FALSE)),0,VLOOKUP($B21,ResultxMacroproceso!$A:$E,5,FALSE)) -> 0 | AC21: =+Z21+AA21+AB21 -> 7 | AD21: =IF(ISERROR(+U21/100*X21),0,+U21/100*X21) -> 2.6666667 | AE21: =IF(ISERROR(+V21/100*X21),0,+V21/100*X21) -> 5.3333333 | AF21: =IF(ISERROR(+W21/100*X21),0,+W21/100*X21) -> 0 | AG21: =SUM(AD21:AF21) -> 8 | AH21: =IF(ISERROR(+Z21*AD21/I21),0,+Z21*AD21/I21) -> 2.6666667 | AI21: =IF(ISERROR(+AA21*AE21/J21),0,+AA21*AE21/J21) -> 4 | AJ21: =IF(ISERROR(+AB21*AF21/K21),0,+AB21*AF21/K21) -> 0 | AK21: =+AH21+AI21+AJ21 -> 6.6666667 | AL21: 2.5 | AM21: =IF(D21=0,0,IF(ISERROR(+AL21*$AG$30/100),0,+AL21*$AG$30/100)) -> 6.6 | AN21: =IF(ISERROR(+AK21*AM21/AG21),0,+AK21*AM21/AG21) -> 5.5 | AO21: =IF(ISERROR(AN21*100/AM21),0,+AN21*100/AM21) -> 83.333333 | AR21: =IF(ISERROR(+AQ21*$AP$30/100),0,ROUND(+AQ21*$AP$30/100,2)) -> 0 | AS21: =SUM(AN22:AN31) -> 190.48492 | AT21: =IF(ISERROR(AS21*AR21/AP21),0,ROUND(AS21*AR21/AP21,2)) -> 0 | AU21: =IF(ISERROR(AT21*100/AR21),0,+AT21*100/AR21) -> 0
B22: RCR | C22: Referencia y contrarreferencia | D22: =IF(ISERROR(VLOOKUP($B22,CriteriosxMacroprocesos!$A:$E,2,FALSE)),0,VLOOKUP($B22,CriteriosxMacroprocesos!$A:$E,2,FALSE)) -> 10 | E22: =IF(ISERROR(VLOOKUP($B22,CriteriosxMacroprocesos!$A:$E,3,FALSE)),0,VLOOKUP($B22,CriteriosxMacroprocesos!$A:$E,3,FALSE)) -> 6 | F22: =IF(ISERROR(VLOOKUP($B22,CriteriosxMacroprocesos!$A:$E,4,FALSE)),0,VLOOKUP($B22,CriteriosxMacroprocesos!$A:$E,4,FALSE)) -> 1 | G22: =IF(ISERROR(VLOOKUP($B22,CriteriosxMacroprocesos!$A:$E,5,FALSE)),0,VLOOKUP($B22,CriteriosxMacroprocesos!$A:$E,5,FALSE)) -> 3 | H22: =+G22+F22+E22 -> 10 | I22: =+E22*2 -> 12 | J22: =+F22*2 -> 2 | K22: =+G22*2 -> 6 | L22: =+K22+J22+I22 -> 20 | M22: 1 | N22: 2 | O22: 3 | P22: =+M22+N22+O22 -> 6 | Q22: =+I22*M22 -> 12 | R22: =+J22*N22 -> 4 | S22: =+K22*O22 -> 18 | T22: =SUM(Q22:S22) -> 34 | U22: =IF(ISERR(Q22/$T22*100),0,Q22/$T22*100) -> 35.294118 | V22: =IF(ISERR(R22/$T22*100),0,R22/$T22*100) -> 11.764706 | W22: =IF(ISERR(S22/$T22*100),0,S22/$T22*100) -> 52.941176 | X22: =+L22 -> 20 | Y22: =+U22+V22+W22 -> 100 | Z22: =IF(ISERROR(VLOOKUP($B22,ResultxMacroproceso!$A:$E,3,FALSE)),0,VLOOKUP($B22,ResultxMacroproceso!$A:$E,3,FALSE)) -> 8 | AA22: =IF(ISERROR(VLOOKUP($B22,ResultxMacroproceso!$A:$E,4,FALSE)),0,VLOOKUP($B22,ResultxMacroproceso!$A:$E,4,FALSE)) -> 2 | AB22: =IF(ISERROR(VLOOKUP($B22,ResultxMacroproceso!$A:$E,5,FALSE)),0,VLOOKUP($B22,ResultxMacroproceso!$A:$E,5,FALSE)) -> 6 | AC22: =+Z22+AA22+AB22 -> 16 | AD22: =IF(ISERROR(+U22/100*X22),0,+U22/100*X22) -> 7.0588235 | AE22: =IF(ISERROR(+V22/100*X22),0,+V22/100*X22) -> 2.3529412 | AF22: =IF(ISERROR(+W22/100*X22),0,+W22/100*X22) -> 10.588235 | AG22: =SUM(AD22:AF22) -> 20 | AH22: =IF(ISERROR(+Z22*AD22/I22),0,+Z22*AD22/I22) -> 4.7058824 | AI22: =IF(ISERROR(+AA22*AE22/J22),0,+AA22*AE22/J22) -> 2.3529412 | AJ22: =IF(ISERROR(+AB22*AF22/K22),0,+AB22*AF22/K22) -> 10.588235 | AK22: =+AH22+AI22+AJ22 -> 17.647059 | AL22: 2.5 | AM22: =IF(D22=0,0,IF(ISERROR(+AL22*$AG$30/100),0,+AL22*$AG$30/100)) -> 6.6 | AN22: =IF(ISERROR(+AK22*AM22/AG22),0,+AK22*AM22/AG22) -> 5.8235294 | AO22: =IF(ISERROR(AN22*100/AM22),0,+AN22*100/AM22) -> 88.235294 | AR22: =IF(ISERROR(+AQ22*$AP$30/100),0,ROUND(+AQ22*$AP$30/100,2)) -> 0 | AS22: =SUM(AN23:AN32) -> 184.66139 | AT22: =IF(ISERROR(AS22*AR22/AP22),0,ROUND(AS22*AR22/AP22,2)) -> 0 | AU22: =IF(ISERROR(AT22*100/AR22),0,+AT22*100/AR22) -> 0
B23: GMD | C23: Gestión de medicamentos | D23: =IF(ISERROR(VLOOKUP($B23,CriteriosxMacroprocesos!$A:$E,2,FALSE)),0,VLOOKUP($B23,CriteriosxMacroprocesos!$A:$E,2,FALSE)) -> 7 | E23: =IF(ISERROR(VLOOKUP($B23,CriteriosxMacroprocesos!$A:$E,3,FALSE)),0,VLOOKUP($B23,CriteriosxMacroprocesos!$A:$E,3,FALSE)) -> 3 | F23: =IF(ISERROR(VLOOKUP($B23,CriteriosxMacroprocesos!$A:$E,4,FALSE)),0,VLOOKUP($B23,CriteriosxMacroprocesos!$A:$E,4,FALSE)) -> 4 | G23: =IF(ISERROR(VLOOKUP($B23,CriteriosxMacroprocesos!$A:$E,5,FALSE)),0,VLOOKUP($B23,CriteriosxMacroprocesos!$A:$E,5,FALSE)) -> 0 | H23: =+G23+F23+E23 -> 7 | I23: =+E23*2 -> 6 | J23: =+F23*2 -> 8 | K23: =+G23*2 -> 0 | L23: =+K23+J23+I23 -> 14 | M23: 1 | N23: 2 | O23: 3 | P23: =+M23+N23+O23 -> 6 | Q23: =+I23*M23 -> 6 | R23: =+J23*N23 -> 16 | S23: =+K23*O23 -> 0 | T23: =SUM(Q23:S23) -> 22 | U23: =IF(ISERR(Q23/$T23*100),0,Q23/$T23*100) -> 27.272727 | V23: =IF(ISERR(R23/$T23*100),0,R23/$T23*100) -> 72.727273 | W23: =IF(ISERR(S23/$T23*100),0,S23/$T23*100) -> 0 | X23: =+L23 -> 14 | Y23: =+U23+V23+W23 -> 100 | Z23: =IF(ISERROR(VLOOKUP($B23,ResultxMacroproceso!$A:$E,3,FALSE)),0,VLOOKUP($B23,ResultxMacroproceso!$A:$E,3,FALSE)) -> 6 | AA23: =IF(ISERROR(VLOOKUP($B23,ResultxMacroproceso!$A:$E,4,FALSE)),0,VLOOKUP($B23,ResultxMacroproceso!$A:$E,4,FALSE)) -> 8 | AB23: =IF(ISERROR(VLOOKUP($B23,ResultxMacroproceso!$A:$E,5,FALSE)),0,VLOOKUP($B23,ResultxMacroproceso!$A:$E,5,FALSE)) -> 0 | AC23: =+Z23+AA23+AB23 -> 14 | AD23: =IF(ISERROR(+U23/100*X23),0,+U23/100*X23) -> 3.8181818 | AE23: =IF(ISERROR(+V23/100*X23),0,+V23/100*X23) -> 10.181818 | AF23: =IF(ISERROR(+W23/100*X23),0,+W23/100*X23) -> 0 | AG23: =SUM(AD23:AF23) -> 14 | AH23: =IF(ISERROR(+Z23*AD23/I23),0,+Z23*AD23/I23) -> 3.8181818 | AI23: =IF(ISERROR(+AA23*AE23/J23),0,+AA23*AE23/J23) -> 10.181818 | AJ23: =IF(ISERROR(+AB23*AF23/K23),0,+AB23*AF23/K23) -> 0 | AK23: =+AH23+AI23+AJ23 -> 14 | AL23: 2.5 | AM23: =IF(D23=0,0,IF(ISERROR(+AL23*$AG$30/100),0,+AL23*$AG$30/100)) -> 6.6 | AN23: =IF(ISERROR(+AK23*AM23/AG23),0,+AK23*AM23/AG23) -> 6.6 | AO23: =IF(ISERROR(AN23*100/AM23),0,+AN23*100/AM23) -> 100 | AR23: =IF(ISERROR(+AQ23*$AP$30/100),0,ROUND(+AQ23*$AP$30/100,2)) -> 0 | AS23: =SUM(AN24:AN33) -> 178.06139 | AT23: =IF(ISERROR(AS23*AR23/AP23),0,ROUND(AS23*AR23/AP23,2)) -> 0 | AU23: =IF(ISERROR(AT23*100/AR23),0,+AT23*100/AR23) -> 0
B24: GIN | C24: Gestión de la información | D24: =IF(ISERROR(VLOOKUP($B24,CriteriosxMacroprocesos!$A:$E,2,FALSE)),0,VLOOKUP($B24,CriteriosxMacroprocesos!$A:$E,2,FALSE)) -> 7 | E24: =IF(ISERROR(VLOOKUP($B24,CriteriosxMacroprocesos!$A:$E,3,FALSE)),0,VLOOKUP($B24,CriteriosxMacroprocesos!$A:$E,3,FALSE)) -> 3 | F24: =IF(ISERROR(VLOOKUP($B24,CriteriosxMacroprocesos!$A:$E,4,FALSE)),0,VLOOKUP($B24,CriteriosxMacroprocesos!$A:$E,4,FALSE)) -> 4 | G24: =IF(ISERROR(VLOOKUP($B24,CriteriosxMacroprocesos!$A:$E,5,FALSE)),0,VLOOKUP($B24,CriteriosxMacroprocesos!$A:$E,5,FALSE)) -> 0 | H24: =+G24+F24+E24 -> 7 | I24: =+E24*2 -> 6 | J24: =+F24*2 -> 8 | K24: =+G24*2 -> 0 | L24: =+K24+J24+I24 -> 14 | M24: 1 | N24: 2 | O24: 3 | P24: =+M24+N24+O24 -> 6 | Q24: =+I24*M24 -> 6 | R24: =+J24*N24 -> 16 | S24: =+K24*O24 -> 0 | T24: =SUM(Q24:S24) -> 22 | U24: =IF(ISERR(Q24/$T24*100),0,Q24/$T24*100) -> 27.272727 | V24: =IF(ISERR(R24/$T24*100),0,R24/$T24*100) -> 72.727273 | W24: =IF(ISERR(S24/$T24*100),0,S24/$T24*100) -> 0 | X24: =+L24 -> 14 | Y24: =+U24+V24+W24 -> 100 | Z24: =IF(ISERROR(VLOOKUP($B24,ResultxMacroproceso!$A:$E,3,FALSE)),0,VLOOKUP($B24,ResultxMacroproceso!$A:$E,3,FALSE)) -> 6 | AA24: =IF(ISERROR(VLOOKUP($B24,ResultxMacroproceso!$A:$E,4,FALSE)),0,VLOOKUP($B24,ResultxMacroproceso!$A:$E,4,FALSE)) -> 4 | AB24: =IF(ISERROR(VLOOKUP($B24,ResultxMacroproceso!$A:$E,5,FALSE)),0,VLOOKUP($B24,ResultxMacroproceso!$A:$E,5,FALSE)) -> 0 | AC24: =+Z24+AA24+AB24 -> 10 | AD24: =IF(ISERROR(+U24/100*X24),0,+U24/100*X24) -> 3.8181818 | AE24: =IF(ISERROR(+V24/100*X24),0,+V24/100*X24) -> 10.181818 | AF24: =IF(ISERROR(+W24/100*X24),0,+W24/100*X24) -> 0 | AG24: =SUM(AD24:AF24) -> 14 | AH24: =IF(ISERROR(+Z24*AD24/I24),0,+Z24*AD24/I24) -> 3.8181818 | AI24: =IF(ISERROR(+AA24*AE24/J24),0,+AA24*AE24/J24) -> 5.0909091 | AJ24: =IF(ISERROR(+AB24*AF24/K24),0,+AB24*AF24/K24) -> 0 | AK24: =+AH24+AI24+AJ24 -> 8.9090909 | AL24: 2.5 | AM24: =IF(D24=0,0,IF(ISERROR(+AL24*$AG$30/100),0,+AL24*$AG$30/100)) -> 6.6 | AN24: =IF(ISERROR(+AK24*AM24/AG24),0,+AK24*AM24/AG24) -> 4.2 | AO24: =IF(ISERROR(AN24*100/AM24),0,+AN24*100/AM24) -> 63.636364 | AR24: =IF(ISERROR(+AQ24*$AP$30/100),0,ROUND(+AQ24*$AP$30/100,2)) -> 0 | AS24: =SUM(AN25:AN34) -> 173.86139 | AT24: =IF(ISERROR(AS24*AR24/AP24),0,ROUND(AS24*AR24/AP24,2)) -> 0 | AU24: =IF(ISERROR(AT24*100/AR24),0,+AT24*100/AR24) -> 0 | BA24: 0 | BB24: 49.99999 | BC24: NO aprobado. Reiniciar desde la Autoevaluación (Menos 50%)
B25: DLDE | C25: Descontaminación, Limpieza, Desinfeccción y Esterilización | D25: =IF(ISERROR(VLOOKUP($B25,CriteriosxMacroprocesos!$A:$E,2,FALSE)),0,VLOOKUP($B25,CriteriosxMacroprocesos!$A:$E,2,FALSE)) -> 4 | E25: =IF(ISERROR(VLOOKUP($B25,CriteriosxMacroprocesos!$A:$E,3,FALSE)),0,VLOOKUP($B25,CriteriosxMacroprocesos!$A:$E,3,FALSE)) -> 2 | F25: =IF(ISERROR(VLOOKUP($B25,CriteriosxMacroprocesos!$A:$E,4,FALSE)),0,VLOOKUP($B25,CriteriosxMacroprocesos!$A:$E,4,FALSE)) -> 1 | G25: =IF(ISERROR(VLOOKUP($B25,CriteriosxMacroprocesos!$A:$E,5,FALSE)),0,VLOOKUP($B25,CriteriosxMacroprocesos!$A:$E,5,FALSE)) -> 1 | H25: =+G25+F25+E25 -> 4 | I25: =+E25*2 -> 4 | J25: =+F25*2 -> 2 | K25: =+G25*2 -> 2 | L25: =+K25+J25+I25 -> 8 | M25: 1 | N25: 2 | O25: 3 | P25: =+M25+N25+O25 -> 6 | Q25: =+I25*M25 -> 4 | R25: =+J25*N25 -> 4 | S25: =+K25*O25 -> 6 | T25: =SUM(Q25:S25) -> 14 | U25: =IF(ISERR(Q25/$T25*100),0,Q25/$T25*100) -> 28.571429 | V25: =IF(ISERR(R25/$T25*100),0,R25/$T25*100) -> 28.571429 | W25: =IF(ISERR(S25/$T25*100),0,S25/$T25*100) -> 42.857143 | X25: =+L25 -> 8 | Y25: =+U25+V25+W25 -> 100 | Z25: =IF(ISERROR(VLOOKUP($B25,ResultxMacroproceso!$A:$E,3,FALSE)),0,VLOOKUP($B25,ResultxMacroproceso!$A:$E,3,FALSE)) -> 4 | AA25: =IF(ISERROR(VLOOKUP($B25,ResultxMacroproceso!$A:$E,4,FALSE)),0,VLOOKUP($B25,ResultxMacroproceso!$A:$E,4,FALSE)) -> 2 | AB25: =IF(ISERROR(VLOOKUP($B25,ResultxMacroproceso!$A:$E,5,FALSE)),0,VLOOKUP($B25,ResultxMacroproceso!$A:$E,5,FALSE)) -> 2 | AC25: =+Z25+AA25+AB25 -> 8 | AD25: =IF(ISERROR(+U25/100*X25),0,+U25/100*X25) -> 2.2857143 | AE25: =IF(ISERROR(+V25/100*X25),0,+V25/100*X25) -> 2.2857143 | AF25: =IF(ISERROR(+W25/100*X25),0,+W25/100*X25) -> 3.4285714 | AG25: =SUM(AD25:AF25) -> 8 | AH25: =IF(ISERROR(+Z25*AD25/I25),0,+Z25*AD25/I25) -> 2.2857143 | AI25: =IF(ISERROR(+AA25*AE25/J25),0,+AA25*AE25/J25) -> 2.2857143 | AJ25: =IF(ISERROR(+AB25*AF25/K25),0,+AB25*AF25/K25) -> 3.4285714 | AK25: =+AH25+AI25+AJ25 -> 8 | AL25: 2.5 | AM25: =IF(D25=0,0,IF(ISERROR(+AL25*$AG$30/100),0,+AL25*$AG$30/100)) -> 6.6 | AN25: =IF(ISERROR(+AK25*AM25/AG25),0,+AK25*AM25/AG25) -> 6.6 | AO25: =IF(ISERROR(AN25*100/AM25),0,+AN25*100/AM25) -> 100 | AR25: =IF(ISERROR(+AQ25*$AP$30/100),0,ROUND(+AQ25*$AP$30/100,2)) -> 0 | AS25: =SUM(AN26:AN35) -> 167.26139 | AT25: =IF(ISERROR(AS25*AR25/AP25),0,ROUND(AS25*AR25/AP25,2)) -> 0 | AU25: =IF(ISERROR(AT25*100/AR25),0,+AT25*100/AR25) -> 0 | BA25: 0 | BB25: 49.99999 | BC25: NO aprobado. Reiniciar desde la Autoevaluación (Menos 50%)
B26: MRS | C26: Manejo del riesgo social | D26: =IF(ISERROR(VLOOKUP($B26,CriteriosxMacroprocesos!$A:$E,2,FALSE)),0,VLOOKUP($B26,CriteriosxMacroprocesos!$A:$E,2,FALSE)) -> 2 | E26: =IF(ISERROR(VLOOKUP($B26,CriteriosxMacroprocesos!$A:$E,3,FALSE)),0,VLOOKUP($B26,CriteriosxMacroprocesos!$A:$E,3,FALSE)) -> 0 | F26: =IF(ISERROR(VLOOKUP($B26,CriteriosxMacroprocesos!$A:$E,4,FALSE)),0,VLOOKUP($B26,CriteriosxMacroprocesos!$A:$E,4,FALSE)) -> 1 | G26: =IF(ISERROR(VLOOKUP($B26,CriteriosxMacroprocesos!$A:$E,5,FALSE)),0,VLOOKUP($B26,CriteriosxMacroprocesos!$A:$E,5,FALSE)) -> 1 | H26: =+G26+F26+E26 -> 2 | I26: =+E26*2 -> 0 | J26: =+F26*2 -> 2 | K26: =+G26*2 -> 2 | L26: =+K26+J26+I26 -> 4 | M26: 1 | N26: 2 | O26: 3 | P26: =+M26+N26+O26 -> 6 | Q26: =+I26*M26 -> 0 | R26: =+J26*N26 -> 4 | S26: =+K26*O26 -> 6 | T26: =SUM(Q26:S26) -> 10 | U26: =IF(ISERR(Q26/$T26*100),0,Q26/$T26*100) -> 0 | V26: =IF(ISERR(R26/$T26*100),0,R26/$T26*100) -> 40 | W26: =IF(ISERR(S26/$T26*100),0,S26/$T26*100) -> 60 | X26: =+L26 -> 4 | Y26: =+U26+V26+W26 -> 100 | Z26: =IF(ISERROR(VLOOKUP($B26,ResultxMacroproceso!$A:$E,3,FALSE)),0,VLOOKUP($B26,ResultxMacroproceso!$A:$E,3,FALSE)) -> 0 | AA26: =IF(ISERROR(VLOOKUP($B26,ResultxMacroproceso!$A:$E,4,FALSE)),0,VLOOKUP($B26,ResultxMacroproceso!$A:$E,4,FALSE)) -> 0 | AB26: =IF(ISERROR(VLOOKUP($B26,ResultxMacroproceso!$A:$E,5,FALSE)),0,VLOOKUP($B26,ResultxMacroproceso!$A:$E,5,FALSE)) -> 2 | AC26: =+Z26+AA26+AB26 -> 2 | AD26: =IF(ISERROR(+U26/100*X26),0,+U26/100*X26) -> 0 | AE26: =IF(ISERROR(+V26/100*X26),0,+V26/100*X26) -> 1.6 | AF26: =IF(ISERROR(+W26/100*X26),0,+W26/100*X26) -> 2.4 | AG26: =SUM(AD26:AF26) -> 4 | AH26: =IF(ISERROR(+Z26*AD26/I26),0,+Z26*AD26/I26) -> 0 | AI26: =IF(ISERROR(+AA26*AE26/J26),0,+AA26*AE26/J26) -> 0 | AJ26: =IF(ISERROR(+AB26*AF26/K26),0,+AB26*AF26/K26) -> 2.4 | AK26: =+AH26+AI26+AJ26 -> 2.4 | AL26: 2.5 | AM26: =IF(D26=0,0,IF(ISERROR(+AL26*$AG$30/100),0,+AL26*$AG$30/100)) -> 6.6 | AN26: =IF(ISERROR(+AK26*AM26/AG26),0,+AK26*AM26/AG26) -> 3.96 | AO26: =IF(ISERROR(AN26*100/AM26),0,+AN26*100/AM26) -> 60 | AR26: =IF(ISERROR(+AQ26*$AP$30/100),0,ROUND(+AQ26*$AP$30/100,2)) -> 0 | AS26: =SUM(AN27:AN36) -> 163.30139 | AT26: =IF(ISERROR(AS26*AR26/AP26),0,ROUND(AS26*AR26/AP26,2)) -> 0 | AU26: =IF(ISERROR(AT26*100/AR26),0,+AT26*100/AR26) -> 0 | BA26: 50 | BB26: 69.99999 | BC26: NO aprobado - Subsanar en 9 meses (50%-69%)
B27: NYD | C27: Nutrición y dietética | D27: =IF(ISERROR(VLOOKUP($B27,CriteriosxMacroprocesos!$A:$E,2,FALSE)),0,VLOOKUP($B27,CriteriosxMacroprocesos!$A:$E,2,FALSE)) -> 0 | E27: =IF(ISERROR(VLOOKUP($B27,CriteriosxMacroprocesos!$A:$E,3,FALSE)),0,VLOOKUP($B27,CriteriosxMacroprocesos!$A:$E,3,FALSE)) -> 0 | F27: =IF(ISERROR(VLOOKUP($B27,CriteriosxMacroprocesos!$A:$E,4,FALSE)),0,VLOOKUP($B27,CriteriosxMacroprocesos!$A:$E,4,FALSE)) -> 0 | G27: =IF(ISERROR(VLOOKUP($B27,CriteriosxMacroprocesos!$A:$E,5,FALSE)),0,VLOOKUP($B27,CriteriosxMacroprocesos!$A:$E,5,FALSE)) -> 0 | H27: =+G27+F27+E27 -> 0 | I27: =+E27*2 -> 0 | J27: =+F27*2 -> 0 | K27: =+G27*2 -> 0 | L27: =+K27+J27+I27 -> 0 | M27: 1 | N27: 2 | O27: 3 | P27: =+M27+N27+O27 -> 6 | Q27: =+I27*M27 -> 0 | R27: =+J27*N27 -> 0 | S27: =+K27*O27 -> 0 | T27: =SUM(Q27:S27) -> 0 | U27: =IF(ISERR(Q27/$T27*100),0,Q27/$T27*100) -> 0 | V27: =IF(ISERR(R27/$T27*100),0,R27/$T27*100) -> 0 | W27: =IF(ISERR(S27/$T27*100),0,S27/$T27*100) -> 0 | X27: =+L27 -> 0 | Y27: =+U27+V27+W27 -> 0 | Z27: =IF(ISERROR(VLOOKUP($B27,ResultxMacroproceso!$A:$E,3,FALSE)),0,VLOOKUP($B27,ResultxMacroproceso!$A:$E,3,FALSE)) -> 0 | AA27: =IF(ISERROR(VLOOKUP($B27,ResultxMacroproceso!$A:$E,4,FALSE)),0,VLOOKUP($B27,ResultxMacroproceso!$A:$E,4,FALSE)) -> 0 | AB27: =IF(ISERROR(VLOOKUP($B27,ResultxMacroproceso!$A:$E,5,FALSE)),0,VLOOKUP($B27,ResultxMacroproceso!$A:$E,5,FALSE)) -> 0 | AC27: =+Z27+AA27+AB27 -> 0 | AD27: =IF(ISERROR(+U27/100*X27),0,+U27/100*X27) -> 0 | AE27: =IF(ISERROR(+V27/100*X27),0,+V27/100*X27) -> 0 | AF27: =IF(ISERROR(+W27/100*X27),0,+W27/100*X27) -> 0 | AG27: =SUM(AD27:AF27) -> 0 | AH27: =IF(ISERROR(+Z27*AD27/I27),0,+Z27*AD27/I27) -> 0 | AI27: =IF(ISERROR(+AA27*AE27/J27),0,+AA27*AE27/J27) -> 0 | AJ27: =IF(ISERROR(+AB27*AF27/K27),0,+AB27*AF27/K27) -> 0 | AK27: =+AH27+AI27+AJ27 -> 0 | AL27: 2.5 | AM27: =IF(D27=0,0,IF(ISERROR(+AL27*$AG$30/100),0,+AL27*$AG$30/100)) -> 0 | AN27: =IF(ISERROR(+AK27*AM27/AG27),0,+AK27*AM27/AG27) -> 0 | AO27: =IF(ISERROR(AN27*100/AM27),0,+AN27*100/AM27) -> 0 | AR27: =IF(ISERROR(+AQ27*$AP$30/100),0,ROUND(+AQ27*$AP$30/100,2)) -> 0 | AS27: =SUM(AN28:AN37) -> 163.30139 | AT27: =IF(ISERROR(AS27*AR27/AP27),0,ROUND(AS27*AR27/AP27,2)) -> 0 | AU27: =IF(ISERROR(AT27*100/AR27),0,+AT27*100/AR27) -> 0 | BA27: 70 | BB27: 84.99999 | BC27: NO aprobado - Subsanar en 6 meses (70%-84%)
B28: GIM | C28: Gestión de insumos y materiales | D28: =IF(ISERROR(VLOOKUP($B28,CriteriosxMacroprocesos!$A:$E,2,FALSE)),0,VLOOKUP($B28,CriteriosxMacroprocesos!$A:$E,2,FALSE)) -> 5 | E28: =IF(ISERROR(VLOOKUP($B28,CriteriosxMacroprocesos!$A:$E,3,FALSE)),0,VLOOKUP($B28,CriteriosxMacroprocesos!$A:$E,3,FALSE)) -> 2 | F28: =IF(ISERROR(VLOOKUP($B28,CriteriosxMacroprocesos!$A:$E,4,FALSE)),0,VLOOKUP($B28,CriteriosxMacroprocesos!$A:$E,4,FALSE)) -> 2 | G28: =IF(ISERROR(VLOOKUP($B28,CriteriosxMacroprocesos!$A:$E,5,FALSE)),0,VLOOKUP($B28,CriteriosxMacroprocesos!$A:$E,5,FALSE)) -> 1 | H28: =+G28+F28+E28 -> 5 | I28: =+E28*2 -> 4 | J28: =+F28*2 -> 4 | K28: =+G28*2 -> 2 | L28: =+K28+J28+I28 -> 10 | M28: 1 | N28: 2 | O28: 3 | P28: =+M28+N28+O28 -> 6 | Q28: =+I28*M28 -> 4 | R28: =+J28*N28 -> 8 | S28: =+K28*O28 -> 6 | T28: =SUM(Q28:S28) -> 18 | U28: =IF(ISERR(Q28/$T28*100),0,Q28/$T28*100) -> 22.222222 | V28: =IF(ISERR(R28/$T28*100),0,R28/$T28*100) -> 44.444444 | W28: =IF(ISERR(S28/$T28*100),0,S28/$T28*100) -> 33.333333 | X28: =+L28 -> 10 | Y28: =+U28+V28+W28 -> 100 | Z28: =IF(ISERROR(VLOOKUP($B28,ResultxMacroproceso!$A:$E,3,FALSE)),0,VLOOKUP($B28,ResultxMacroproceso!$A:$E,3,FALSE)) -> 4 | AA28: =IF(ISERROR(VLOOKUP($B28,ResultxMacroproceso!$A:$E,4,FALSE)),0,VLOOKUP($B28,ResultxMacroproceso!$A:$E,4,FALSE)) -> 4 | AB28: =IF(ISERROR(VLOOKUP($B28,ResultxMacroproceso!$A:$E,5,FALSE)),0,VLOOKUP($B28,ResultxMacroproceso!$A:$E,5,FALSE)) -> 2 | AC28: =+Z28+AA28+AB28 -> 10 | AD28: =IF(ISERROR(+U28/100*X28),0,+U28/100*X28) -> 2.2222222 | AE28: =IF(ISERROR(+V28/100*X28),0,+V28/100*X28) -> 4.4444444 | AF28: =IF(ISERROR(+W28/100*X28),0,+W28/100*X28) -> 3.3333333 | AG28: =SUM(AD28:AF28) -> 10 | AH28: =IF(ISERROR(+Z28*AD28/I28),0,+Z28*AD28/I28) -> 2.2222222 | AI28: =IF(ISERROR(+AA28*AE28/J28),0,+AA28*AE28/J28) -> 4.4444444 | AJ28: =IF(ISERROR(+AB28*AF28/K28),0,+AB28*AF28/K28) -> 3.3333333 | AK28: =+AH28+AI28+AJ28 -> 10 | AL28: 2.5 | AM28: =IF(D28=0,0,IF(ISERROR(+AL28*$AG$30/100),0,+AL28*$AG$30/100)) -> 6.6 | AN28: =IF(ISERROR(+AK28*AM28/AG28),0,+AK28*AM28/AG28) -> 6.6 | AO28: =IF(ISERROR(AN28*100/AM28),0,+AN28*100/AM28) -> 100 | AR28: =IF(ISERROR(+AQ28*$AP$30/100),0,ROUND(+AQ28*$AP$30/100,2)) -> 0 | AS28: =SUM(AN29:AN38) -> 156.70139 | AT28: =IF(ISERROR(AS28*AR28/AP28),0,ROUND(AS28*AR28/AP28,2)) -> 0 | AU28: =IF(ISERROR(AT28*100/AR28),0,+AT28*100/AR28) -> 0 | BA28: 85 | BB28: 100 | BC28: Aprobado (85%)
B29: EIF | C29: Gestión de equipos e infraestructura | D29: =IF(ISERROR(VLOOKUP($B29,CriteriosxMacroprocesos!$A:$E,2,FALSE)),0,VLOOKUP($B29,CriteriosxMacroprocesos!$A:$E,2,FALSE)) -> 3 | E29: =IF(ISERROR(VLOOKUP($B29,CriteriosxMacroprocesos!$A:$E,3,FALSE)),0,VLOOKUP($B29,CriteriosxMacroprocesos!$A:$E,3,FALSE)) -> 3 | F29: =IF(ISERROR(VLOOKUP($B29,CriteriosxMacroprocesos!$A:$E,4,FALSE)),0,VLOOKUP($B29,CriteriosxMacroprocesos!$A:$E,4,FALSE)) -> 0 | G29: =IF(ISERROR(VLOOKUP($B29,CriteriosxMacroprocesos!$A:$E,5,FALSE)),0,VLOOKUP($B29,CriteriosxMacroprocesos!$A:$E,5,FALSE)) -> 0 | H29: =+G29+F29+E29 -> 3 | I29: =+E29*2 -> 6 | J29: =+F29*2 -> 0 | K29: =+G29*2 -> 0 | L29: =+K29+J29+I29 -> 6 | M29: 1 | N29: 2 | O29: 3 | P29: =+M29+N29+O29 -> 6 | Q29: =+I29*M29 -> 6 | R29: =+J29*N29 -> 0 | S29: =+K29*O29 -> 0 | T29: =SUM(Q29:S29) -> 6 | U29: =IF(ISERR(Q29/$T29*100),0,Q29/$T29*100) -> 100 | V29: =IF(ISERR(R29/$T29*100),0,R29/$T29*100) -> 0 | W29: =IF(ISERR(S29/$T29*100),0,S29/$T29*100) -> 0 | X29: =+L29 -> 6 | Y29: =+U29+V29+W29 -> 100 | Z29: =IF(ISERROR(VLOOKUP($B29,ResultxMacroproceso!$A:$E,3,FALSE)),0,VLOOKUP($B29,ResultxMacroproceso!$A:$E,3,FALSE)) -> 5 | AA29: =IF(ISERROR(VLOOKUP($B29,ResultxMacroproceso!$A:$E,4,FALSE)),0,VLOOKUP($B29,ResultxMacroproceso!$A:$E,4,FALSE)) -> 0 | AB29: =IF(ISERROR(VLOOKUP($B29,ResultxMacroproceso!$A:$E,5,FALSE)),0,VLOOKUP($B29,ResultxMacroproceso!$A:$E,5,FALSE)) -> 0 | AC29: =+Z29+AA29+AB29 -> 5 | AD29: =IF(ISERROR(+U29/100*X29),0,+U29/100*X29) -> 6 | AE29: =IF(ISERROR(+V29/100*X29),0,+V29/100*X29) -> 0 | AF29: =IF(ISERROR(+W29/100*X29),0,+W29/100*X29) -> 0 | AG29: =SUM(AD29:AF29) -> 6 | AH29: =IF(ISERROR(+Z29*AD29/I29),0,+Z29*AD29/I29) -> 5 | AI29: =IF(ISERROR(+AA29*AE29/J29),0,+AA29*AE29/J29) -> 0 | AJ29: =IF(ISERROR(+AB29*AF29/K29),0,+AB29*AF29/K29) -> 0 | AK29: =+AH29+AI29+AJ29 -> 5 | AL29: 2.5 | AM29: =IF(D29=0,0,IF(ISERROR(+AL29*$AG$30/100),0,+AL29*$AG$30/100)) -> 6.6 | AN29: =IF(ISERROR(+AK29*AM29/AG29),0,+AK29*AM29/AG29) -> 5.5 | AO29: =IF(ISERROR(AN29*100/AM29),0,+AN29*100/AM29) -> 83.333333 | AR29: =IF(ISERROR(+AQ29*$AP$30/100),0,ROUND(+AQ29*$AP$30/100,2)) -> 0 | AS29: =SUM(AN30:AN39) -> 151.20139 | AT29: =IF(ISERROR(AS29*AR29/AP29),0,ROUND(AS29*AR29/AP29,2)) -> 0 | AU29: =IF(ISERROR(AT29*100/AR29),0,+AT29*100/AR29) -> 0
C30: Total | D30: =SUM(D8:D29) -> 132 | E30: =SUM(E8:E29) -> 63 | F30: =SUM(F8:F29) -> 54 | G30: =SUM(G8:G29) -> 15 | H30: =SUM(H8:H29) -> 132 | I30: =SUM(I8:I29) -> 126 | J30: =SUM(J8:J29) -> 108 | K30: =SUM(K8:K29) -> 30 | ... AN30: =SUM(AN8:AN29) -> 151.20139 | AP30: =SUM(AP8:AP29) -> 200.64 | AQ30: =SUM(AQ8:AQ29) -> 100 | AR30: =SUM(AR8:AR29) -> 200.64 | AS30: =SUM(AS8:AS29) -> 1680.0375 | AT30: =SUM(AT8:AT29) -> 150.87
AR33: Puntaje Final (%) | AT33: =IF(ISERROR(ROUND(AT30*100/AR30,0)),0,ROUND(AT30*100/AR30,0)) -> 75
E34: Nro criterios maximos | I34: Puntaje Maximo Por Tipo | M34: Factores | Q34: Puntaje Maximo aplicando los factores | U34: Proporción de Puntajes aplicando los factores | Z34: Puntaje obtenido | AD34: Puntaje Maximo según proporción | AH34: Puntaje obtenido según proporción | AL34: % Macro proceso | AM34: Puntaje Máximo por Macroproceso | AN34: Puntaje Obtenido x Macroproceso aplicando % de Macroproceso | AP34: Puntaje máximo por Categoria | AQ34: % Categoria | AR34: Puntaje Máximo por Categoría aplicando %Categoria | AS34: Puntaje obtenido por Categoría | AT34: Puntaje Obtenido
E38: Se obtiene del formato por Tipo de establecimiento. Según Estructura, Proceso y Resultado | I38: Se obtiene sumando el puntaje maximo (2) de cada criterio | M38: Peso o factor de los criterios según pertenezc a Estructura, Proceso o Resultado | Q38: Se obtiene multiplicando el Puntaje máximo (por Tipo) por el Factor (por Tipo) | U38: Es la proporción en puntaje entre el Puntaje Maximo aplicando los factores divido entre la Suma del Puntaje Maximo aplicando los factores | Z38: Es la suma de los puntajes obtenidos en la aplicación de los formatos (digitado por el usuario) | AD38: Es la proporcion en puntaje original. Se obtiene Diviendo la Proporción de Puntajes aplicando factores por Tipo divido entre la Suma de Puntajes aplicando factores | AH38: Es el puntaje obtenido multiplicado por el Puntaje máximo según proporción y dividido entre el Puntaje Máximo por Tipo | AL38: Peso de cada macroproceso | AM38: Se obtiene multiplicando el % Macro Proceso por Suma Total Puntaje Máximo según proporción entre 100 | AN38: Se multiplica el Puntaje obtenido según proporción por el Puntaje Máximo por Macroproceso aplicando % Macroproceso entre el Puntaje Máximo según proporción | AP38: Se suma el Puntaje maximo por Macroproceso aplicando % Macroproceso según Categoria | AQ38: Peso de cada Categoria (GERENCIA, PRESTACION, APOYO) | AR38: Se multiplica %Categoria por Suma Total de Puntaje Máximo por Categoría entre 100 | AS38: Se suma el Puntaje obtenido x Macroproceso aplicando % de Macroproceso según categoria | AT38: Se multiplica Puntaje obtenido x categoria Por Puntaje Max x Categoria aplicando %Categoria entre Puntaje Max. Por Categoria

Sheet PuntajexEstandares
B1: Establecimiento : | D1: 00001426-PUESTO DE SALUD LARI
B2: Tipo Establec : | D2: I-2
B3: Fase: | D3: AutoEvaluación
B4: Año: | D4: 2025
B5: Periodo : | D5: 1
G6: N° total Criterios | K6: PMT=Punt.max.xTipo | O6: Factores | S6: Puntaje Max.Con Coefic. | W6: PTC=Proporc.del tipo de criterio | AB6: Puntaje evaluacion | AF6: Puntaje Maximo por Estandar | AJ6: Puntaje obtenido por Estandar
B7: Cod Macro | C7: Macroprocesos | D7: Cod Estandar | E7: Estandar | F7: Crit. Eval | G7: E | H7: P | I7: R | J7: T | K7: E | L7: P | M7: R | N7: T | O7: E | P7: P | Q7: R | R7: T | S7: E | T7: P | U7: R | V7: T | W7: E | X7: P | Y7: R | Z7: T | AB7: E | AC7: P | AD7: R | AE7: T | AF7: E | AG7: P | AH7: R | AI7: T | AJ7: E | AK7: P | AL7: R | AM7: T
B8: DIR | C8: Direccionamiento | D8: DIR-1 | E8: El establecimiento de salud define y comunica su plan estratégico, operativo y de contingencia; y éstos están orientados a resolver los problemas relacionados con la salud de la población. | F8: =IF(ISERROR(VLOOKUP($D8,CriteriosxEstandares!$A:$E,2,FALSE)),0,VLOOKUP($D8,CriteriosxEstandares!$A:$E,2,FALSE)) -> 6 | G8: =IF(ISERROR(VLOOKUP($D8,CriteriosxEstandares!$A:$E,3,FALSE)),0,VLOOKUP($D8,CriteriosxEstandares!$A:$E,3,FALSE)) -> 4 | H8: =IF(ISERROR(VLOOKUP($D8,CriteriosxEstandares!$A:$E,4,FALSE)),0,VLOOKUP($D8,CriteriosxEstandares!$A:$E,4,FALSE)) -> 2 | I8: =IF(ISERROR(VLOOKUP($D8,CriteriosxEstandares!$A:$E,5,FALSE)),0,VLOOKUP($D8,CriteriosxEstandares!$A:$E,5,FALSE)) -> 0 | J8: =SUM(G8:I8) -> 6 | K8: =+G8*2 -> 8 | L8: =+H8*2 -> 4 | M8: =+I8*2 -> 0 | N8: =+K8+L8+M8 -> 12 | O8: 1 | P8: 2 | Q8: 3 | R8: =SUM(O8:Q8) -> 6 | S8: =+K8*O8 -> 8 | T8: =+L8*P8 -> 8 | U8: =+M8*Q8 -> 0 | V8: =SUM(S8:U8) -> 16 | W8: =IF(ISERR(S8/$V8*100),0,S8/$V8*100) -> 50 | X8: =IF(ISERR(T8/$V8*100),0,T8/$V8*100) -> 50 | Y8: =IF(ISERR(U8/$V8*100),0,U8/$V8*100) -> 0 | Z8: =+N8 -> 12 | AA8: =SUM(W8:Y8) -> 100 | AB8: =IF(ISERROR(VLOOKUP($D8,ResultxEstandar!$A:$E,3,FALSE)),0,VLOOKUP($D8,ResultxEstandar!$A:$E,3,FALSE)) -> 5 | AC8: =IF(ISERROR(VLOOKUP($D8,ResultxEstandar!$A:$E,4,FALSE)),0,VLOOKUP($D8,ResultxEstandar!$A:$E,4,FALSE)) -> 3 | AD8: =IF(ISERROR(VLOOKUP($D8,ResultxEstandar!$A:$E,5,FALSE)),0,VLOOKUP($D8,ResultxEstandar!$A:$E,5,FALSE)) -> 0 | AE8: =ROUND(SUM(AB8:AD8),2) -> 8 | AF8: =IF(ISERROR(+W8/100*Z8),0,+W8/100*Z8) -> 6 | AG8: =IF(ISERROR(+X8/100*Z8),0,+X8/100*Z8) -> 6 | AH8: =IF(ISERROR(+Y8/100*Z8),0,+Y8/100*Z8) -> 0 | AI8: =ROUND(SUM(AF8:AH8),2) -> 12 | AJ8: =IF(ISERROR(+AB8*AF8/K8),0,+AB8*AF8/K8) -> 3.75 | AK8: =IF(ISERROR(+AC8*AG8/L8),0,+AC8*AG8/L8) -> 4.5 | AL8: =IF(ISERROR(+AD8*AH8/M8),0,+AD8*AH8/M8) -> 0 | AM8: =ROUND(SUM(AJ8:AL8),2) -> 8.25
D9: DIR-2 | E9: Las actividades del plan son asignadas formalmente a responsables quienes demuestran decisiones tomadas que han mejorado la atención de los usuarios externos. | F9: =IF(ISERROR(VLOOKUP($D9,CriteriosxEstandares!$A:$E,2,FALSE)),0,VLOOKUP($D9,CriteriosxEstandares!$A:$E,2,FALSE)) -> 3 | G9: =IF(ISERROR(VLOOKUP($D9,CriteriosxEstandares!$A:$E,3,FALSE)),0,VLOOKUP($D9,CriteriosxEstandares!$A:$E,3,FALSE)) -> 1 | H9: =IF(ISERROR(VLOOKUP($D9,CriteriosxEstandares!$A:$E,4,FALSE)),0,VLOOKUP($D9,CriteriosxEstandares!$A:$E,4,FALSE)) -> 2 | I9: =IF(ISERROR(VLOOKUP($D9,CriteriosxEstandares!$A:$E,5,FALSE)),0,VLOOKUP($D9,CriteriosxEstandares!$A:$E,5,FALSE)) -> 0 | J9: =SUM(G9:I9) -> 3 | K9: =+G9*2 -> 2 | L9: =+H9*2 -> 4 | M9: =+I9*2 -> 0 | N9: =+K9+L9+M9 -> 6 | O9: 1 | P9: 2 | Q9: 3 | R9: =SUM(O9:Q9) -> 6 | S9: =+K9*O9 -> 2 | T9: =+L9*P9 -> 8 | U9: =+M9*Q9 -> 0 | V9: =SUM(S9:U9) -> 10 | W9: =IF(ISERR(S9/$V9*100),0,S9/$V9*100) -> 20 | X9: =IF(ISERR(T9/$V9*100),0,T9/$V9*100) -> 80 | Y9: =IF(ISERR(U9/$V9*100),0,U9/$V9*100) -> 0 | Z9: =+N9 -> 6 | AA9: =SUM(W9:Y9) -> 100 | AB9: =IF(ISERROR(VLOOKUP($D9,ResultxEstandar!$A:$E,3,FALSE)),0,VLOOKUP($D9,ResultxEstandar!$A:$E,3,FALSE)) -> 1 | AC9: =IF(ISERROR(VLOOKUP($D9,ResultxEstandar!$A:$E,4,FALSE)),0,VLOOKUP($D9,ResultxEstandar!$A:$E,4,FALSE)) -> 2 | AD9: =IF(ISERROR(VLOOKUP($D9,ResultxEstandar!$A:$E,5,FALSE)),0,VLOOKUP($D9,ResultxEstandar!$A:$E,5,FALSE)) -> 0 | AE9: =ROUND(SUM(AB9:AD9),2) -> 3 | AF9: =IF(ISERROR(+W9/100*Z9),0,+W9/100*Z9) -> 1.2 | AG9: =IF(ISERROR(+X9/100*Z9),0,+X9/100*Z9) -> 4.8 | AH9: =IF(ISERROR(+Y9/100*Z9),0,+Y9/100*Z9) -> 0 | AI9: =ROUND(SUM(AF9:AH9),2) -> 6 | AJ9: =IF(ISERROR(+AB9*AF9/K9),0,+AB9*AF9/K9) -> 0.6 | AK9: =IF(ISERROR(+AC9*AG9/L9),0,+AC9*AG9/L9) -> 2.4 | AL9: =IF(ISERROR(+AD9*AH9/M9),0,+AD9*AH9/M9) -> 0 | AM9: =ROUND(SUM(AJ9:AL9),2) -> 3
B10: GRH | C10: Gestión de recursos humanos | D10: GRH-1 | E10: El establecimiento de salud está organizado para seleccionar e incorporar recurso humano para el cumplimiento de los objetivos y metas institucionales. | F10: =IF(ISERROR(VLOOKUP($D10,CriteriosxEstandares!$A:$E,2,FALSE)),0,VLOOKUP($D10,CriteriosxEstandares!$A:$E,2,FALSE)) -> 2 | G10: =IF(ISERROR(VLOOKUP($D10,CriteriosxEstandares!$A:$E,3,FALSE)),0,VLOOKUP($D10,CriteriosxEstandares!$A:$E,3,FALSE)) -> 2 | H10: =IF(ISERROR(VLOOKUP($D10,CriteriosxEstandares!$A:$E,4,FALSE)),0,VLOOKUP($D10,CriteriosxEstandares!$A:$E,4,FALSE)) -> 0 | I10: =IF(ISERROR(VLOOKUP($D10,CriteriosxEstandares!$A:$E,5,FALSE)),0,VLOOKUP($D10,CriteriosxEstandares!$A:$E,5,FALSE)) -> 0 | J10: =SUM(G10:I10) -> 2 | K10: =+G10*2 -> 4 | L10: =+H10*2 -> 0 | M10: =+I10*2 -> 0 | N10: =+K10+L10+M10 -> 4 | O10: 1 | P10: 2 | Q10: 3 | R10: =SUM(O10:Q10) -> 6 | S10: =+K10*O10 -> 4 | T10: =+L10*P10 -> 0 | U10: =+M10*Q10 -> 0 | V10: =SUM(S10:U10) -> 4 | W10: =IF(ISERR(S10/$V10*100),0,S10/$V10*100) -> 100 | X10: =IF(ISERR(T10/$V10*100),0,T10/$V10*100) -> 0 | Y10: =IF(ISERR(U10/$V10*100),0,U10/$V10*100) -> 0 | Z10: =+N10 -> 4 | AA10: =SUM(W10:Y10) -> 100 | AB10: =IF(ISERROR(VLOOKUP($D10,ResultxEstandar!$A:$E,3,FALSE)),0,VLOOKUP($D10,ResultxEstandar!$A:$E,3,FALSE)) -> 3 | AC10: =IF(ISERROR(VLOOKUP($D10,ResultxEstandar!$A:$E,4,FALSE)),0,VLOOKUP($D10,ResultxEstandar!$A:$E,4,FALSE)) -> 0 | AD10: =IF(ISERROR(VLOOKUP($D10,ResultxEstandar!$A:$E,5,FALSE)),0,VLOOKUP($D10,ResultxEstandar!$A:$E,5,FALSE)) -> 0 | AE10: =ROUND(SUM(AB10:AD10),2) -> 3 | AF10: =IF(ISERROR(+W10/100*Z10),0,+W10/100*Z10) -> 4 | AG10: =IF(ISERROR(+X10/100*Z10),0,+X10/100*Z10) -> 0 | AH10: =IF(ISERROR(+Y10/100*Z10),0,+Y10/100*Z10) -> 0 | AI10: =ROUND(SUM(AF10:AH10),2) -> 4 | AJ10: =IF(ISERROR(+AB10*AF10/K10),0,+AB10*AF10/K10) -> 3 | AK10: =IF(ISERROR(+AC10*AG10/L10),0,+AC10*AG10/L10) -> 0 | AL10: =IF(ISERROR(+AD10*AH10/M10),0,+AD10*AH10/M10) -> 0 | AM10: =ROUND(SUM(AJ10:AL10),2) -> 3
D11: GRH-2 | E11: El(los) equipo(s) del establecimiento de salud participan en las decisiones y análisis de la situación institucional. | F11: =IF(ISERROR(VLOOKUP($D11,CriteriosxEstandares!$A:$E,2,FALSE)),0,VLOOKUP($D11,CriteriosxEstandares!$A:$E,2,FALSE)) -> 2 | G11: =IF(ISERROR(VLOOKUP($D11,CriteriosxEstandares!$A:$E,3,FALSE)),0,VLOOKUP($D11,CriteriosxEstandares!$A:$E,3,FALSE)) -> 0 | H11: =IF(ISERROR(VLOOKUP($D11,CriteriosxEstandares!$A:$E,4,FALSE)),0,VLOOKUP($D11,CriteriosxEstandares!$A:$E,4,FALSE)) -> 2 | I11: =IF(ISERROR(VLOOKUP($D11,CriteriosxEstandares!$A:$E,5,FALSE)),0,VLOOKUP($D11,CriteriosxEstandares!$A:$E,5,FALSE)) -> 0 | J11: =SUM(G11:I11) -> 2 | K11: =+G11*2 -> 0 | L11: =+H11*2 -> 4 | M11: =+I11*2 -> 0 | N11: =+K11+L11+M11 -> 4 | O11: 1 | P11: 2 | Q11: 3 | R11: =SUM(O11:Q11) -> 6 | S11: =+K11*O11 -> 0 | T11: =+L11*P11 -> 8 | U11: =+M11*Q11 -> 0 | V11: =SUM(S11:U11) -> 8 | W11: =IF(ISERR(S11/$V11*100),0,S11/$V11*100) -> 0 | X11: =IF(ISERR(T11/$V11*100),0,T11/$V11*100) -> 100 | Y11: =IF(ISERR(U11/$V11*100),0,U11/$V11*100) -> 0 | Z11: =+N11 -> 4 | AA11: =SUM(W11:Y11) -> 100 | AB11: =IF(ISERROR(VLOOKUP($D11,ResultxEstandar!$A:$E,3,FALSE)),0,VLOOKUP($D11,ResultxEstandar!$A:$E,3,FALSE)) -> 0 | AC11: =IF(ISERROR(VLOOKUP($D11,ResultxEstandar!$A:$E,4,FALSE)),0,VLOOKUP($D11,ResultxEstandar!$A:$E,4,FALSE)) -> 3 | AD11: =IF(ISERROR(VLOOKUP($D11,ResultxEstandar!$A:$E,5,FALSE)),0,VLOOKUP($D11,ResultxEstandar!$A:$E,5,FALSE)) -> 0 | AE11: =ROUND(SUM(AB11:AD11),2) -> 3 | AF11: =IF(ISERROR(+W11/100*Z11),0,+W11/100*Z11) -> 0 | AG11: =IF(ISERROR(+X11/100*Z11),0,+X11/100*Z11) -> 4 | AH11: =IF(ISERROR(+Y11/100*Z11),0,+Y11/100*Z11) -> 0 | AI11: =ROUND(SUM(AF11:AH11),2) -> 4 | AJ11: =IF(ISERROR(+AB11*AF11/K11),0,+AB11*AF11/K11) -> 0 | AK11: =IF(ISERROR(+AC11*AG11/L11),0,+AC11*AG11/L11) -> 3 | AL11: =IF(ISERROR(+AD11*AH11/M11),0,+AD11*AH11/M11) -> 0 | AM11: =ROUND(SUM(AJ11:AL11),2) -> 3
D12: GRH-3 | E12: El establecimiento de salud dispone de medidas de seguridad para la salud del personal. | F12: =IF(ISERROR(VLOOKUP($D12,CriteriosxEstandares!$A:$E,2,FALSE)),0,VLOOKUP($D12,CriteriosxEstandares!$A:$E,2,FALSE)) -> 2 | G12: =IF(ISERROR(VLOOKUP($D12,CriteriosxEstandares!$A:$E,3,FALSE)),0,VLOOKUP($D12,CriteriosxEstandares!$A:$E,3,FALSE)) -> 2 | H12: =IF(ISERROR(VLOOKUP($D12,CriteriosxEstandares!$A:$E,4,FALSE)),0,VLOOKUP($D12,CriteriosxEstandares!$A:$E,4,FALSE)) -> 0 | I12: =IF(ISERROR(VLOOKUP($D12,CriteriosxEstandares!$A:$E,5,FALSE)),0,VLOOKUP($D12,CriteriosxEstandares!$A:$E,5,FALSE)) -> 0 | J12: =SUM(G12:I12) -> 2 | K12: =+G12*2 -> 4 | L12: =+H12*2 -> 0 | M12: =+I12*2 -> 0 | N12: =+K12+L12+M12 -> 4 | O12: 1 | P12: 2 | Q12: 3 | R12: =SUM(O12:Q12) -> 6 | S12: =+K12*O12 -> 4 | T12: =+L12*P12 -> 0 | U12: =+M12*Q12 -> 0 | V12: =SUM(S12:U12) -> 4 | W12: =IF(ISERR(S12/$V12*100),0,S12/$V12*100) -> 100 | X12: =IF(ISERR(T12/$V12*100),0,T12/$V12*100) -> 0 | Y12: =IF(ISERR(U12/$V12*100),0,U12/$V12*100) -> 0 | Z12: =+N12 -> 4 | AA12: =SUM(W12:Y12) -> 100 | AB12: =IF(ISERROR(VLOOKUP($D12,ResultxEstandar!$A:$E,3,FALSE)),0,VLOOKUP($D12,ResultxEstandar!$A:$E,3,FALSE)) -> 4 | AC12: =IF(ISERROR(VLOOKUP($D12,ResultxEstandar!$A:$E,4,FALSE)),0,VLOOKUP($D12,ResultxEstandar!$A:$E,4,FALSE)) -> 0 | AD12: =IF(ISERROR(VLOOKUP($D12,ResultxEstandar!$A:$E,5,FALSE)),0,VLOOKUP($D12,ResultxEstandar!$A:$E,5,FALSE)) -> 0 | AE12: =ROUND(SUM(AB12:AD12),2) -> 4 | AF12: =IF(ISERROR(+W12/100*Z12),0,+W12/100*Z12) -> 4 | AG12: =IF(ISERROR(+X12/100*Z12),0,+X12/100*Z12) -> 0 | AH12: =IF(ISERROR(+Y12/100*Z12),0,+Y12/100*Z12) -> 0 | AI12: =ROUND(SUM(AF12:AH12),2) -> 4 | AJ12: =IF(ISERROR(+AB12*AF12/K12),0,+AB12*AF12/K12) -> 4 | AK12: =IF(ISERROR(+AC12*AG12/L12),0,+AC12*AG12/L12) -> 0 | AL12: =IF(ISERROR(+AD12*AH12/M12),0,+AD12*AH12/M12) -> 0 | AM12: =ROUND(SUM(AJ12:AL12),2) -> 4
D13: GRH-4 | E13: El establecimiento de salud garantiza recursos humanos competentes para prestar atención al usuario. | F13: =IF(ISERROR(VLOOKUP($D13,CriteriosxEstandares!$A:$E,2,FALSE)),0,VLOOKUP($D13,CriteriosxEstandares!$A:$E,2,FALSE)) -> 3 | G13: =IF(ISERROR(VLOOKUP($D13,CriteriosxEstandares!$A:$E,3,FALSE)),0,VLOOKUP($D13,CriteriosxEstandares!$A:$E,3,FALSE)) -> 0 | H13: =IF(ISERROR(VLOOKUP($D13,CriteriosxEstandares!$A:$E,4,FALSE)),0,VLOOKUP($D13,CriteriosxEstandares!$A:$E,4,FALSE)) -> 3 | I13: =IF(ISERROR(VLOOKUP($D13,CriteriosxEstandares!$A:$E,5,FALSE)),0,VLOOKUP($D13,CriteriosxEstandares!$A:$E,5,FALSE)) -> 0 | J13: =SUM(G13:I13) -> 3 | K13: =+G13*2 -> 0 | L13: =+H13*2 -> 6 | M13: =+I13*2 -> 0 | N13: =+K13+L13+M13 -> 6 | O13: 1 | P13: 2 | Q13: 3 | R13: =SUM(O13:Q13) -> 6 | S13: =+K13*O13 -> 0 | T13: =+L13*P13 -> 12 | U13: =+M13*Q13 -> 0 | V13: =SUM(S13:U13) -> 12 | W13: =IF(ISERR(S13/$V13*100),0,S13/$V13*100) -> 0 | X13: =IF(ISERR(T13/$V13*100),0,T13/$V13*100) -> 100 | Y13: =IF(ISERR(U13/$V13*100),0,U13/$V13*100) -> 0 | Z13: =+N13 -> 6 | AA13: =SUM(W13:Y13) -> 100 | AB13: =IF(ISERROR(VLOOKUP($D13,ResultxEstandar!$A:$E,3,FALSE)),0,VLOOKUP($D13,ResultxEstandar!$A:$E,3,FALSE)) -> 0 | AC13: =IF(ISERROR(VLOOKUP($D13,ResultxEstandar!$A:$E,4,FALSE)),0,VLOOKUP($D13,ResultxEstandar!$A:$E,4,FALSE)) -> 2 | AD13: =IF(ISERROR(VLOOKUP($D13,ResultxEstandar!$A:$E,5,FALSE)),0,VLOOKUP($D13,ResultxEstandar!$A:$E,5,FALSE)) -> 0 | AE13: =ROUND(SUM(AB13:AD13),2) -> 2 | AF13: =IF(ISERROR(+W13/100*Z13),0,+W13/100*Z13) -> 0 | AG13: =IF(ISERROR(+X13/100*Z13),0,+X13/100*Z13) -> 6 | AH13: =IF(ISERROR(+Y13/100*Z13),0,+Y13/100*Z13) -> 0 | AI13: =ROUND(SUM(AF13:AH13),2) -> 6 | AJ13: =IF(ISERROR(+AB13*AF13/K13),0,+AB13*AF13/K13) -> 0 | AK13: =IF(ISERROR(+AC13*AG13/L13),0,+AC13*AG13/L13) -> 2 | AL13: =IF(ISERROR(+AD13*AH13/M13),0,+AD13*AH13/M13) -> 0 | AM13: =ROUND(SUM(AJ13:AL13),2) -> 2
B14: GCA | C14: Gestión de la calidad | D14: GCA-1 | E14: El establecimiento de salud está organizado para desarrollar acciones del sistema de gestión de la calidad en salud. | F14: =IF(ISERROR(VLOOKUP($D14,CriteriosxEstandares!$A:$E,2,FALSE)),0,VLOOKUP($D14,CriteriosxEstandares!$A:$E,2,FALSE)) -> 2 | G14: =IF(ISERROR(VLOOKUP($D14,CriteriosxEstandares!$A:$E,3,FALSE)),0,VLOOKUP($D14,CriteriosxEstandares!$A:$E,3,FALSE)) -> 2 | H14: =IF(ISERROR(VLOOKUP($D14,CriteriosxEstandares!$A:$E,4,FALSE)),0,VLOOKUP($D14,CriteriosxEstandares!$A:$E,4,FALSE)) -> 0 | I14: =IF(ISERROR(VLOOKUP($D14,CriteriosxEstandares!$A:$E,5,FALSE)),0,VLOOKUP($D14,CriteriosxEstandares!$A:$E,5,FALSE)) -> 0 | J14: =SUM(G14:I14) -> 2 | K14: =+G14*2 -> 4 | L14: =+H14*2 -> 0 | M14: =+I14*2 -> 0 | N14: =+K14+L14+M14 -> 4 | O14: 1 | P14: 2 | Q14: 3 | R14: =SUM(O14:Q14) -> 6 | S14: =+K14*O14 -> 4 | T14: =+L14*P14 -> 0 | U14: =+M14*Q14 -> 0 | V14: =SUM(S14:U14) -> 4 | W14: =IF(ISERR(S14/$V14*100),0,S14/$V14*100) -> 100 | X14: =IF(ISERR(T14/$V14*100),0,T14/$V14*100) -> 0 | Y14: =IF(ISERR(U14/$V14*100),0,U14/$V14*100) -> 0 | Z14: =+N14 -> 4 | AA14: =SUM(W14:Y14) -> 100 | AB14: =IF(ISERROR(VLOOKUP($D14,ResultxEstandar!$A:$E,3,FALSE)),0,VLOOKUP($D14,ResultxEstandar!$A:$E,3,FALSE)) -> 0 | AC14: =IF(ISERROR(VLOOKUP($D14,ResultxEstandar!$A:$E,4,FALSE)),0,VLOOKUP($D14,ResultxEstandar!$A:$E,4,FALSE)) -> 0 | AD14: =IF(ISERROR(VLOOKUP($D14,ResultxEstandar!$A:$E,5,FALSE)),0,VLOOKUP($D14,ResultxEstandar!$A:$E,5,FALSE)) -> 0 | AE14: =ROUND(SUM(AB14:AD14),2) -> 0 | AF14: =IF(ISERROR(+W14/100*Z14),0,+W14/100*Z14) -> 4 | AG14: =IF(ISERROR(+X14/100*Z14),0,+X14/100*Z14) -> 0 | AH14: =IF(ISERROR(+Y14/100*Z14),0,+Y14/100*Z14) -> 0 | AI14: =ROUND(SUM(AF14:AH14),2) -> 4 | AJ14: =IF(ISERROR(+AB14*AF14/K14),0,+AB14*AF14/K14) -> 0 | AK14: =IF(ISERROR(+AC14*AG14/L14),0,+AC14*AG14/L14) -> 0 | AL14: =IF(ISERROR(+AD14*AH14/M14),0,+AD14*AH14/M14) -> 0 | AM14: =ROUND(SUM(AJ14:AL14),2) -> 0
D15: GCA-2 | E15: El establecimiento tiene definido e implementa mecanismos para responder a las necesidades y expectativas de los usuarios. | F15: =IF(ISERROR(VLOOKUP($D15,CriteriosxEstandares!$A:$E,2,FALSE)),0,VLOOKUP($D15,CriteriosxEstandares!$A:$E,2,FALSE)) -> 8 | G15: =IF(ISERROR(VLOOKUP($D15,CriteriosxEstandares!$A:$E,3,FALSE)),0,VLOOKUP($D15,CriteriosxEstandares!$A:$E,3,FALSE)) -> 4 | H15: =IF(ISERROR(VLOOKUP($D15,CriteriosxEstandares!$A:$E,4,FALSE)),0,VLOOKUP($D15,CriteriosxEstandares!$A:$E,4,FALSE)) -> 4 | I15: =IF(ISERROR(VLOOKUP($D15,CriteriosxEstandares!$A:$E,5,FALSE)),0,VLOOKUP($D15,CriteriosxEstandares!$A:$E,5,FALSE)) -> 0 | J15: =SUM(G15:I15) -> 8 | K15: =+G15*2 -> 8 | L15: =+H15*2 -> 8 | M15: =+I15*2 -> 0 | N15: =+K15+L15+M15 -> 16 | O15: 1 | P15: 2 | Q15: 3 | R15: =SUM(O15:Q15) -> 6 | S15: =+K15*O15 -> 8 | T15: =+L15*P15 -> 16 | U15: =+M15*Q15 -> 0 | V15: =SUM(S15:U15) -> 24 | W15: =IF(ISERR(S15/$V15*100),0,S15/$V15*100) -> 33.333333 | X15: =IF(ISERR(T15/$V15*100),0,T15/$V15*100) -> 66.666667 | Y15: =IF(ISERR(U15/$V15*100),0,U15/$V15*100) -> 0 | Z15: =+N15 -> 16 | AA15: =SUM(W15:Y15) -> 100 | AB15: =IF(ISERROR(VLOOKUP($D15,ResultxEstandar!$A:$E,3,FALSE)),0,VLOOKUP($D15,ResultxEstandar!$A:$E,3,FALSE)) -> 7 | AC15: =IF(ISERROR(VLOOKUP($D15,ResultxEstandar!$A:$E,4,FALSE)),0,VLOOKUP($D15,ResultxEstandar!$A:$E,4,FALSE)) -> 6 | AD15: =IF(ISERROR(VLOOKUP($D15,ResultxEstandar!$A:$E,5,FALSE)),0,VLOOKUP($D15,ResultxEstandar!$A:$E,5,FALSE)) -> 0 | AE15: =ROUND(SUM(AB15:AD15),2) -> 13 | AF15: =IF(ISERROR(+W15/100*Z15),0,+W15/100*Z15) -> 5.3333333 | AG15: =IF(ISERROR(+X15/100*Z15),0,+X15/100*Z15) -> 10.666667 | AH15: =IF(ISERROR(+Y15/100*Z15),0,+Y15/100*Z15) -> 0 | AI15: =ROUND(SUM(AF15:AH15),2) -> 16 | AJ15: =IF(ISERROR(+AB15*AF15/K15),0,+AB15*AF15/K15) -> 4.6666667 | AK15: =IF(ISERROR(+AC15*AG15/L15),0,+AC15*AG15/L15) -> 8 | AL15: =IF(ISERROR(+AD15*AH15/M15),0,+AD15*AH15/M15) -> 0 | AM15: =ROUND(SUM(AJ15:AL15),2) -> 12.67
D16: GCA-3 | E16: El establecimiento de salud evalúa la satisfacción del usuario interno y externo y desarrolla acciones de mejora | F16: =IF(ISERROR(VLOOKUP($D16,CriteriosxEstandares!$A:$E,2,FALSE)),0,VLOOKUP($D16,CriteriosxEstandares!$A:$E,2,FALSE)) -> 8 | G16: =IF(ISERROR(VLOOKUP($D16,CriteriosxEstandares!$A:$E,3,FALSE)),0,VLOOKUP($D16,CriteriosxEstandares!$A:$E,3,FALSE)) -> 0 | H16: =IF(ISERROR(VLOOKUP($D16,CriteriosxEstandares!$A:$E,4,FALSE)),0,VLOOKUP($D16,CriteriosxEstandares!$A:$E,4,FALSE)) -> 1 | I16: =IF(ISERROR(VLOOKUP($D16,CriteriosxEstandares!$A:$E,5,FALSE)),0,VLOOKUP($D16,CriteriosxEstandares!$A:$E,5,FALSE)) -> 7 | J16: =SUM(G16:I16) -> 8 | K16: =+G16*2 -> 0 | L16: =+H16*2 -> 2 | M16: =+I16*2 -> 14 | N16: =+K16+L16+M16 -> 16 | O16: 1 | P16: 2 | Q16: 3 | R16: =SUM(O16:Q16) -> 6 | S16: =+K16*O16 -> 0 | T16: =+L16*P16 -> 4 | U16: =+M16*Q16 -> 42 | V16: =SUM(S16:U16) -> 46 | W16: =IF(ISERR(S16/$V16*100),0,S16/$V16*100) -> 0 | X16: =IF(ISERR(T16/$V16*100),0,T16/$V16*100) -> 8.6956522 | Y16: =IF(ISERR(U16/$V16*100),0,U16/$V16*100) -> 91.304348 | Z16: =+N16 -> 16 | AA16: =SUM(W16:Y16) -> 100 | AB16: =IF(ISERROR(VLOOKUP($D16,ResultxEstandar!$A:$E,3,FALSE)),0,VLOOKUP($D16,ResultxEstandar!$A:$E,3,FALSE)) -> 0 | AC16: =IF(ISERROR(VLOOKUP($D16,ResultxEstandar!$A:$E,4,FALSE)),0,VLOOKUP($D16,ResultxEstandar!$A:$E,4,FALSE)) -> 1 | AD16: =IF(ISERROR(VLOOKUP($D16,ResultxEstandar!$A:$E,5,FALSE)),0,VLOOKUP($D16,ResultxEstandar!$A:$E,5,FALSE)) -> 13 | AE16: =ROUND(SUM(AB16:AD16),2) -> 14 | AF16: =IF(ISERROR(+W16/100*Z16),0,+W16/100*Z16) -> 0 | AG16: =IF(ISERROR(+X16/100*Z16),0,+X16/100*Z16) -> 1.3913043 | AH16: =IF(ISERROR(+Y16/100*Z16),0,+Y16/100*Z16) -> 14.608696 | AI16: =ROUND(SUM(AF16:AH16),2) -> 16 | AJ16: =IF(ISERROR(+AB16*AF16/K16),0,+AB16*AF16/K16) -> 0 | AK16: =IF(ISERROR(+AC16*AG16/L16),0,+AC16*AG16/L16) -> 0.69565217 | AL16: =IF(ISERROR(+AD16*AH16/M16),0,+AD16*AH16/M16) -> 13.565217 | AM16: =ROUND(SUM(AJ16:AL16),2) -> 14.26
B17: MRA | C17: Manejo del riesgo de la atención | D17: MRA-1 | E17: El establecimiento promueve una cultura de gestión de riesgos y logra resultados en la salud. | F17: =IF(ISERROR(VLOOKUP($D17,CriteriosxEstandares!$A:$E,2,FALSE)),0,VLOOKUP($D17,CriteriosxEstandares!$A:$E,2,FALSE)) -> 2 | G17: =IF(ISERROR(VLOOKUP($D17,CriteriosxEstandares!$A:$E,3,FALSE)),0,VLOOKUP($D17,CriteriosxEstandares!$A:$E,3,FALSE)) -> 0 | H17: =IF(ISERROR(VLOOKUP($D17,CriteriosxEstandares!$A:$E,4,FALSE)),0,VLOOKUP($D17,CriteriosxEstandares!$A:$E,4,FALSE)) -> 1 | I17: =IF(ISERROR(VLOOKUP($D17,CriteriosxEstandares!$A:$E,5,FALSE)),0,VLOOKUP($D17,CriteriosxEstandares!$A:$E,5,FALSE)) -> 1 | J17: =SUM(G17:I17) -> 2 | K17: =+G17*2 -> 0 | L17: =+H17*2 -> 2 | M17: =+I17*2 -> 2 | N17: =+K17+L17+M17 -> 4 | O17: 1 | P17: 2 | Q17: 3 | R17: =SUM(O17:Q17) -> 6 | S17: =+K17*O17 -> 0 | T17: =+L17*P17 -> 4 | U17: =+M17*Q17 -> 6 | V17: =SUM(S17:U17) -> 10 | W17: =IF(ISERR(S17/$V17*100),0,S17/$V17*100) -> 0 | X17: =IF(ISERR(T17/$V17*100),0,T17/$V17*100) -> 40 | Y17: =IF(ISERR(U17/$V17*100),0,U17/$V17*100) -> 60 | Z17: =+N17 -> 4 | AA17: =SUM(W17:Y17) -> 100 | AB17: =IF(ISERROR(VLOOKUP($D17,ResultxEstandar!$A:$E,3,FALSE)),0,VLOOKUP($D17,ResultxEstandar!$A:$E,3,FALSE)) -> 0 | AC17: =IF(ISERROR(VLOOKUP($D17,ResultxEstandar!$A:$E,4,FALSE)),0,VLOOKUP($D17,ResultxEstandar!$A:$E,4,FALSE)) -> 1 | AD17: =IF(ISERROR(VLOOKUP($D17,ResultxEstandar!$A:$E,5,FALSE)),0,VLOOKUP($D17,ResultxEstandar!$A:$E,5,FALSE)) -> 2 | AE17: =ROUND(SUM(AB17:AD17),2) -> 3 | AF17: =IF(ISERROR(+W17/100*Z17),0,+W17/100*Z17) -> 0 | AG17: =IF(ISERROR(+X17/100*Z17),0,+X17/100*Z17) -> 1.6 | AH17: =IF(ISERROR(+Y17/100*Z17),0,+Y17/100*Z17) -> 2.4 | AI17: =ROUND(SUM(AF17:AH17),2) -> 4 | AJ17: =IF(ISERROR(+AB17*AF17/K17),0,+AB17*AF17/K17) -> 0 | AK17: =IF(ISERROR(+AC17*AG17/L17),0,+AC17*AG17/L17) -> 0.8 | AL17: =IF(ISERROR(+AD17*AH17/M17),0,+AD17*AH17/M17) -> 2.4 | AM17: =ROUND(SUM(AJ17:AL17),2) -> 3.2
D18: MRA-2 | E18: El establecimiento de salud vela por el cumplimiento de las normas de seguridad relacionadas con la atención en sus distintas fases. | F18: =IF(ISERROR(VLOOKUP($D18,CriteriosxEstandares!$A:$E,2,FALSE)),0,VLOOKUP($D18,CriteriosxEstandares!$A:$E,2,FALSE)) -> 0 | G18: =IF(ISERROR(VLOOKUP($D18,CriteriosxEstandares!$A:$E,3,FALSE)),0,VLOOKUP($D18,CriteriosxEstandares!$A:$E,3,FALSE)) -> 0 | H18: =IF(ISERROR(VLOOKUP($D18,CriteriosxEstandares!$A:$E,4,FALSE)),0,VLOOKUP($D18,CriteriosxEstandares!$A:$E,4,FALSE)) -> 0 | I18: =IF(ISERROR(VLOOKUP($D18,CriteriosxEstandares!$A:$E,5,FALSE)),0,VLOOKUP($D18,CriteriosxEstandares!$A:$E,5,FALSE)) -> 0 | J18: =SUM(G18:I18) -> 0 | K18: =+G18*2 -> 0 | L18: =+H18*2 -> 0 | M18: =+I18*2 -> 0 | N18: =+K18+L18+M18 -> 0 | O18: 1 | P18: 2 | Q18: 3 | R18: =SUM(O18:Q18) -> 6 | S18: =+K18*O18 -> 0 | T18: =+L18*P18 -> 0 | U18: =+M18*Q18 -> 0 | V18: =SUM(S18:U18) -> 0 | W18: =IF(ISERR(S18/$V18*100),0,S18/$V18*100) -> 0 | X18: =IF(ISERR(T18/$V18*100),0,T18/$V18*100) -> 0 | Y18: =IF(ISERR(U18/$V18*100),0,U18/$V18*100) -> 0 | Z18: =+N18 -> 0 | AA18: =SUM(W18:Y18) -> 0 | AB18: =IF(ISERROR(VLOOKUP($D18,ResultxEstandar!$A:$E,3,FALSE)),0,VLOOKUP($D18,ResultxEstandar!$A:$E,3,FALSE)) -> 0 | AC18: =IF(ISERROR(VLOOKUP($D18,ResultxEstandar!$A:$E,4,FALSE)),0,VLOOKUP($D18,ResultxEstandar!$A:$E,4,FALSE)) -> 0 | AD18: =IF(ISERROR(VLOOKUP($D18,ResultxEstandar!$A:$E,5,FALSE)),0,VLOOKUP($D18,ResultxEstandar!$A:$E,5,FALSE)) -> 0 | AE18: =ROUND(SUM(AB18:AD18),2) -> 0 | AF18: =IF(ISERROR(+W18/100*Z18),0,+W18/100*Z18) -> 0 | AG18: =IF(ISERROR(+X18/100*Z18),0,+X18/100*Z18) -> 0 | AH18: =IF(ISERROR(+Y18/100*Z18),0,+Y18/100*Z18) -> 0 | AI18: =ROUND(SUM(AF18:AH18),2) -> 0 | AJ18: =IF(ISERROR(+AB18*AF18/K18),0,+AB18*AF18/K18) -> 0 | AK18: =IF(ISERROR(+AC18*AG18/L18),0,+AC18*AG18/L18) -> 0 | AL18: =IF(ISERROR(+AD18*AH18/M18),0,+AD18*AH18/M18) -> 0 | AM18: =ROUND(SUM(AJ18:AL18),2) -> 0
D19: MRA-3 | E19: El establecimiento cuenta con normas escritas sobre precauciones para el control de infecciones | F19: =IF(ISERROR(VLOOKUP($D19,CriteriosxEstandares!$A:$E,2,FALSE)),0,VLOOKUP($D19,CriteriosxEstandares!$A:$E,2,FALSE)) -> 0 | G19: =IF(ISERROR(VLOOKUP($D19,CriteriosxEstandares!$A:$E,3,FALSE)),0,VLOOKUP($D19,CriteriosxEstandares!$A:$E,3,FALSE)) -> 0 | H19: =IF(ISERROR(VLOOKUP($D19,CriteriosxEstandares!$A:$E,4,FALSE)),0,VLOOKUP($D19,CriteriosxEstandares!$A:$E,4,FALSE)) -> 0 | I19: =IF(ISERROR(VLOOKUP($D19,CriteriosxEstandares!$A:$E,5,FALSE)),0,VLOOKUP($D19,CriteriosxEstandares!$A:$E,5,FALSE)) -> 0 | J19: =SUM(G19:I19) -> 0 | K19: =+G19*2 -> 0 | L19: =+H19*2 -> 0 | M19: =+I19*2 -> 0 | N19: =+K19+L19+M19 -> 0 | O19: 1 | P19: 2 | Q19: 3 | R19: =SUM(O19:Q19) -> 6 | S19: =+K19*O19 -> 0 | T19: =+L19*P19 -> 0 | U19: =+M19*Q19 -> 0 | V19: =SUM(S19:U19) -> 0 | W19: =IF(ISERR(S19/$V19*100),0,S19/$V19*100) -> 0 | X19: =IF(ISERR(T19/$V19*100),0,T19/$V19*100) -> 0 | Y19: =IF(ISERR(U19/$V19*100),0,U19/$V19*100) -> 0 | Z19: =+N19 -> 0 | AA19: =SUM(W19:Y19) -> 0 | AB19: =IF(ISERROR(VLOOKUP($D19,ResultxEstandar!$A:$E,3,FALSE)),0,VLOOKUP($D19,ResultxEstandar!$A:$E,3,FALSE)) -> 0 | AC19: =IF(ISERROR(VLOOKUP($D19,ResultxEstandar!$A:$E,4,FALSE)),0,VLOOKUP($D19,ResultxEstandar!$A:$E,4,FALSE)) -> 0 | AD19: =IF(ISERROR(VLOOKUP($D19,ResultxEstandar!$A:$E,5,FALSE)),0,VLOOKUP($D19,ResultxEstandar!$A:$E,5,FALSE)) -> 0 | AE19: =ROUND(SUM(AB19:AD19),2) -> 0 | AF19: =IF(ISERROR(+W19/100*Z19),0,+W19/100*Z19) -> 0 | AG19: =IF(ISERROR(+X19/100*Z19),0,+X19/100*Z19) -> 0 | AH19: =IF(ISERROR(+Y19/100*Z19),0,+Y19/100*Z19) -> 0 | AI19: =ROUND(SUM(AF19:AH19),2) -> 0 | AJ19: =IF(ISERROR(+AB19*AF19/K19),0,+AB19*AF19/K19) -> 0 | AK19: =IF(ISERROR(+AC19*AG19/L19),0,+AC19*AG19/L19) -> 0 | AL19: =IF(ISERROR(+AD19*AH19/M19),0,+AD19*AH19/M19) -> 0 | AM19: =ROUND(SUM(AJ19:AL19),2) -> 0
D20: MRA-4 | E20: El establecimiento de salud cuenta con procesos para el control de infecciones o enfermedades de transmisión: recolección, análisis y reporte. | F20: =IF(ISERROR(VLOOKUP($D20,CriteriosxEstandares!$A:$E,2,FALSE)),0,VLOOKUP($D20,CriteriosxEstandares!$A:$E,2,FALSE)) -> 0 | G20: =IF(ISERROR(VLOOKUP($D20,CriteriosxEstandares!$A:$E,3,FALSE)),0,VLOOKUP($D20,CriteriosxEstandares!$A:$E,3,FALSE)) -> 0 | H20: =IF(ISERROR(VLOOKUP($D20,CriteriosxEstandares!$A:$E,4,FALSE)),0,VLOOKUP($D20,CriteriosxEstandares!$A:$E,4,FALSE)) -> 0 | I20: =IF(ISERROR(VLOOKUP($D20,CriteriosxEstandares!$A:$E,5,FALSE)),0,VLOOKUP($D20,CriteriosxEstandares!$A:$E,5,FALSE)) -> 0 | J20: =SUM(G20:I20) -> 0 | K20: =+G20*2 -> 0 | L20: =+H20*2 -> 0 | M20: =+I20*2 -> 0 | N20: =+K20+L20+M20 -> 0 | O20: 1 | P20: 2 | Q20: 3 | R20: =SUM(O20:Q20) -> 6 | S20: =+K20*O20 -> 0 | T20: =+L20*P20 -> 0 | U20: =+M20*Q20 -> 0 | V20: =SUM(S20:U20) -> 0 | W20: =IF(ISERR(S20/$V20*100),0,S20/$V20*100) -> 0 | X20: =IF(ISERR(T20/$V20*100),0,T20/$V20*100) -> 0 | Y20: =IF(ISERR(U20/$V20*100),0,U20/$V20*100) -> 0 | Z20: =+N20 -> 0 | AA20: =SUM(W20:Y20) -> 0 | AB20: =IF(ISERROR(VLOOKUP($D20,ResultxEstandar!$A:$E,3,FALSE)),0,VLOOKUP($D20,ResultxEstandar!$A:$E,3,FALSE)) -> 0 | AC20: =IF(ISERROR(VLOOKUP($D20,ResultxEstandar!$A:$E,4,FALSE)),0,VLOOKUP($D20,ResultxEstandar!$A:$E,4,FALSE)) -> 0 | AD20: =IF(ISERROR(VLOOKUP($D20,ResultxEstandar!$A:$E,5,FALSE)),0,VLOOKUP($D20,ResultxEstandar!$A:$E,5,FALSE)) -> 0 | AE20: =ROUND(SUM(AB20:AD20),2) -> 0 | AF20: =IF(ISERROR(+W20/100*Z20),0,+W20/100*Z20) -> 0 | AG20: =IF(ISERROR(+X20/100*Z20),0,+X20/100*Z20) -> 0 | AH20: =IF(ISERROR(+Y20/100*Z20),0,+Y20/100*Z20) -> 0 | AI20: =ROUND(SUM(AF20:AH20),2) -> 0 | AJ20: =IF(ISERROR(+AB20*AF20/K20),0,+AB20*AF20/K20) -> 0 | AK20: =IF(ISERROR(+AC20*AG20/L20),0,+AC20*AG20/L20) -> 0 | AL20: =IF(ISERROR(+AD20*AH20/M20),0,+AD20*AH20/M20) -> 0 | AM20: =ROUND(SUM(AJ20:AL20),2) -> 0
D21: MRA-5 | E21: El equipo de enfermería brinda servicios seguros, competentes y continuos. | F21: =IF(ISERROR(VLOOKUP($D21,CriteriosxEstandares!$A:$E,2,FALSE)),0,VLOOKUP($D21,CriteriosxEstandares!$A:$E,2,FALSE)) -> 0 | G21: =IF(ISERROR(VLOOKUP($D21,CriteriosxEstandares!$A:$E,3,FALSE)),0,VLOOKUP($D21,CriteriosxEstandares!$A:$E,3,FALSE)) -> 0 | H21: =IF(ISERROR(VLOOKUP($D21,CriteriosxEstandares!$A:$E,4,FALSE)),0,VLOOKUP($D21,CriteriosxEstandares!$A:$E,4,FALSE)) -> 0 | I21: =IF(ISERROR(VLOOKUP($D21,CriteriosxEstandares!$A:$E,5,FALSE)),0,VLOOKUP($D21,CriteriosxEstandares!$A:$E,5,FALSE)) -> 0 | J21: =SUM(G21:I21) -> 0 | K21: =+G21*2 -> 0 | L21: =+H21*2 -> 0 | M21: =+I21*2 -> 0 | N21: =+K21+L21+M21 -> 0 | O21: 1 | P21: 2 | Q21: 3 | R21: =SUM(O21:Q21) -> 6 | S21: =+K21*O21 -> 0 | T21: =+L21*P21 -> 0 | U21: =+M21*Q21 -> 0 | V21: =SUM(S21:U21) -> 0 | W21: =IF(ISERR(S21/$V21*100),0,S21/$V21*100) -> 0 | X21: =IF(ISERR(T21/$V21*100),0,T21/$V21*100) -> 0 | Y21: =IF(ISERR(U21/$V21*100),0,U21/$V21*100) -> 0 | Z21: =+N21 -> 0 | AA21: =SUM(W21:Y21) -> 0 | AB21: =IF(ISERROR(VLOOKUP($D21,ResultxEstandar!$A:$E,3,FALSE)),0,VLOOKUP($D21,ResultxEstandar!$A:$E,3,FALSE)) -> 0 | AC21: =IF(ISERROR(VLOOKUP($D21,ResultxEstandar!$A:$E,4,FALSE)),0,VLOOKUP($D21,ResultxEstandar!$A:$E,4,FALSE)) -> 0 | AD21: =IF(ISERROR(VLOOKUP($D21,ResultxEstandar!$A:$E,5,FALSE)),0,VLOOKUP($D21,ResultxEstandar!$A:$E,5,FALSE)) -> 0 | AE21: =ROUND(SUM(AB21:AD21),2) -> 0 | AF21: =IF(ISERROR(+W21/100*Z21),0,+W21/100*Z21) -> 0 | AG21: =IF(ISERROR(+X21/100*Z21),0,+X21/100*Z21) -> 0 | AH21: =IF(ISERROR(+Y21/100*Z21),0,+Y21/100*Z21) -> 0 | AI21: =ROUND(SUM(AF21:AH21),2) -> 0 | AJ21: =IF(ISERROR(+AB21*AF21/K21),0,+AB21*AF21/K21) -> 0 | AK21: =IF(ISERROR(+AC21*AG21/L21),0,+AC21*AG21/L21) -> 0 | AL21: =IF(ISERROR(+AD21*AH21/M21),0,+AD21*AH21/M21) -> 0 | AM21: =ROUND(SUM(AJ21:AL21),2) -> 0
D22: MRA-6 | E22: El establecimiento de salud ha definido un programa de seguridad y salud ocupacional. | F22: =IF(ISERROR(VLOOKUP($D22,CriteriosxEstandares!$A:$E,2,FALSE)),0,VLOOKUP($D22,CriteriosxEstandares!$A:$E,2,FALSE)) -> 7 | G22: =IF(ISERROR(VLOOKUP($D22,CriteriosxEstandares!$A:$E,3,FALSE)),0,VLOOKUP($D22,CriteriosxEstandares!$A:$E,3,FALSE)) -> 3 | H22: =IF(ISERROR(VLOOKUP($D22,CriteriosxEstandares!$A:$E,4,FALSE)),0,VLOOKUP($D22,CriteriosxEstandares!$A:$E,4,FALSE)) -> 4 | I22: =IF(ISERROR(VLOOKUP($D22,CriteriosxEstandares!$A:$E,5,FALSE)),0,VLOOKUP($D22,CriteriosxEstandares!$A:$E,5,FALSE)) -> 0 | J22: =SUM(G22:I22) -> 7 | K22: =+G22*2 -> 6 | L22: =+H22*2 -> 8 | M22: =+I22*2 -> 0 | N22: =+K22+L22+M22 -> 14 | O22: 1 | P22: 2 | Q22: 3 | R22: =SUM(O22:Q22) -> 6 | S22: =+K22*O22 -> 6 | T22: =+L22*P22 -> 16 | U22: =+M22*Q22 -> 0 | V22: =SUM(S22:U22) -> 22 | W22: =IF(ISERR(S22/$V22*100),0,S22/$V22*100) -> 27.272727 | X22: =IF(ISERR(T22/$V22*100),0,T22/$V22*100) -> 72.727273 | Y22: =IF(ISERR(U22/$V22*100),0,U22/$V22*100) -> 0 | Z22: =+N22 -> 14 | AA22: =SUM(W22:Y22) -> 100 | AB22: =IF(ISERROR(VLOOKUP($D22,ResultxEstandar!$A:$E,3,FALSE)),0,VLOOKUP($D22,ResultxEstandar!$A:$E,3,FALSE)) -> 6 | AC22: =IF(ISERROR(VLOOKUP($D22,ResultxEstandar!$A:$E,4,FALSE)),0,VLOOKUP($D22,ResultxEstandar!$A:$E,4,FALSE)) -> 8 | AD22: =IF(ISERROR(VLOOKUP($D22,ResultxEstandar!$A:$E,5,FALSE)),0,VLOOKUP($D22,ResultxEstandar!$A:$E,5,FALSE)) -> 0 | AE22: =ROUND(SUM(AB22:AD22),2) -> 14 | AF22: =IF(ISERROR(+W22/100*Z22),0,+W22/100*Z22) -> 3.8181818 | AG22: =IF(ISERROR(+X22/100*Z22),0,+X22/100*Z22) -> 10.181818 | AH22: =IF(ISERROR(+Y22/100*Z22),0,+Y22/100*Z22) -> 0 | AI22: =ROUND(SUM(AF22:AH22),2) -> 14 | AJ22: =IF(ISERROR(+AB22*AF22/K22),0,+AB22*AF22/K22) -> 3.8181818 | AK22: =IF(ISERROR(+AC22*AG22/L22),0,+AC22*AG22/L22) -> 10.181818 | AL22: =IF(ISERROR(+AD22*AH22/M22),0,+AD22*AH22/M22) -> 0 | AM22: =ROUND(SUM(AJ22:AL22),2) -> 14
D23: MRA-7 | E23: El establecimiento de salud garantiza el control de desechos, residuos y disponibilidad de agua segura. | F23: =IF(ISERROR(VLOOKUP($D23,CriteriosxEstandares!$A:$E,2,FALSE)),0,VLOOKUP($D23,CriteriosxEstandares!$A:$E,2,FALSE)) -> 4 | G23: =IF(ISERROR(VLOOKUP($D23,CriteriosxEstandares!$A:$E,3,FALSE)),0,VLOOKUP($D23,CriteriosxEstandares!$A:$E,3,FALSE)) -> 1 | H23: =IF(ISERROR(VLOOKUP($D23,CriteriosxEstandares!$A:$E,4,FALSE)),0,VLOOKUP($D23,CriteriosxEstandares!$A:$E,4,FALSE)) -> 3 | I23: =IF(ISERROR(VLOOKUP($D23,CriteriosxEstandares!$A:$E,5,FALSE)),0,VLOOKUP($D23,CriteriosxEstandares!$A:$E,5,FALSE)) -> 0 | J23: =SUM(G23:I23) -> 4 | K23: =+G23*2 -> 2 | L23: =+H23*2 -> 6 | M23: =+I23*2 -> 0 | N23: =+K23+L23+M23 -> 8 | O23: 1 | P23: 2 | Q23: 3 | R23: =SUM(O23:Q23) -> 6 | S23: =+K23*O23 -> 2 | T23: =+L23*P23 -> 12 | U23: =+M23*Q23 -> 0 | V23: =SUM(S23:U23) -> 14 | W23: =IF(ISERR(S23/$V23*100),0,S23/$V23*100) -> 14.285714 | X23: =IF(ISERR(T23/$V23*100),0,T23/$V23*100) -> 85.714286 | Y23: =IF(ISERR(U23/$V23*100),0,U23/$V23*100) -> 0 | Z23: =+N23 -> 8 | AA23: =SUM(W23:Y23) -> 100 | AB23: =IF(ISERROR(VLOOKUP($D23,ResultxEstandar!$A:$E,3,FALSE)),0,VLOOKUP($D23,ResultxEstandar!$A:$E,3,FALSE)) -> 2 | AC23: =IF(ISERROR(VLOOKUP($D23,ResultxEstandar!$A:$E,4,FALSE)),0,VLOOKUP($D23,ResultxEstandar!$A:$E,4,FALSE)) -> 6 | AD23: =IF(ISERROR(VLOOKUP($D23,ResultxEstandar!$A:$E,5,FALSE)),0,VLOOKUP($D23,ResultxEstandar!$A:$E,5,FALSE)) -> 0 | AE23: =ROUND(SUM(AB23:AD23),2) -> 8 | AF23: =IF(ISERROR(+W23/100*Z23),0,+W23/100*Z23) -> 1.1428571 | AG23: =IF(ISERROR(+X23/100*Z23),0,+X23/100*Z23) -> 6.8571429 | AH23: =IF(ISERROR(+Y23/100*Z23),0,+Y23/100*Z23) -> 0 | AI23: =ROUND(SUM(AF23:AH23),2) -> 8 | AJ23: =IF(ISERROR(+AB23*AF23/K23),0,+AB23*AF23/K23) -> 1.1428571 | AK23: =IF(ISERROR(+AC23*AG23/L23),0,+AC23*AG23/L23) -> 6.8571429 | AL23: =IF(ISERROR(+AD23*AH23/M23),0,+AD23*AH23/M23) -> 0 | AM23: =ROUND(SUM(AJ23:AL23),2) -> 8
D24: MRA-8 | E24: El establecimiento de salud y gobierno local garantiza el saneamiento básico y disponibilidad de agua segura. | F24: =IF(ISERROR(VLOOKUP($D24,CriteriosxEstandares!$A:$E,2,FALSE)),0,VLOOKUP($D24,CriteriosxEstandares!$A:$E,2,FALSE)) -> 1 | G24: =IF(ISERROR(VLOOKUP($D24,CriteriosxEstandares!$A:$E,3,FALSE)),0,VLOOKUP($D24,CriteriosxEstandares!$A:$E,3,FALSE)) -> 0 | H24: =IF(ISERROR(VLOOKUP($D24,CriteriosxEstandares!$A:$E,4,FALSE)),0,VLOOKUP($D24,CriteriosxEstandares!$A:$E,4,FALSE)) -> 1 | I24: =IF(ISERROR(VLOOKUP($D24,CriteriosxEstandares!$A:$E,5,FALSE)),0,VLOOKUP($D24,CriteriosxEstandares!$A:$E,5,FALSE)) -> 0 | J24: =SUM(G24:I24) -> 1 | K24: =+G24*2 -> 0 | L24: =+H24*2 -> 2 | M24: =+I24*2 -> 0 | N24: =+K24+L24+M24 -> 2 | O24: 1 | P24: 2 | Q24: 3 | R24: =SUM(O24:Q24) -> 6 | S24: =+K24*O24 -> 0 | T24: =+L24*P24 -> 4 | U24: =+M24*Q24 -> 0 | V24: =SUM(S24:U24) -> 4 | W24: =IF(ISERR(S24/$V24*100),0,S24/$V24*100) -> 0 | X24: =IF(ISERR(T24/$V24*100),0,T24/$V24*100) -> 100 | Y24: =IF(ISERR(U24/$V24*100),0,U24/$V24*100) -> 0 | Z24: =+N24 -> 2 | AA24: =SUM(W24:Y24) -> 100 | AB24: =IF(ISERROR(VLOOKUP($D24,ResultxEstandar!$A:$E,3,FALSE)),0,VLOOKUP($D24,ResultxEstandar!$A:$E,3,FALSE)) -> 0 | AC24: =IF(ISERROR(VLOOKUP($D24,ResultxEstandar!$A:$E,4,FALSE)),0,VLOOKUP($D24,ResultxEstandar!$A:$E,4,FALSE)) -> 2 | AD24: =IF(ISERROR(VLOOKUP($D24,ResultxEstandar!$A:$E,5,FALSE)),0,VLOOKUP($D24,ResultxEstandar!$A:$E,5,FALSE)) -> 0 | AE24: =ROUND(SUM(AB24:AD24),2) -> 2 | AF24: =IF(ISERROR(+W24/100*Z24),0,+W24/100*Z24) -> 0 | AG24: =IF(ISERROR(+X24/100*Z24),0,+X24/100*Z24) -> 2 | AH24: =IF(ISERROR(+Y24/100*Z24),0,+Y24/100*Z24) -> 0 | AI24: =ROUND(SUM(AF24:AH24),2) -> 2 | AJ24: =IF(ISERROR(+AB24*AF24/K24),0,+AB24*AF24/K24) -> 0 | AK24: =IF(ISERROR(+AC24*AG24/L24),0,+AC24*AG24/L24) -> 2 | AL24: =IF(ISERROR(+AD24*AH24/M24),0,+AD24*AH24/M24) -> 0 | AM24: =ROUND(SUM(AJ24:AL24),2) -> 2
B25: GSD | C25: Gestión de Seguridad ante desastres | D25: GSD-1 | E25: Se adoptan acciones para la reducción de la vulnerabilidad estructural, no estructural y funcional. | F25: =IF(ISERROR(VLOOKUP($D25,CriteriosxEstandares!$A:$E,2,FALSE)),0,VLOOKUP($D25,CriteriosxEstandares!$A:$E,2,FALSE)) -> 4 | G25: =IF(ISERROR(VLOOKUP($D25,CriteriosxEstandares!$A:$E,3,FALSE)),0,VLOOKUP($D25,CriteriosxEstandares!$A:$E,3,FALSE)) -> 4 | H25: =IF(ISERROR(VLOOKUP($D25,CriteriosxEstandares!$A:$E,4,FALSE)),0,VLOOKUP($D25,CriteriosxEstandares!$A:$E,4,FALSE)) -> 0 | I25: =IF(ISERROR(VLOOKUP($D25,CriteriosxEstandares!$A:$E,5,FALSE)),0,VLOOKUP($D25,CriteriosxEstandares!$A:$E,5,FALSE)) -> 0 | J25: =SUM(G25:I25) -> 4 | K25: =+G25*2 -> 8 | L25: =+H25*2 -> 0 | M25: =+I25*2 -> 0 | N25: =+K25+L25+M25 -> 8 | O25: 1 | P25: 2 | Q25: 3 | R25: =SUM(O25:Q25) -> 6 | S25: =+K25*O25 -> 8 | T25: =+L25*P25 -> 0 | U25: =+M25*Q25 -> 0 | V25: =SUM(S25:U25) -> 8 | W25: =IF(ISERR(S25/$V25*100),0,S25/$V25*100) -> 100 | X25: =IF(ISERR(T25/$V25*100),0,T25/$V25*100) -> 0 | Y25: =IF(ISERR(U25/$V25*100),0,U25/$V25*100) -> 0 | Z25: =+N25 -> 8 | AA25: =SUM(W25:Y25) -> 100 | AB25: =IF(ISERROR(VLOOKUP($D25,ResultxEstandar!$A:$E,3,FALSE)),0,VLOOKUP($D25,ResultxEstandar!$A:$E,3,FALSE)) -> 8 | AC25: =IF(ISERROR(VLOOKUP($D25,ResultxEstandar!$A:$E,4,FALSE)),0,VLOOKUP($D25,ResultxEstandar!$A:$E,4,FALSE)) -> 0 | AD25: =IF(ISERROR(VLOOKUP($D25,ResultxEstandar!$A:$E,5,FALSE)),0,VLOOKUP($D25,ResultxEstandar!$A:$E,5,FALSE)) -> 0 | AE25: =ROUND(SUM(AB25:AD25),2) -> 8 | AF25: =IF(ISERROR(+W25/100*Z25),0,+W25/100*Z25) -> 8 | AG25: =IF(ISERROR(+X25/100*Z25),0,+X25/100*Z25) -> 0 | AH25: =IF(ISERROR(+Y25/100*Z25),0,+Y25/100*Z25) -> 0 | AI25: =ROUND(SUM(AF25:AH25),2) -> 8 | AJ25: =IF(ISERROR(+AB25*AF25/K25),0,+AB25*AF25/K25) -> 8 | AK25: =IF(ISERROR(+AC25*AG25/L25),0,+AC25*AG25/L25) -> 0 | AL25: =IF(ISERROR(+AD25*AH25/M25),0,+AD25*AH25/M25) -> 0 | AM25: =ROUND(SUM(AJ25:AL25),2) -> 8
D26: GSD-2 | E26: Se adoptan acciones de preparación ante situaciones de emergencias y desastres. | F26: =IF(ISERROR(VLOOKUP($D26,CriteriosxEstandares!$A:$E,2,FALSE)),0,VLOOKUP($D26,CriteriosxEstandares!$A:$E,2,FALSE)) -> 4 | G26: =IF(ISERROR(VLOOKUP($D26,CriteriosxEstandares!$A:$E,3,FALSE)),0,VLOOKUP($D26,CriteriosxEstandares!$A:$E,3,FALSE)) -> 1 | H26: =IF(ISERROR(VLOOKUP($D26,CriteriosxEstandares!$A:$E,4,FALSE)),0,VLOOKUP($D26,CriteriosxEstandares!$A:$E,4,FALSE)) -> 3 | I26: =IF(ISERROR(VLOOKUP($D26,CriteriosxEstandares!$A:$E,5,FALSE)),0,VLOOKUP($D26,CriteriosxEstandares!$A:$E,5,FALSE)) -> 0 | J26: =SUM(G26:I26) -> 4 | K26: =+G26*2 -> 2 | L26: =+H26*2 -> 6 | M26: =+I26*2 -> 0 | N26: =+K26+L26+M26 -> 8 | O26: 1 | P26: 2 | Q26: 3 | R26: =SUM(O26:Q26) -> 6 | S26: =+K26*O26 -> 2 | T26: =+L26*P26 -> 12 | U26: =+M26*Q26 -> 0 | V26: =SUM(S26:U26) -> 14 | W26: =IF(ISERR(S26/$V26*100),0,S26/$V26*100) -> 14.285714 | X26: =IF(ISERR(T26/$V26*100),0,T26/$V26*100) -> 85.714286 | Y26: =IF(ISERR(U26/$V26*100),0,U26/$V26*100) -> 0 | Z26: =+N26 -> 8 | AA26: =SUM(W26:Y26) -> 100 | AB26: =IF(ISERROR(VLOOKUP($D26,ResultxEstandar!$A:$E,3,FALSE)),0,VLOOKUP($D26,ResultxEstandar!$A:$E,3,FALSE)) -> 1 | AC26: =IF(ISERROR(VLOOKUP($D26,ResultxEstandar!$A:$E,4,FALSE)),0,VLOOKUP($D26,ResultxEstandar!$A:$E,4,FALSE)) -> 5 | AD26: =IF(ISERROR(VLOOKUP($D26,ResultxEstandar!$A:$E,5,FALSE)),0,VLOOKUP($D26,ResultxEstandar!$A:$E,5,FALSE)) -> 0 | AE26: =ROUND(SUM(AB26:AD26),2) -> 6 | AF26: =IF(ISERROR(+W26/100*Z26),0,+W26/100*Z26) -> 1.1428571 | AG26: =IF(ISERROR(+X26/100*Z26),0,+X26/100*Z26) -> 6.8571429 | AH26: =IF(ISERROR(+Y26/100*Z26),0,+Y26/100*Z26) -> 0 | AI26: =ROUND(SUM(AF26:AH26),2) -> 8 | AJ26: =IF(ISERROR(+AB26*AF26/K26),0,+AB26*AF26/K26) -> 0.57142857 | AK26: =IF(ISERROR(+AC26*AG26/L26),0,+AC26*AG26/L26) -> 5.7142857 | AL26: =IF(ISERROR(+AD26*AH26/M26),0,+AD26*AH26/M26) -> 0 | AM26: =ROUND(SUM(AJ26:AL26),2) -> 6.29
D27: GSD-3 | E27: Se disponen de estrategias y medios para responder ante situaciones de emergencias y desastres. | F27: =IF(ISERROR(VLOOKUP($D27,CriteriosxEstandares!$A:$E,2,FALSE)),0,VLOOKUP($D27,CriteriosxEstandares!$A:$E,2,FALSE)) -> 0 | G27: =IF(ISERROR(VLOOKUP($D27,CriteriosxEstandares!$A:$E,3,FALSE)),0,VLOOKUP($D27,CriteriosxEstandares!$A:$E,3,FALSE)) -> 0 | H27: =IF(ISERROR(VLOOKUP($D27,CriteriosxEstandares!$A:$E,4,FALSE)),0,VLOOKUP($D27,CriteriosxEstandares!$A:$E,4,FALSE)) -> 0 | I27: =IF(ISERROR(VLOOKUP($D27,CriteriosxEstandares!$A:$E,5,FALSE)),0,VLOOKUP($D27,CriteriosxEstandares!$A:$E,5,FALSE)) -> 0 | J27: =SUM(G27:I27) -> 0 | K27: =+G27*2 -> 0 | L27: =+H27*2 -> 0 | M27: =+I27*2 -> 0 | N27: =+K27+L27+M27 -> 0 | O27: 1 | P27: 2 | Q27: 3 | R27: =SUM(O27:Q27) -> 6 | S27: =+K27*O27 -> 0 | T27: =+L27*P27 -> 0 | U27: =+M27*Q27 -> 0 | V27: =SUM(S27:U27) -> 0 | W27: =IF(ISERR(S27/$V27*100),0,S27/$V27*100) -> 0 | X27: =IF(ISERR(T27/$V27*100),0,T27/$V27*100) -> 0 | Y27: =IF(ISERR(U27/$V27*100),0,U27/$V27*100) -> 0 | Z27: =+N27 -> 0 | AA27: =SUM(W27:Y27) -> 0 | AB27: =IF(ISERROR(VLOOKUP($D27,ResultxEstandar!$A:$E,3,FALSE)),0,VLOOKUP($D27,ResultxEstandar!$A:$E,3,FALSE)) -> 0 | AC27: =IF(ISERROR(VLOOKUP($D27,ResultxEstandar!$A:$E,4,FALSE)),0,VLOOKUP($D27,ResultxEstandar!$A:$E,4,FALSE)) -> 0 | AD27: =IF(ISERROR(VLOOKUP($D27,ResultxEstandar!$A:$E,5,FALSE)),0,VLOOKUP($D27,ResultxEstandar!$A:$E,5,FALSE)) -> 0 | AE27: =ROUND(SUM(AB27:AD27),2) -> 0 | AF27: =IF(ISERROR(+W27/100*Z27),0,+W27/100*Z27) -> 0 | AG27: =IF(ISERROR(+X27/100*Z27),0,+X27/100*Z27) -> 0 | AH27: =IF(ISERROR(+Y27/100*Z27),0,+Y27/100*Z27) -> 0 | AI27: =ROUND(SUM(AF27:AH27),2) -> 0 | AJ27: =IF(ISERROR(+AB27*AF27/K27),0,+AB27*AF27/K27) -> 0 | AK27: =IF(ISERROR(+AC27*AG27/L27),0,+AC27*AG27/L27) -> 0 | AL27: =IF(ISERROR(+AD27*AH27/M27),0,+AD27*AH27/M27) -> 0 | AM27: =ROUND(SUM(AJ27:AL27),2) -> 0
B28: CGP | C28: Control de la gestión y prestación | D28: CGP-1 | E28: El establecimiento de salud tiene definido mecanismos establecidos de auditoría, supervisión y evaluación. | F28: =IF(ISERROR(VLOOKUP($D28,CriteriosxEstandares!$A:$E,2,FALSE)),0,VLOOKUP($D28,CriteriosxEstandares!$A:$E,2,FALSE)) -> 2 | G28: =IF(ISERROR(VLOOKUP($D28,CriteriosxEstandares!$A:$E,3,FALSE)),0,VLOOKUP($D28,CriteriosxEstandares!$A:$E,3,FALSE)) -> 2 | H28: =IF(ISERROR(VLOOKUP($D28,CriteriosxEstandares!$A:$E,4,FALSE)),0,VLOOKUP($D28,CriteriosxEstandares!$A:$E,4,FALSE)) -> 0 | I28: =IF(ISERROR(VLOOKUP($D28,CriteriosxEstandares!$A:$E,5,FALSE)),0,VLOOKUP($D28,CriteriosxEstandares!$A:$E,5,FALSE)) -> 0 | J28: =SUM(G28:I28) -> 2 | K28: =+G28*2 -> 4 | L28: =+H28*2 -> 0 | M28: =+I28*2 -> 0 | N28: =+K28+L28+M28 -> 4 | O28: 1 | P28: 2 | Q28: 3 | R28: =SUM(O28:Q28) -> 6 | S28: =+K28*O28 -> 4 | T28: =+L28*P28 -> 0 | U28: =+M28*Q28 -> 0 | V28: =SUM(S28:U28) -> 4 | W28: =IF(ISERR(S28/$V28*100),0,S28/$V28*100) -> 100 | X28: =IF(ISERR(T28/$V28*100),0,T28/$V28*100) -> 0 | Y28: =IF(ISERR(U28/$V28*100),0,U28/$V28*100) -> 0 | Z28: =+N28 -> 4 | AA28: =SUM(W28:Y28) -> 100 | AB28: =IF(ISERROR(VLOOKUP($D28,ResultxEstandar!$A:$E,3,FALSE)),0,VLOOKUP($D28,ResultxEstandar!$A:$E,3,FALSE)) -> 2 | AC28: =IF(ISERROR(VLOOKUP($D28,ResultxEstandar!$A:$E,4,FALSE)),0,VLOOKUP($D28,ResultxEstandar!$A:$E,4,FALSE)) -> 0 | AD28: =IF(ISERROR(VLOOKUP($D28,ResultxEstandar!$A:$E,5,FALSE)),0,VLOOKUP($D28,ResultxEstandar!$A:$E,5,FALSE)) -> 0 | AE28: =ROUND(SUM(AB28:AD28),2) -> 2 | AF28: =IF(ISERROR(+W28/100*Z28),0,+W28/100*Z28) -> 4 | AG28: =IF(ISERROR(+X28/100*Z28),0,+X28/100*Z28) -> 0 | AH28: =IF(ISERROR(+Y28/100*Z28),0,+Y28/100*Z28) -> 0 | AI28: =ROUND(SUM(AF28:AH28),2) -> 4 | AJ28: =IF(ISERROR(+AB28*AF28/K28),0,+AB28*AF28/K28) -> 2 | AK28: =IF(ISERROR(+AC28*AG28/L28),0,+AC28*AG28/L28) -> 0 | AL28: =IF(ISERROR(+AD28*AH28/M28),0,+AD28*AH28/M28) -> 0 | AM28: =ROUND(SUM(AJ28:AL28),2) -> 2
D29: CGP-2 | E29: El establecimiento de salud realiza acciones de auditoría, supervisión y evaluación de acuerdo. | F29: =IF(ISERROR(VLOOKUP($D29,CriteriosxEstandares!$A:$E,2,FALSE)),0,VLOOKUP($D29,CriteriosxEstandares!$A:$E,2,FALSE)) -> 5 | G29: =IF(ISERROR(VLOOKUP($D29,CriteriosxEstandares!$A:$E,3,FALSE)),0,VLOOKUP($D29,CriteriosxEstandares!$A:$E,3,FALSE)) -> 2 | H29: =IF(ISERROR(VLOOKUP($D29,CriteriosxEstandares!$A:$E,4,FALSE)),0,VLOOKUP($D29,CriteriosxEstandares!$A:$E,4,FALSE)) -> 2 | I29: =IF(ISERROR(VLOOKUP($D29,CriteriosxEstandares!$A:$E,5,FALSE)),0,VLOOKUP($D29,CriteriosxEstandares!$A:$E,5,FALSE)) -> 1 | J29: =SUM(G29:I29) -> 5 | K29: =+G29*2 -> 4 | L29: =+H29*2 -> 4 | M29: =+I29*2 -> 2 | N29: =+K29+L29+M29 -> 10 | O29: 1 | P29: 2 | Q29: 3 | R29: =SUM(O29:Q29) -> 6 | S29: =+K29*O29 -> 4 | T29: =+L29*P29 -> 8 | U29: =+M29*Q29 -> 6 | V29: =SUM(S29:U29) -> 18 | W29: =IF(ISERR(S29/$V29*100),0,S29/$V29*100) -> 22.222222 | X29: =IF(ISERR(T29/$V29*100),0,T29/$V29*100) -> 44.444444 | Y29: =IF(ISERR(U29/$V29*100),0,U29/$V29*100) -> 33.333333 | Z29: =+N29 -> 10 | AA29: =SUM(W29:Y29) -> 100 | AB29: =IF(ISERROR(VLOOKUP($D29,ResultxEstandar!$A:$E,3,FALSE)),0,VLOOKUP($D29,ResultxEstandar!$A:$E,3,FALSE)) -> 2 | AC29: =IF(ISERROR(VLOOKUP($D29,ResultxEstandar!$A:$E,4,FALSE)),0,VLOOKUP($D29,ResultxEstandar!$A:$E,4,FALSE)) -> 2 | AD29: =IF(ISERROR(VLOOKUP($D29,ResultxEstandar!$A:$E,5,FALSE)),0,VLOOKUP($D29,ResultxEstandar!$A:$E,5,FALSE)) -> 1 | AE29: =ROUND(SUM(AB29:AD29),2) -> 5 | AF29: =IF(ISERROR(+W29/100*Z29),0,+W29/100*Z29) -> 2.2222222 | AG29: =IF(ISERROR(+X29/100*Z29),0,+X29/100*Z29) -> 4.4444444 | AH29: =IF(ISERROR(+Y29/100*Z29),0,+Y29/100*Z29) -> 3.3333333 | AI29: =ROUND(SUM(AF29:AH29),2) -> 10 | AJ29: =IF(ISERROR(+AB29*AF29/K29),0,+AB29*AF29/K29) -> 1.1111111 | AK29: =IF(ISERROR(+AC29*AG29/L29),0,+AC29*AG29/L29) -> 2.2222222 | AL29: =IF(ISERROR(+AD29*AH29/M29),0,+AD29*AH29/M29) -> 1.6666667 | AM29: =ROUND(SUM(AJ29:AL29),2) -> 5
B30: ATA | C30: Atención ambulatoria | D30: ATA-1 | E30: El establecimiento de salud tiene establecido un conjunto de normas y disposiciones para la atención ambulatoria. | F30: =IF(ISERROR(VLOOKUP($D30,CriteriosxEstandares!$A:$E,2,FALSE)),0,VLOOKUP($D30,CriteriosxEstandares!$A:$E,2,FALSE)) -> 3 | G30: =IF(ISERROR(VLOOKUP($D30,CriteriosxEstandares!$A:$E,3,FALSE)),0,VLOOKUP($D30,CriteriosxEstandares!$A:$E,3,FALSE)) -> 2 | H30: =IF(ISERROR(VLOOKUP($D30,CriteriosxEstandares!$A:$E,4,FALSE)),0,VLOOKUP($D30,CriteriosxEstandares!$A:$E,4,FALSE)) -> 1 | I30: =IF(ISERROR(VLOOKUP($D30,CriteriosxEstandares!$A:$E,5,FALSE)),0,VLOOKUP($D30,CriteriosxEstandares!$A:$E,5,FALSE)) -> 0 | J30: =SUM(G30:I30) -> 3 | K30: =+G30*2 -> 4 | L30: =+H30*2 -> 2 | M30: =+I30*2 -> 0 | N30: =+K30+L30+M30 -> 6 | O30: 1 | P30: 2 | Q30: 3 | R30: =SUM(O30:Q30) -> 6 | S30: =+K30*O30 -> 4 | T30: =+L30*P30 -> 4 | U30: =+M30*Q30 -> 0 | V30: =SUM(S30:U30) -> 8 | W30: =IF(ISERR(S30/$V30*100),0,S30/$V30*100) -> 50 | X30: =IF(ISERR(T30/$V30*100),0,T30/$V30*100) -> 50 | Y30: =IF(ISERR(U30/$V30*100),0,U30/$V30*100) -> 0 | Z30: =+N30 -> 6 | AA30: =SUM(W30:Y30) -> 100 | AB30: =IF(ISERROR(VLOOKUP($D30,ResultxEstandar!$A:$E,3,FALSE)),0,VLOOKUP($D30,ResultxEstandar!$A:$E,3,FALSE)) -> 4 | AC30: =IF(ISERROR(VLOOKUP($D30,ResultxEstandar!$A:$E,4,FALSE)),0,VLOOKUP($D30,ResultxEstandar!$A:$E,4,FALSE)) -> 2 | AD30: =IF(ISERROR(VLOOKUP($D30,ResultxEstandar!$A:$E,5,FALSE)),0,VLOOKUP($D30,ResultxEstandar!$A:$E,5,FALSE)) -> 0 | AE30: =ROUND(SUM(AB30:AD30),2) -> 6 | AF30: =IF(ISERROR(+W30/100*Z30),0,+W30/100*Z30) -> 3 | AG30: =IF(ISERROR(+X30/100*Z30),0,+X30/100*Z30) -> 3 | AH30: =IF(ISERROR(+Y30/100*Z30),0,+Y30/100*Z30) -> 0 | AI30: =ROUND(SUM(AF30:AH30),2) -> 6 | AJ30: =IF(ISERROR(+AB30*AF30/K30),0,+AB30*AF30/K30) -> 3 | AK30: =IF(ISERROR(+AC30*AG30/L30),0,+AC30*AG30/L30) -> 3 | AL30: =IF(ISERROR(+AD30*AH30/M30),0,+AD30*AH30/M30) -> 0 | AM30: =ROUND(SUM(AJ30:AL30),2) -> 6
D31: ATA-2 | E31: La evaluación de los pacientes afectados por las principales causas de morbilidad se realiza de acuerdo a guías de práctica clínica | F31: =IF(ISERROR(VLOOKUP($D31,CriteriosxEstandares!$A:$E,2,FALSE)),0,VLOOKUP($D31,CriteriosxEstandares!$A:$E,2,FALSE)) -> 0 | G31: =IF(ISERROR(VLOOKUP($D31,CriteriosxEstandares!$A:$E,3,FALSE)),0,VLOOKUP($D31,CriteriosxEstandares!$A:$E,3,FALSE)) -> 0 | H31: =IF(ISERROR(VLOOKUP($D31,CriteriosxEstandares!$A:$E,4,FALSE)),0,VLOOKUP($D31,CriteriosxEstandares!$A:$E,4,FALSE)) -> 0 | I31: =IF(ISERROR(VLOOKUP($D31,CriteriosxEstandares!$A:$E,5,FALSE)),0,VLOOKUP($D31,CriteriosxEstandares!$A:$E,5,FALSE)) -> 0 | J31: =SUM(G31:I31) -> 0 | K31: =+G31*2 -> 0 | L31: =+H31*2 -> 0 | M31: =+I31*2 -> 0 | N31: =+K31+L31+M31 -> 0 | O31: 1 | P31: 2 | Q31: 3 | R31: =SUM(O31:Q31) -> 6 | S31: =+K31*O31 -> 0 | T31: =+L31*P31 -> 0 | U31: =+M31*Q31 -> 0 | V31: =SUM(S31:U31) -> 0 | W31: =IF(ISERR(S31/$V31*100),0,S31/$V31*100) -> 0 | X31: =IF(ISERR(T31/$V31*100),0,T31/$V31*100) -> 0 | Y31: =IF(ISERR(U31/$V31*100),0,U31/$V31*100) -> 0 | Z31: =+N31 -> 0 | AA31: =SUM(W31:Y31) -> 0 | AB31: =IF(ISERROR(VLOOKUP($D31,ResultxEstandar!$A:$E,3,FALSE)),0,VLOOKUP($D31,ResultxEstandar!$A:$E,3,FALSE)) -> 0 | AC31: =IF(ISERROR(VLOOKUP($D31,ResultxEstandar!$A:$E,4,FALSE)),0,VLOOKUP($D31,ResultxEstandar!$A:$E,4,FALSE)) -> 0 | AD31: =IF(ISERROR(VLOOKUP($D31,ResultxEstandar!$A:$E,5,FALSE)),0,VLOOKUP($D31,ResultxEstandar!$A:$E,5,FALSE)) -> 0 | AE31: =ROUND(SUM(AB31:AD31),2) -> 0 | AF31: =IF(ISERROR(+W31/100*Z31),0,+W31/100*Z31) -> 0 | AG31: =IF(ISERROR(+X31/100*Z31),0,+X31/100*Z31) -> 0 | AH31: =IF(ISERROR(+Y31/100*Z31),0,+Y31/100*Z31) -> 0 | AI31: =ROUND(SUM(AF31:AH31),2) -> 0 | AJ31: =IF(ISERROR(+AB31*AF31/K31),0,+AB31*AF31/K31) -> 0 | AK31: =IF(ISERROR(+AC31*AG31/L31),0,+AC31*AG31/L31) -> 0 | AL31: =IF(ISERROR(+AD31*AH31/M31),0,+AD31*AH31/M31) -> 0 | AM31: =ROUND(SUM(AJ31:AL31),2) -> 0
D32: ATA-3 | E32: El establecimiento desarrolla programas de prevención y promoción de la salud para la atención de los principales daños crónico-degenerativos, transmisibles y prevalentes. | F32: =IF(ISERROR(VLOOKUP($D32,CriteriosxEstandares!$A:$E,2,FALSE)),0,VLOOKUP($D32,CriteriosxEstandares!$A:$E,2,FALSE)) -> 6 | G32: =IF(ISERROR(VLOOKUP($D32,CriteriosxEstandares!$A:$E,3,FALSE)),0,VLOOKUP($D32,CriteriosxEstandares!$A:$E,3,FALSE)) -> 1 | H32: =IF(ISERROR(VLOOKUP($D32,CriteriosxEstandares!$A:$E,4,FALSE)),0,VLOOKUP($D32,CriteriosxEstandares!$A:$E,4,FALSE)) -> 5 | I32: =IF(ISERROR(VLOOKUP($D32,CriteriosxEstandares!$A:$E,5,FALSE)),0,VLOOKUP($D32,CriteriosxEstandares!$A:$E,5,FALSE)) -> 0 | J32: =SUM(G32:I32) -> 6 | K32: =+G32*2 -> 2 | L32: =+H32*2 -> 10 | M32: =+I32*2 -> 0 | N32: =+K32+L32+M32 -> 12 | O32: 1 | P32: 2 | Q32: 3 | R32: =SUM(O32:Q32) -> 6 | S32: =+K32*O32 -> 2 | T32: =+L32*P32 -> 20 | U32: =+M32*Q32 -> 0 | V32: =SUM(S32:U32) -> 22 | W32: =IF(ISERR(S32/$V32*100),0,S32/$V32*100) -> 9.0909091 | X32: =IF(ISERR(T32/$V32*100),0,T32/$V32*100) -> 90.909091 | Y32: =IF(ISERR(U32/$V32*100),0,U32/$V32*100) -> 0 | Z32: =+N32 -> 12 | AA32: =SUM(W32:Y32) -> 100 | AB32: =IF(ISERROR(VLOOKUP($D32,ResultxEstandar!$A:$E,3,FALSE)),0,VLOOKUP($D32,ResultxEstandar!$A:$E,3,FALSE)) -> 2 | AC32: =IF(ISERROR(VLOOKUP($D32,ResultxEstandar!$A:$E,4,FALSE)),0,VLOOKUP($D32,ResultxEstandar!$A:$E,4,FALSE)) -> 7 | AD32: =IF(ISERROR(VLOOKUP($D32,ResultxEstandar!$A:$E,5,FALSE)),0,VLOOKUP($D32,ResultxEstandar!$A:$E,5,FALSE)) -> 0 | AE32: =ROUND(SUM(AB32:AD32),2) -> 9 | AF32: =IF(ISERROR(+W32/100*Z32),0,+W32/100*Z32) -> 1.0909091 | AG32: =IF(ISERROR(+X32/100*Z32),0,+X32/100*Z32) -> 10.909091 | AH32: =IF(ISERROR(+Y32/100*Z32),0,+Y32/100*Z32) -> 0 | AI32: =ROUND(SUM(AF32:AH32),2) -> 12 | AJ32: =IF(ISERROR(+AB32*AF32/K32),0,+AB32*AF32/K32) -> 1.0909091 | AK32: =IF(ISERROR(+AC32*AG32/L32),0,+AC32*AG32/L32) -> 7.6363636 | AL32: =IF(ISERROR(+AD32*AH32/M32),0,+AD32*AH32/M32) -> 0 | AM32: =ROUND(SUM(AJ32:AL32),2) -> 8.73
D33: ATA-4 | E33: Se fomenta y se dan facilidades para que el usuario consigne sugerencias o quejas de la consulta ambulatoria en los ambientes destinados a ésta. | F33: =IF(ISERROR(VLOOKUP($D33,CriteriosxEstandares!$A:$E,2,FALSE)),0,VLOOKUP($D33,CriteriosxEstandares!$A:$E,2,FALSE)) -> 2 | G33: =IF(ISERROR(VLOOKUP($D33,CriteriosxEstandares!$A:$E,3,FALSE)),0,VLOOKUP($D33,CriteriosxEstandares!$A:$E,3,FALSE)) -> 1 | H33: =IF(ISERROR(VLOOKUP($D33,CriteriosxEstandares!$A:$E,4,FALSE)),0,VLOOKUP($D33,CriteriosxEstandares!$A:$E,4,FALSE)) -> 1 | I33: =IF(ISERROR(VLOOKUP($D33,CriteriosxEstandares!$A:$E,5,FALSE)),0,VLOOKUP($D33,CriteriosxEstandares!$A:$E,5,FALSE)) -> 0 | J33: =SUM(G33:I33) -> 2 | K33: =+G33*2 -> 2 | L33: =+H33*2 -> 2 | M33: =+I33*2 -> 0 | N33: =+K33+L33+M33 -> 4 | O33: 1 | P33: 2 | Q33: 3 | R33: =SUM(O33:Q33) -> 6 | S33: =+K33*O33 -> 2 | T33: =+L33*P33 -> 4 | U33: =+M33*Q33 -> 0 | V33: =SUM(S33:U33) -> 6 | W33: =IF(ISERR(S33/$V33*100),0,S33/$V33*100) -> 33.333333 | X33: =IF(ISERR(T33/$V33*100),0,T33/$V33*100) -> 66.666667 | Y33: =IF(ISERR(U33/$V33*100),0,U33/$V33*100) -> 0 | Z33: =+N33 -> 4 | AA33: =SUM(W33:Y33) -> 100 | AB33: =IF(ISERROR(VLOOKUP($D33,ResultxEstandar!$A:$E,3,FALSE)),0,VLOOKUP($D33,ResultxEstandar!$A:$E,3,FALSE)) -> 2 | AC33: =IF(ISERROR(VLOOKUP($D33,ResultxEstandar!$A:$E,4,FALSE)),0,VLOOKUP($D33,ResultxEstandar!$A:$E,4,FALSE)) -> 1 | AD33: =IF(ISERROR(VLOOKUP($D33,ResultxEstandar!$A:$E,5,FALSE)),0,VLOOKUP($D33,ResultxEstandar!$A:$E,5,FALSE)) -> 0 | AE33: =ROUND(SUM(AB33:AD33),2) -> 3 | AF33: =IF(ISERROR(+W33/100*Z33),0,+W33/100*Z33) -> 1.3333333 | AG33: =IF(ISERROR(+X33/100*Z33),0,+X33/100*Z33) -> 2.6666667 | AH33: =IF(ISERROR(+Y33/100*Z33),0,+Y33/100*Z33) -> 0 | AI33: =ROUND(SUM(AF33:AH33),2) -> 4 | AJ33: =IF(ISERROR(+AB33*AF33/K33),0,+AB33*AF33/K33) -> 1.3333333 | AK33: =IF(ISERROR(+AC33*AG33/L33),0,+AC33*AG33/L33) -> 1.3333333 | AL33: =IF(ISERROR(+AD33*AH33/M33),0,+AD33*AH33/M33) -> 0 | AM33: =ROUND(SUM(AJ33:AL33),2) -> 2.67
B34: AEX | C34: Atención extramural | D34: AEX-1 | E34: El establecimiento de salud tiene definido y organizado un plan de atención extramural de acuerdo con sus prioridades y en función a las necesidades de su población con enfoque de riesgo. | F34: =IF(ISERROR(VLOOKUP($D34,CriteriosxEstandares!$A:$E,2,FALSE)),0,VLOOKUP($D34,CriteriosxEstandares!$A:$E,2,FALSE)) -> 6 | G34: =IF(ISERROR(VLOOKUP($D34,CriteriosxEstandares!$A:$E,3,FALSE)),0,VLOOKUP($D34,CriteriosxEstandares!$A:$E,3,FALSE)) -> 6 | H34: =IF(ISERROR(VLOOKUP($D34,CriteriosxEstandares!$A:$E,4,FALSE)),0,VLOOKUP($D34,CriteriosxEstandares!$A:$E,4,FALSE)) -> 0 | I34: =IF(ISERROR(VLOOKUP($D34,CriteriosxEstandares!$A:$E,5,FALSE)),0,VLOOKUP($D34,CriteriosxEstandares!$A:$E,5,FALSE)) -> 0 | J34: =SUM(G34:I34) -> 6 | K34: =+G34*2 -> 12 | L34: =+H34*2 -> 0 | M34: =+I34*2 -> 0 | N34: =+K34+L34+M34 -> 12 | O34: 1 | P34: 2 | Q34: 3 | R34: =SUM(O34:Q34) -> 6 | S34: =+K34*O34 -> 12 | T34: =+L34*P34 -> 0 | U34: =+M34*Q34 -> 0 | V34: =SUM(S34:U34) -> 12 | W34: =IF(ISERR(S34/$V34*100),0,S34/$V34*100) -> 100 | X34: =IF(ISERR(T34/$V34*100),0,T34/$V34*100) -> 0 | Y34: =IF(ISERR(U34/$V34*100),0,U34/$V34*100) -> 0 | Z34: =+N34 -> 12 | AA34: =SUM(W34:Y34) -> 100 | AB34: =IF(ISERROR(VLOOKUP($D34,ResultxEstandar!$A:$E,3,FALSE)),0,VLOOKUP($D34,ResultxEstandar!$A:$E,3,FALSE)) -> 4 | AC34: =IF(ISERROR(VLOOKUP($D34,ResultxEstandar!$A:$E,4,FALSE)),0,VLOOKUP($D34,ResultxEstandar!$A:$E,4,FALSE)) -> 0 | AD34: =IF(ISERROR(VLOOKUP($D34,ResultxEstandar!$A:$E,5,FALSE)),0,VLOOKUP($D34,ResultxEstandar!$A:$E,5,FALSE)) -> 0 | AE34: =ROUND(SUM(AB34:AD34),2) -> 4 | AF34: =IF(ISERROR(+W34/100*Z34),0,+W34/100*Z34) -> 12 | AG34: =IF(ISERROR(+X34/100*Z34),0,+X34/100*Z34) -> 0 | AH34: =IF(ISERROR(+Y34/100*Z34),0,+Y34/100*Z34) -> 0 | AI34: =ROUND(SUM(AF34:AH34),2) -> 12 | AJ34: =IF(ISERROR(+AB34*AF34/K34),0,+AB34*AF34/K34) -> 4 | AK34: =IF(ISERROR(+AC34*AG34/L34),0,+AC34*AG34/L34) -> 0 | AL34: =IF(ISERROR(+AD34*AH34/M34),0,+AD34*AH34/M34) -> 0 | AM34: =ROUND(SUM(AJ34:AL34),2) -> 4
D35: AEX-2 | E35: El establecimiento de salud brinda una cartera de servicios extramurales de acuerdo con el modelo de atención establecido. | F35: =IF(ISERROR(VLOOKUP($D35,CriteriosxEstandares!$A:$E,2,FALSE)),0,VLOOKUP($D35,CriteriosxEstandares!$A:$E,2,FALSE)) -> 2 | G35: =IF(ISERROR(VLOOKUP($D35,CriteriosxEstandares!$A:$E,3,FALSE)),0,VLOOKUP($D35,CriteriosxEstandares!$A:$E,3,FALSE)) -> 0 | H35: =IF(ISERROR(VLOOKUP($D35,CriteriosxEstandares!$A:$E,4,FALSE)),0,VLOOKUP($D35,CriteriosxEstandares!$A:$E,4,FALSE)) -> 2 | I35: =IF(ISERROR(VLOOKUP($D35,CriteriosxEstandares!$A:$E,5,FALSE)),0,VLOOKUP($D35,CriteriosxEstandares!$A:$E,5,FALSE)) -> 0 | J35: =SUM(G35:I35) -> 2 | K35: =+G35*2 -> 0 | L35: =+H35*2 -> 4 | M35: =+I35*2 -> 0 | N35: =+K35+L35+M35 -> 4 | O35: 1 | P35: 2 | Q35: 3 | R35: =SUM(O35:Q35) -> 6 | S35: =+K35*O35 -> 0 | T35: =+L35*P35 -> 8 | U35: =+M35*Q35 -> 0 | V35: =SUM(S35:U35) -> 8 | W35: =IF(ISERR(S35/$V35*100),0,S35/$V35*100) -> 0 | X35: =IF(ISERR(T35/$V35*100),0,T35/$V35*100) -> 100 | Y35: =IF(ISERR(U35/$V35*100),0,U35/$V35*100) -> 0 | Z35: =+N35 -> 4 | AA35: =SUM(W35:Y35) -> 100 | AB35: =IF(ISERROR(VLOOKUP($D35,ResultxEstandar!$A:$E,3,FALSE)),0,VLOOKUP($D35,ResultxEstandar!$A:$E,3,FALSE)) -> 0 | AC35: =IF(ISERROR(VLOOKUP($D35,ResultxEstandar!$A:$E,4,FALSE)),0,VLOOKUP($D35,ResultxEstandar!$A:$E,4,FALSE)) -> 3 | AD35: =IF(ISERROR(VLOOKUP($D35,ResultxEstandar!$A:$E,5,FALSE)),0,VLOOKUP($D35,ResultxEstandar!$A:$E,5,FALSE)) -> 0 | AE35: =ROUND(SUM(AB35:AD35),2) -> 3 | AF35: =IF(ISERROR(+W35/100*Z35),0,+W35/100*Z35) -> 0 | AG35: =IF(ISERROR(+X35/100*Z35),0,+X35/100*Z35) -> 4 | AH35: =IF(ISERROR(+Y35/100*Z35),0,+Y35/100*Z35) -> 0 | AI35: =ROUND(SUM(AF35:AH35),2) -> 4 | AJ35: =IF(ISERROR(+AB35*AF35/K35),0,+AB35*AF35/K35) -> 0 | AK35: =IF(ISERROR(+AC35*AG35/L35),0,+AC35*AG35/L35) -> 3 | AL35: =IF(ISERROR(+AD35*AH35/M35),0,+AD35*AH35/M35) -> 0 | AM35: =ROUND(SUM(AJ35:AL35),2) -> 3
D36: AEX-3 | E36: El establecimiento de salud identifica oportunidades de mejora para el incremento de la cobertura de la atención extramural a partir de una medición sistemática de los logros. | F36: =IF(ISERROR(VLOOKUP($D36,CriteriosxEstandares!$A:$E,2,FALSE)),0,VLOOKUP($D36,CriteriosxEstandares!$A:$E,2,FALSE)) -> 2 | G36: =IF(ISERROR(VLOOKUP($D36,CriteriosxEstandares!$A:$E,3,FALSE)),0,VLOOKUP($D36,CriteriosxEstandares!$A:$E,3,FALSE)) -> 1 | H36: =IF(ISERROR(VLOOKUP($D36,CriteriosxEstandares!$A:$E,4,FALSE)),0,VLOOKUP($D36,CriteriosxEstandares!$A:$E,4,FALSE)) -> 1 | I36: =IF(ISERROR(VLOOKUP($D36,CriteriosxEstandares!$A:$E,5,FALSE)),0,VLOOKUP($D36,CriteriosxEstandares!$A:$E,5,FALSE)) -> 0 | J36: =SUM(G36:I36) -> 2 | K36: =+G36*2 -> 2 | L36: =+H36*2 -> 2 | M36: =+I36*2 -> 0 | N36: =+K36+L36+M36 -> 4 | O36: 1 | P36: 2 | Q36: 3 | R36: =SUM(O36:Q36) -> 6 | S36: =+K36*O36 -> 2 | T36: =+L36*P36 -> 4 | U36: =+M36*Q36 -> 0 | V36: =SUM(S36:U36) -> 6 | W36: =IF(ISERR(S36/$V36*100),0,S36/$V36*100) -> 33.333333 | X36: =IF(ISERR(T36/$V36*100),0,T36/$V36*100) -> 66.666667 | Y36: =IF(ISERR(U36/$V36*100),0,U36/$V36*100) -> 0 | Z36: =+N36 -> 4 | AA36: =SUM(W36:Y36) -> 100 | AB36: =IF(ISERROR(VLOOKUP($D36,ResultxEstandar!$A:$E,3,FALSE)),0,VLOOKUP($D36,ResultxEstandar!$A:$E,3,FALSE)) -> 1 | AC36: =IF(ISERROR(VLOOKUP($D36,ResultxEstandar!$A:$E,4,FALSE)),0,VLOOKUP($D36,ResultxEstandar!$A:$E,4,FALSE)) -> 1 | AD36: =IF(ISERROR(VLOOKUP($D36,ResultxEstandar!$A:$E,5,FALSE)),0,VLOOKUP($D36,ResultxEstandar!$A:$E,5,FALSE)) -> 0 | AE36: =ROUND(SUM(AB36:AD36),2) -> 2 | AF36: =IF(ISERROR(+W36/100*Z36),0,+W36/100*Z36) -> 1.3333333 | AG36: =IF(ISERROR(+X36/100*Z36),0,+X36/100*Z36) -> 2.6666667 | AH36: =IF(ISERROR(+Y36/100*Z36),0,+Y36/100*Z36) -> 0 | AI36: =ROUND(SUM(AF36:AH36),2) -> 4 | AJ36: =IF(ISERROR(+AB36*AF36/K36),0,+AB36*AF36/K36) -> 0.66666667 | AK36: =IF(ISERROR(+AC36*AG36/L36),0,+AC36*AG36/L36) -> 1.3333333 | AL36: =IF(ISERROR(+AD36*AH36/M36),0,+AD36*AH36/M36) -> 0 | AM36: =ROUND(SUM(AJ36:AL36),2) -> 2
D37: AEX-4 | E37: El establecimiento cuenta con agentes comunitarios que apoyan el trabajo extramural a través de coordinaciones permanentes. | F37: =IF(ISERROR(VLOOKUP($D37,CriteriosxEstandares!$A:$E,2,FALSE)),0,VLOOKUP($D37,CriteriosxEstandares!$A:$E,2,FALSE)) -> 3 | G37: =IF(ISERROR(VLOOKUP($D37,CriteriosxEstandares!$A:$E,3,FALSE)),0,VLOOKUP($D37,CriteriosxEstandares!$A:$E,3,FALSE)) -> 2 | H37: =IF(ISERROR(VLOOKUP($D37,CriteriosxEstandares!$A:$E,4,FALSE)),0,VLOOKUP($D37,CriteriosxEstandares!$A:$E,4,FALSE)) -> 1 | I37: =IF(ISERROR(VLOOKUP($D37,CriteriosxEstandares!$A:$E,5,FALSE)),0,VLOOKUP($D37,CriteriosxEstandares!$A:$E,5,FALSE)) -> 0 | J37: =SUM(G37:I37) -> 3 | K37: =+G37*2 -> 4 | L37: =+H37*2 -> 2 | M37: =+I37*2 -> 0 | N37: =+K37+L37+M37 -> 6 | O37: 1 | P37: 2 | Q37: 3 | R37: =SUM(O37:Q37) -> 6 | S37: =+K37*O37 -> 4 | T37: =+L37*P37 -> 4 | U37: =+M37*Q37 -> 0 | V37: =SUM(S37:U37) -> 8 | W37: =IF(ISERR(S37/$V37*100),0,S37/$V37*100) -> 50 | X37: =IF(ISERR(T37/$V37*100),0,T37/$V37*100) -> 50 | Y37: =IF(ISERR(U37/$V37*100),0,U37/$V37*100) -> 0 | Z37: =+N37 -> 6 | AA37: =SUM(W37:Y37) -> 100 | AB37: =IF(ISERROR(VLOOKUP($D37,ResultxEstandar!$A:$E,3,FALSE)),0,VLOOKUP($D37,ResultxEstandar!$A:$E,3,FALSE)) -> 0 | AC37: =IF(ISERROR(VLOOKUP($D37,ResultxEstandar!$A:$E,4,FALSE)),0,VLOOKUP($D37,ResultxEstandar!$A:$E,4,FALSE)) -> 0 | AD37: =IF(ISERROR(VLOOKUP($D37,ResultxEstandar!$A:$E,5,FALSE)),0,VLOOKUP($D37,ResultxEstandar!$A:$E,5,FALSE)) -> 0 | AE37: =ROUND(SUM(AB37:AD37),2) -> 0 | AF37: =IF(ISERROR(+W37/100*Z37),0,+W37/100*Z37) -> 3 | AG37: =IF(ISERROR(+X37/100*Z37),0,+X37/100*Z37) -> 3 | AH37: =IF(ISERROR(+Y37/100*Z37),0,+Y37/100*Z37) -> 0 | AI37: =ROUND(SUM(AF37:AH37),2) -> 6 | AJ37: =IF(ISERROR(+AB37*AF37/K37),0,+AB37*AF37/K37) -> 0 | AK37: =IF(ISERROR(+AC37*AG37/L37),0,+AC37*AG37/L37) -> 0 | AL37: =IF(ISERROR(+AD37*AH37/M37),0,+AD37*AH37/M37) -> 0 | AM37: =ROUND(SUM(AJ37:AL37),2) -> 0
B38: ATH | C38: Atención de hospitalización | D38: ATH-1 | E38: El establecimiento que cuenta con internamiento, planifica y diseña sus servicios para satisfacer las necesidades de la población a la que atiende. | F38: =IF(ISERROR(VLOOKUP($D38,CriteriosxEstandares!$A:$E,2,FALSE)),0,VLOOKUP($D38,CriteriosxEstandares!$A:$E,2,FALSE)) -> 0 | G38: =IF(ISERROR(VLOOKUP($D38,CriteriosxEstandares!$A:$E,3,FALSE)),0,VLOOKUP($D38,CriteriosxEstandares!$A:$E,3,FALSE)) -> 0 | H38: =IF(ISERROR(VLOOKUP($D38,CriteriosxEstandares!$A:$E,4,FALSE)),0,VLOOKUP($D38,CriteriosxEstandares!$A:$E,4,FALSE)) -> 0 | I38: =IF(ISERROR(VLOOKUP($D38,CriteriosxEstandares!$A:$E,5,FALSE)),0,VLOOKUP($D38,CriteriosxEstandares!$A:$E,5,FALSE)) -> 0 | J38: =SUM(G38:I38) -> 0 | K38: =+G38*2 -> 0 | L38: =+H38*2 -> 0 | M38: =+I38*2 -> 0 | N38: =+K38+L38+M38 -> 0 | O38: 1 | P38: 2 | Q38: 3 | R38: =SUM(O38:Q38) -> 6 | S38: =+K38*O38 -> 0 | T38: =+L38*P38 -> 0 | U38: =+M38*Q38 -> 0 | V38: =SUM(S38:U38) -> 0 | W38: =IF(ISERR(S38/$V38*100),0,S38/$V38*100) -> 0 | X38: =IF(ISERR(T38/$V38*100),0,T38/$V38*100) -> 0 | Y38: =IF(ISERR(U38/$V38*100),0,U38/$V38*100) -> 0 | Z38: =+N38 -> 0 | AA38: =SUM(W38:Y38) -> 0 | AB38: =IF(ISERROR(VLOOKUP($D38,ResultxEstandar!$A:$E,3,FALSE)),0,VLOOKUP($D38,ResultxEstandar!$A:$E,3,FALSE)) -> 0 | AC38: =IF(ISERROR(VLOOKUP($D38,ResultxEstandar!$A:$E,4,FALSE)),0,VLOOKUP($D38,ResultxEstandar!$A:$E,4,FALSE)) -> 0 | AD38: =IF(ISERROR(VLOOKUP($D38,ResultxEstandar!$A:$E,5,FALSE)),0,VLOOKUP($D38,ResultxEstandar!$A:$E,5,FALSE)) -> 0 | AE38: =ROUND(SUM(AB38:AD38),2) -> 0 | AF38: =IF(ISERROR(+W38/100*Z38),0,+W38/100*Z38) -> 0 | AG38: =IF(ISERROR(+X38/100*Z38),0,+X38/100*Z38) -> 0 | AH38: =IF(ISERROR(+Y38/100*Z38),0,+Y38/100*Z38) -> 0 | AI38: =ROUND(SUM(AF38:AH38),2) -> 0 | AJ38: =IF(ISERROR(+AB38*AF38/K38),0,+AB38*AF38/K38) -> 0 | AK38: =IF(ISERROR(+AC38*AG38/L38),0,+AC38*AG38/L38) -> 0 | AL38: =IF(ISERROR(+AD38*AH38/M38),0,+AD38*AH38/M38) -> 0 | AM38: =ROUND(SUM(AJ38:AL38),2) -> 0
D39: ATH-2 | E39: El establecimiento de salud provee las condiciones apropiadas para brindar servicios de internamiento a los pacientes, asegurando su oportunidad y calidad | F39: =IF(ISERROR(VLOOKUP($D39,CriteriosxEstandares!$A:$E,2,FALSE)),0,VLOOKUP($D39,CriteriosxEstandares!$A:$E,2,FALSE)) -> 0 | G39: =IF(ISERROR(VLOOKUP($D39,CriteriosxEstandares!$A:$E,3,FALSE)),0,VLOOKUP($D39,CriteriosxEstandares!$A:$E,3,FALSE)) -> 0 | H39: =IF(ISERROR(VLOOKUP($D39,CriteriosxEstandares!$A:$E,4,FALSE)),0,VLOOKUP($D39,CriteriosxEstandares!$A:$E,4,FALSE)) -> 0 | I39: =IF(ISERROR(VLOOKUP($D39,CriteriosxEstandares!$A:$E,5,FALSE)),0,VLOOKUP($D39,CriteriosxEstandares!$A:$E,5,FALSE)) -> 0 | J39: =SUM(G39:I39) -> 0 | K39: =+G39*2 -> 0 | L39: =+H39*2 -> 0 | M39: =+I39*2 -> 0 | N39: =+K39+L39+M39 -> 0 | O39: 1 | P39: 2 | Q39: 3 | R39: =SUM(O39:Q39) -> 6 | S39: =+K39*O39 -> 0 | T39: =+L39*P39 -> 0 | U39: =+M39*Q39 -> 0 | V39: =SUM(S39:U39) -> 0 | W39: =IF(ISERR(S39/$V39*100),0,S39/$V39*100) -> 0 | X39: =IF(ISERR(T39/$V39*100),0,T39/$V39*100) -> 0 | Y39: =IF(ISERR(U39/$V39*100),0,U39/$V39*100) -> 0 | Z39: =+N39 -> 0 | AA39: =SUM(W39:Y39) -> 0 | AB39: =IF(ISERROR(VLOOKUP($D39,ResultxEstandar!$A:$E,3,FALSE)),0,VLOOKUP($D39,ResultxEstandar!$A:$E,3,FALSE)) -> 0 | AC39: =IF(ISERROR(VLOOKUP($D39,ResultxEstandar!$A:$E,4,FALSE)),0,VLOOKUP($D39,ResultxEstandar!$A:$E,4,FALSE)) -> 0 | AD39: =IF(ISERROR(VLOOKUP($D39,ResultxEstandar!$A:$E,5,FALSE)),0,VLOOKUP($D39,ResultxEstandar!$A:$E,5,FALSE)) -> 0 | AE39: =ROUND(SUM(AB39:AD39),2) -> 0 | AF39: =IF(ISERROR(+W39/100*Z39),0,+W39/100*Z39) -> 0 | AG39: =IF(ISERROR(+X39/100*Z39),0,+X39/100*Z39) -> 0 | AH39: =IF(ISERROR(+Y39/100*Z39),0,+Y39/100*Z39) -> 0 | AI39: =ROUND(SUM(AF39:AH39),2) -> 0 | AJ39: =IF(ISERROR(+AB39*AF39/K39),0,+AB39*AF39/K39) -> 0 | AK39: =IF(ISERROR(+AC39*AG39/L39),0,+AC39*AG39/L39) -> 0 | AL39: =IF(ISERROR(+AD39*AH39/M39),0,+AD39*AH39/M39) -> 0 | AM39: =ROUND(SUM(AJ39:AL39),2) -> 0
D40: ATH-3 | E40: El establecimiento garantiza las condiciones necesarias para que el equipo interdisciplinario de salud brinde una atencion segura al usuario | F40: =IF(ISERROR(VLOOKUP($D40,CriteriosxEstandares!$A:$E,2,FALSE)),0,VLOOKUP($D40,CriteriosxEstandares!$A:$E,2,FALSE)) -> 0 | G40: =IF(ISERROR(VLOOKUP($D40,CriteriosxEstandares!$A:$E,3,FALSE)),0,VLOOKUP($D40,CriteriosxEstandares!$A:$E,3,FALSE)) -> 0 | H40: =IF(ISERROR(VLOOKUP($D40,CriteriosxEstandares!$A:$E,4,FALSE)),0,VLOOKUP($D40,CriteriosxEstandares!$A:$E,4,FALSE)) -> 0 | I40: =IF(ISERROR(VLOOKUP($D40,CriteriosxEstandares!$A:$E,5,FALSE)),0,VLOOKUP($D40,CriteriosxEstandares!$A:$E,5,FALSE)) -> 0 | J40: =SUM(G40:I40) -> 0 | K40: =+G40*2 -> 0 | L40: =+H40*2 -> 0 | M40: =+I40*2 -> 0 | N40: =+K40+L40+M40 -> 0 | O40: 1 | P40: 2 | Q40: 3 | R40: =SUM(O40:Q40) -> 6 | S40: =+K40*O40 -> 0 | T40: =+L40*P40 -> 0 | U40: =+M40*Q40 -> 0 | V40: =SUM(S40:U40) -> 0 | W40: =IF(ISERR(S40/$V40*100),0,S40/$V40*100) -> 0 | X40: =IF(ISERR(T40/$V40*100),0,T40/$V40*100) -> 0 | Y40: =IF(ISERR(U40/$V40*100),0,U40/$V40*100) -> 0 | Z40: =+N40 -> 0 | AA40: =SUM(W40:Y40) -> 0 | AB40: =IF(ISERROR(VLOOKUP($D40,ResultxEstandar!$A:$E,3,FALSE)),0,VLOOKUP($D40,ResultxEstandar!$A:$E,3,FALSE)) -> 0 | AC40: =IF(ISERROR(VLOOKUP($D40,ResultxEstandar!$A:$E,4,FALSE)),0,VLOOKUP($D40,ResultxEstandar!$A:$E,4,FALSE)) -> 0 | AD40: =IF(ISERROR(VLOOKUP($D40,ResultxEstandar!$A:$E,5,FALSE)),0,VLOOKUP($D40,ResultxEstandar!$A:$E,5,FALSE)) -> 0 | AE40: =ROUND(SUM(AB40:AD40),2) -> 0 | AF40: =IF(ISERROR(+W40/100*Z40),0,+W40/100*Z40) -> 0 | AG40: =IF(ISERROR(+X40/100*Z40),0,+X40/100*Z40) -> 0 | AH40: =IF(ISERROR(+Y40/100*Z40),0,+Y40/100*Z40) -> 0 | AI40: =ROUND(SUM(AF40:AH40),2) -> 0 | AJ40: =IF(ISERROR(+AB40*AF40/K40),0,+AB40*AF40/K40) -> 0 | AK40: =IF(ISERROR(+AC40*AG40/L40),0,+AC40*AG40/L40) -> 0 | AL40: =IF(ISERROR(+AD40*AH40/M40),0,+AD40*AH40/M40) -> 0 | AM40: =ROUND(SUM(AJ40:AL40),2) -> 0
D41: ATH-4 | E41: Los equipos médicos que brindan servicios de internamiento, desarrollan sus actividades de atención según procedimientos consensuados, documentados y aprobados | F41: =IF(ISERROR(VLOOKUP($D41,CriteriosxEstandares!$A:$E,2,FALSE)),0,VLOOKUP($D41,CriteriosxEstandares!$A:$E,2,FALSE)) -> 0 | G41: =IF(ISERROR(VLOOKUP($D41,CriteriosxEstandares!$A:$E,3,FALSE)),0,VLOOKUP($D41,CriteriosxEstandares!$A:$E,3,FALSE)) -> 0 | H41: =IF(ISERROR(VLOOKUP($D41,CriteriosxEstandares!$A:$E,4,FALSE)),0,VLOOKUP($D41,CriteriosxEstandares!$A:$E,4,FALSE)) -> 0 | I41: =IF(ISERROR(VLOOKUP($D41,CriteriosxEstandares!$A:$E,5,FALSE)),0,VLOOKUP($D41,CriteriosxEstandares!$A:$E,5,FALSE)) -> 0 | J41: =SUM(G41:I41) -> 0 | K41: =+G41*2 -> 0 | L41: =+H41*2 -> 0 | M41: =+I41*2 -> 0 | N41: =+K41+L41+M41 -> 0 | O41: 1 | P41: 2 | Q41: 3 | R41: =SUM(O41:Q41) -> 6 | S41: =+K41*O41 -> 0 | T41: =+L41*P41 -> 0 | U41: =+M41*Q41 -> 0 | V41: =SUM(S41:U41) -> 0 | W41: =IF(ISERR(S41/$V41*100),0,S41/$V41*100) -> 0 | X41: =IF(ISERR(T41/$V41*100),0,T41/$V41*100) -> 0 | Y41: =IF(ISERR(U41/$V41*100),0,U41/$V41*100) -> 0 | Z41: =+N41 -> 0 | AA41: =SUM(W41:Y41) -> 0 | AB41: =IF(ISERROR(VLOOKUP($D41,ResultxEstandar!$A:$E,3,FALSE)),0,VLOOKUP($D41,ResultxEstandar!$A:$E,3,FALSE)) -> 0 | AC41: =IF(ISERROR(VLOOKUP($D41,ResultxEstandar!$A:$E,4,FALSE)),0,VLOOKUP($D41,ResultxEstandar!$A:$E,4,FALSE)) -> 0 | AD41: =IF(ISERROR(VLOOKUP($D41,ResultxEstandar!$A:$E,5,FALSE)),0,VLOOKUP($D41,ResultxEstandar!$A:$E,5,FALSE)) -> 0 | AE41: =ROUND(SUM(AB41:AD41),2) -> 0 | AF41: =IF(ISERROR(+W41/100*Z41),0,+W41/100*Z41) -> 0 | AG41: =IF(ISERROR(+X41/100*Z41),0,+X41/100*Z41) -> 0 | AH41: =IF(ISERROR(+Y41/100*Z41),0,+Y41/100*Z41) -> 0 | AI41: =ROUND(SUM(AF41:AH41),2) -> 0 | AJ41: =IF(ISERROR(+AB41*AF41/K41),0,+AB41*AF41/K41) -> 0 | AK41: =IF(ISERROR(+AC41*AG41/L41),0,+AC41*AG41/L41) -> 0 | AL41: =IF(ISERROR(+AD41*AH41/M41),0,+AD41*AH41/M41) -> 0 | AM41: =ROUND(SUM(AJ41:AL41),2) -> 0
D42: ATH-5 | E42: El paciente y su familia reciben la educación e información pertinentes durante la ejecución del tratamiento | F42: =IF(ISERROR(VLOOKUP($D42,CriteriosxEstandares!$A:$E,2,FALSE)),0,VLOOKUP($D42,CriteriosxEstandares!$A:$E,2,FALSE)) -> 0 | G42: =IF(ISERROR(VLOOKUP($D42,CriteriosxEstandares!$A:$E,3,FALSE)),0,VLOOKUP($D42,CriteriosxEstandares!$A:$E,3,FALSE)) -> 0 | H42: =IF(ISERROR(VLOOKUP($D42,CriteriosxEstandares!$A:$E,4,FALSE)),0,VLOOKUP($D42,CriteriosxEstandares!$A:$E,4,FALSE)) -> 0 | I42: =IF(ISERROR(VLOOKUP($D42,CriteriosxEstandares!$A:$E,5,FALSE)),0,VLOOKUP($D42,CriteriosxEstandares!$A:$E,5,FALSE)) -> 0 | J42: =SUM(G42:I42) -> 0 | K42: =+G42*2 -> 0 | L42: =+H42*2 -> 0 | M42: =+I42*2 -> 0 | N42: =+K42+L42+M42 -> 0 | O42: 1 | P42: 2 | Q42: 3 | R42: =SUM(O42:Q42) -> 6 | S42: =+K42*O42 -> 0 | T42: =+L42*P42 -> 0 | U42: =+M42*Q42 -> 0 | V42: =SUM(S42:U42) -> 0 | W42: =IF(ISERR(S42/$V42*100),0,S42/$V42*100) -> 0 | X42: =IF(ISERR(T42/$V42*100),0,T42/$V42*100) -> 0 | Y42: =IF(ISERR(U42/$V42*100),0,U42/$V42*100) -> 0 | Z42: =+N42 -> 0 | AA42: =SUM(W42:Y42) -> 0 | AB42: =IF(ISERROR(VLOOKUP($D42,ResultxEstandar!$A:$E,3,FALSE)),0,VLOOKUP($D42,ResultxEstandar!$A:$E,3,FALSE)) -> 0 | AC42: =IF(ISERROR(VLOOKUP($D42,ResultxEstandar!$A:$E,4,FALSE)),0,VLOOKUP($D42,ResultxEstandar!$A:$E,4,FALSE)) -> 0 | AD42: =IF(ISERROR(VLOOKUP($D42,ResultxEstandar!$A:$E,5,FALSE)),0,VLOOKUP($D42,ResultxEstandar!$A:$E,5,FALSE)) -> 0 | AE42: =ROUND(SUM(AB42:AD42),2) -> 0 | AF42: =IF(ISERROR(+W42/100*Z42),0,+W42/100*Z42) -> 0 | AG42: =IF(ISERROR(+X42/100*Z42),0,+X42/100*Z42) -> 0 | AH42: =IF(ISERROR(+Y42/100*Z42),0,+Y42/100*Z42) -> 0 | AI42: =ROUND(SUM(AF42:AH42),2) -> 0 | AJ42: =IF(ISERROR(+AB42*AF42/K42),0,+AB42*AF42/K42) -> 0 | AK42: =IF(ISERROR(+AC42*AG42/L42),0,+AC42*AG42/L42) -> 0 | AL42: =IF(ISERROR(+AD42*AH42/M42),0,+AD42*AH42/M42) -> 0 | AM42: =ROUND(SUM(AJ42:AL42),2) -> 0
D43: ATH-6 | E43: El establecimiento de salud garantiza la continuidad de los procedimientos para interconsultas asi como acciones de apoyo diagnóstico y tratamiento (intrainstitucionales y interinstitucionales,) | F43: =IF(ISERROR(VLOOKUP($D43,CriteriosxEstandares!$A:$E,2,FALSE)),0,VLOOKUP($D43,CriteriosxEstandares!$A:$E,2,FALSE)) -> 0 | G43: =IF(ISERROR(VLOOKUP($D43,CriteriosxEstandares!$A:$E,3,FALSE)),0,VLOOKUP($D43,CriteriosxEstandares!$A:$E,3,FALSE)) -> 0 | H43: =IF(ISERROR(VLOOKUP($D43,CriteriosxEstandares!$A:$E,4,FALSE)),0,VLOOKUP($D43,CriteriosxEstandares!$A:$E,4,FALSE)) -> 0 | I43: =IF(ISERROR(VLOOKUP($D43,CriteriosxEstandares!$A:$E,5,FALSE)),0,VLOOKUP($D43,CriteriosxEstandares!$A:$E,5,FALSE)) -> 0 | J43: =SUM(G43:I43) -> 0 | K43: =+G43*2 -> 0 | L43: =+H43*2 -> 0 | M43: =+I43*2 -> 0 | N43: =+K43+L43+M43 -> 0 | O43: 1 | P43: 2 | Q43: 3 | R43: =SUM(O43:Q43) -> 6 | S43: =+K43*O43 -> 0 | T43: =+L43*P43 -> 0 | U43: =+M43*Q43 -> 0 | V43: =SUM(S43:U43) -> 0 | W43: =IF(ISERR(S43/$V43*100),0,S43/$V43*100) -> 0 | X43: =IF(ISERR(T43/$V43*100),0,T43/$V43*100) -> 0 | Y43: =IF(ISERR(U43/$V43*100),0,U43/$V43*100) -> 0 | Z43: =+N43 -> 0 | AA43: =SUM(W43:Y43) -> 0 | AB43: =IF(ISERROR(VLOOKUP($D43,ResultxEstandar!$A:$E,3,FALSE)),0,VLOOKUP($D43,ResultxEstandar!$A:$E,3,FALSE)) -> 0 | AC43: =IF(ISERROR(VLOOKUP($D43,ResultxEstandar!$A:$E,4,FALSE)),0,VLOOKUP($D43,ResultxEstandar!$A:$E,4,FALSE)) -> 0 | AD43: =IF(ISERROR(VLOOKUP($D43,ResultxEstandar!$A:$E,5,FALSE)),0,VLOOKUP($D43,ResultxEstandar!$A:$E,5,FALSE)) -> 0 | AE43: =ROUND(SUM(AB43:AD43),2) -> 0 | AF43: =IF(ISERROR(+W43/100*Z43),0,+W43/100*Z43) -> 0 | AG43: =IF(ISERROR(+X43/100*Z43),0,+X43/100*Z43) -> 0 | AH43: =IF(ISERROR(+Y43/100*Z43),0,+Y43/100*Z43) -> 0 | AI43: =ROUND(SUM(AF43:AH43),2) -> 0 | AJ43: =IF(ISERROR(+AB43*AF43/K43),0,+AB43*AF43/K43) -> 0 | AK43: =IF(ISERROR(+AC43*AG43/L43),0,+AC43*AG43/L43) -> 0 | AL43: =IF(ISERROR(+AD43*AH43/M43),0,+AD43*AH43/M43) -> 0 | AM43: =ROUND(SUM(AJ43:AL43),2) -> 0
D44: ATH-7 | E44: El establecimiento de salud evalúa la eficiencia y efectividad de las atenciones de internamiento | F44: =IF(ISERROR(VLOOKUP($D44,CriteriosxEstandares!$A:$E,2,FALSE)),0,VLOOKUP($D44,CriteriosxEstandares!$A:$E,2,FALSE)) -> 0 | G44: =IF(ISERROR(VLOOKUP($D44,CriteriosxEstandares!$A:$E,3,FALSE)),0,VLOOKUP($D44,CriteriosxEstandares!$A:$E,3,FALSE)) -> 0 | H44: =IF(ISERROR(VLOOKUP($D44,CriteriosxEstandares!$A:$E,4,FALSE)),0,VLOOKUP($D44,CriteriosxEstandares!$A:$E,4,FALSE)) -> 0 | I44: =IF(ISERROR(VLOOKUP($D44,CriteriosxEstandares!$A:$E,5,FALSE)),0,VLOOKUP($D44,CriteriosxEstandares!$A:$E,5,FALSE)) -> 0 | J44: =SUM(G44:I44) -> 0 | K44: =+G44*2 -> 0 | L44: =+H44*2 -> 0 | M44: =+I44*2 -> 0 | N44: =+K44+L44+M44 -> 0 | O44: 1 | P44: 2 | Q44: 3 | R44: =SUM(O44:Q44) -> 6 | S44: =+K44*O44 -> 0 | T44: =+L44*P44 -> 0 | U44: =+M44*Q44 -> 0 | V44: =SUM(S44:U44) -> 0 | W44: =IF(ISERR(S44/$V44*100),0,S44/$V44*100) -> 0 | X44: =IF(ISERR(T44/$V44*100),0,T44/$V44*100) -> 0 | Y44: =IF(ISERR(U44/$V44*100),0,U44/$V44*100) -> 0 | Z44: =+N44 -> 0 | AA44: =SUM(W44:Y44) -> 0 | AB44: =IF(ISERROR(VLOOKUP($D44,ResultxEstandar!$A:$E,3,FALSE)),0,VLOOKUP($D44,ResultxEstandar!$A:$E,3,FALSE)) -> 0 | AC44: =IF(ISERROR(VLOOKUP($D44,ResultxEstandar!$A:$E,4,FALSE)),0,VLOOKUP($D44,ResultxEstandar!$A:$E,4,FALSE)) -> 0 | AD44: =IF(ISERROR(VLOOKUP($D44,ResultxEstandar!$A:$E,5,FALSE)),0,VLOOKUP($D44,ResultxEstandar!$A:$E,5,FALSE)) -> 0 | AE44: =ROUND(SUM(AB44:AD44),2) -> 0 | AF44: =IF(ISERROR(+W44/100*Z44),0,+W44/100*Z44) -> 0 | AG44: =IF(ISERROR(+X44/100*Z44),0,+X44/100*Z44) -> 0 | AH44: =IF(ISERROR(+Y44/100*Z44),0,+Y44/100*Z44) -> 0 | AI44: =ROUND(SUM(AF44:AH44),2) -> 0 | AJ44: =IF(ISERROR(+AB44*AF44/K44),0,+AB44*AF44/K44) -> 0 | AK44: =IF(ISERROR(+AC44*AG44/L44),0,+AC44*AG44/L44) -> 0 | AL44: =IF(ISERROR(+AD44*AH44/M44),0,+AD44*AH44/M44) -> 0 | AM44: =ROUND(SUM(AJ44:AL44),2) -> 0
B45: EMG | C45: Atención de emergencias | D45: EMG-1 | E45: El servicio de emergencia está organizado para responder de manera inmediata frente a las necesidades de atención de usuarios en riesgo. | F45: =IF(ISERROR(VLOOKUP($D45,CriteriosxEstandares!$A:$E,2,FALSE)),0,VLOOKUP($D45,CriteriosxEstandares!$A:$E,2,FALSE)) -> 0 | G45: =IF(ISERROR(VLOOKUP($D45,CriteriosxEstandares!$A:$E,3,FALSE)),0,VLOOKUP($D45,CriteriosxEstandares!$A:$E,3,FALSE)) -> 0 | H45: =IF(ISERROR(VLOOKUP($D45,CriteriosxEstandares!$A:$E,4,FALSE)),0,VLOOKUP($D45,CriteriosxEstandares!$A:$E,4,FALSE)) -> 0 | I45: =IF(ISERROR(VLOOKUP($D45,CriteriosxEstandares!$A:$E,5,FALSE)),0,VLOOKUP($D45,CriteriosxEstandares!$A:$E,5,FALSE)) -> 0 | J45: =SUM(G45:I45) -> 0 | K45: =+G45*2 -> 0 | L45: =+H45*2 -> 0 | M45: =+I45*2 -> 0 | N45: =+K45+L45+M45 -> 0 | O45: 1 | P45: 2 | Q45: 3 | R45: =SUM(O45:Q45) -> 6 | S45: =+K45*O45 -> 0 | T45: =+L45*P45 -> 0 | U45: =+M45*Q45 -> 0 | V45: =SUM(S45:U45) -> 0 | W45: =IF(ISERR(S45/$V45*100),0,S45/$V45*100) -> 0 | X45: =IF(ISERR(T45/$V45*100),0,T45/$V45*100) -> 0 | Y45: =IF(ISERR(U45/$V45*100),0,U45/$V45*100) -> 0 | Z45: =+N45 -> 0 | AA45: =SUM(W45:Y45) -> 0 | AB45: =IF(ISERROR(VLOOKUP($D45,ResultxEstandar!$A:$E,3,FALSE)),0,VLOOKUP($D45,ResultxEstandar!$A:$E,3,FALSE)) -> 0 | AC45: =IF(ISERROR(VLOOKUP($D45,ResultxEstandar!$A:$E,4,FALSE)),0,VLOOKUP($D45,ResultxEstandar!$A:$E,4,FALSE)) -> 0 | AD45: =IF(ISERROR(VLOOKUP($D45,ResultxEstandar!$A:$E,5,FALSE)),0,VLOOKUP($D45,ResultxEstandar!$A:$E,5,FALSE)) -> 0 | AE45: =ROUND(SUM(AB45:AD45),2) -> 0 | AF45: =IF(ISERROR(+W45/100*Z45),0,+W45/100*Z45) -> 0 | AG45: =IF(ISERROR(+X45/100*Z45),0,+X45/100*Z45) -> 0 | AH45: =IF(ISERROR(+Y45/100*Z45),0,+Y45/100*Z45) -> 0 | AI45: =ROUND(SUM(AF45:AH45),2) -> 0 | AJ45: =IF(ISERROR(+AB45*AF45/K45),0,+AB45*AF45/K45) -> 0 | AK45: =IF(ISERROR(+AC45*AG45/L45),0,+AC45*AG45/L45) -> 0 | AL45: =IF(ISERROR(+AD45*AH45/M45),0,+AD45*AH45/M45) -> 0 | AM45: =ROUND(SUM(AJ45:AL45),2) -> 0
D46: EMG-2 | E46: El servicio de emergencia dispone de los recursos necesarios para brindar atención en forma inmediata. | F46: =IF(ISERROR(VLOOKUP($D46,CriteriosxEstandares!$A:$E,2,FALSE)),0,VLOOKUP($D46,CriteriosxEstandares!$A:$E,2,FALSE)) -> 0 | G46: =IF(ISERROR(VLOOKUP($D46,CriteriosxEstandares!$A:$E,3,FALSE)),0,VLOOKUP($D46,CriteriosxEstandares!$A:$E,3,FALSE)) -> 0 | H46: =IF(ISERROR(VLOOKUP($D46,CriteriosxEstandares!$A:$E,4,FALSE)),0,VLOOKUP($D46,CriteriosxEstandares!$A:$E,4,FALSE)) -> 0 | I46: =IF(ISERROR(VLOOKUP($D46,CriteriosxEstandares!$A:$E,5,FALSE)),0,VLOOKUP($D46,CriteriosxEstandares!$A:$E,5,FALSE)) -> 0 | J46: =SUM(G46:I46) -> 0 | K46: =+G46*2 -> 0 | L46: =+H46*2 -> 0 | M46: =+I46*2 -> 0 | N46: =+K46+L46+M46 -> 0 | O46: 1 | P46: 2 | Q46: 3 | R46: =SUM(O46:Q46) -> 6 | S46: =+K46*O46 -> 0 | T46: =+L46*P46 -> 0 | U46: =+M46*Q46 -> 0 | V46: =SUM(S46:U46) -> 0 | W46: =IF(ISERR(S46/$V46*100),0,S46/$V46*100) -> 0 | X46: =IF(ISERR(T46/$V46*100),0,T46/$V46*100) -> 0 | Y46: =IF(ISERR(U46/$V46*100),0,U46/$V46*100) -> 0 | Z46: =+N46 -> 0 | AA46: =SUM(W46:Y46) -> 0 | AB46: =IF(ISERROR(VLOOKUP($D46,ResultxEstandar!$A:$E,3,FALSE)),0,VLOOKUP($D46,ResultxEstandar!$A:$E,3,FALSE)) -> 0 | AC46: =IF(ISERROR(VLOOKUP($D46,ResultxEstandar!$A:$E,4,FALSE)),0,VLOOKUP($D46,ResultxEstandar!$A:$E,4,FALSE)) -> 0 | AD46: =IF(ISERROR(VLOOKUP($D46,ResultxEstandar!$A:$E,5,FALSE)),0,VLOOKUP($D46,ResultxEstandar!$A:$E,5,FALSE)) -> 0 | AE46: =ROUND(SUM(AB46:AD46),2) -> 0 | AF46: =IF(ISERROR(+W46/100*Z46),0,+W46/100*Z46) -> 0 | AG46: =IF(ISERROR(+X46/100*Z46),0,+X46/100*Z46) -> 0 | AH46: =IF(ISERROR(+Y46/100*Z46),0,+Y46/100*Z46) -> 0 | AI46: =ROUND(SUM(AF46:AH46),2) -> 0 | AJ46: =IF(ISERROR(+AB46*AF46/K46),0,+AB46*AF46/K46) -> 0 | AK46: =IF(ISERROR(+AC46*AG46/L46),0,+AC46*AG46/L46) -> 0 | AL46: =IF(ISERROR(+AD46*AH46/M46),0,+AD46*AH46/M46) -> 0 | AM46: =ROUND(SUM(AJ46:AL46),2) -> 0
D47: EMG-3 | E47: El personal de emergencia realiza los procesos de atención que garantizan la continuidad del cuidado del paciente. | F47: =IF(ISERROR(VLOOKUP($D47,CriteriosxEstandares!$A:$E,2,FALSE)),0,VLOOKUP($D47,CriteriosxEstandares!$A:$E,2,FALSE)) -> 0 | G47: =IF(ISERROR(VLOOKUP($D47,CriteriosxEstandares!$A:$E,3,FALSE)),0,VLOOKUP($D47,CriteriosxEstandares!$A:$E,3,FALSE)) -> 0 | H47: =IF(ISERROR(VLOOKUP($D47,CriteriosxEstandares!$A:$E,4,FALSE)),0,VLOOKUP($D47,CriteriosxEstandares!$A:$E,4,FALSE)) -> 0 | I47: =IF(ISERROR(VLOOKUP($D47,CriteriosxEstandares!$A:$E,5,FALSE)),0,VLOOKUP($D47,CriteriosxEstandares!$A:$E,5,FALSE)) -> 0 | J47: =SUM(G47:I47) -> 0 | K47: =+G47*2 -> 0 | L47: =+H47*2 -> 0 | M47: =+I47*2 -> 0 | N47: =+K47+L47+M47 -> 0 | O47: 1 | P47: 2 | Q47: 3 | R47: =SUM(O47:Q47) -> 6 | S47: =+K47*O47 -> 0 | T47: =+L47*P47 -> 0 | U47: =+M47*Q47 -> 0 | V47: =SUM(S47:U47) -> 0 | W47: =IF(ISERR(S47/$V47*100),0,S47/$V47*100) -> 0 | X47: =IF(ISERR(T47/$V47*100),0,T47/$V47*100) -> 0 | Y47: =IF(ISERR(U47/$V47*100),0,U47/$V47*100) -> 0 | Z47: =+N47 -> 0 | AA47: =SUM(W47:Y47) -> 0 | AB47: =IF(ISERROR(VLOOKUP($D47,ResultxEstandar!$A:$E,3,FALSE)),0,VLOOKUP($D47,ResultxEstandar!$A:$E,3,FALSE)) -> 0 | AC47: =IF(ISERROR(VLOOKUP($D47,ResultxEstandar!$A:$E,4,FALSE)),0,VLOOKUP($D47,ResultxEstandar!$A:$E,4,FALSE)) -> 0 | AD47: =IF(ISERROR(VLOOKUP($D47,ResultxEstandar!$A:$E,5,FALSE)),0,VLOOKUP($D47,ResultxEstandar!$A:$E,5,FALSE)) -> 0 | AE47: =ROUND(SUM(AB47:AD47),2) -> 0 | AF47: =IF(ISERROR(+W47/100*Z47),0,+W47/100*Z47) -> 0 | AG47: =IF(ISERROR(+X47/100*Z47),0,+X47/100*Z47) -> 0 | AH47: =IF(ISERROR(+Y47/100*Z47),0,+Y47/100*Z47) -> 0 | AI47: =ROUND(SUM(AF47:AH47),2) -> 0 | AJ47: =IF(ISERROR(+AB47*AF47/K47),0,+AB47*AF47/K47) -> 0 | AK47: =IF(ISERROR(+AC47*AG47/L47),0,+AC47*AG47/L47) -> 0 | AL47: =IF(ISERROR(+AD47*AH47/M47),0,+AD47*AH47/M47) -> 0 | AM47: =ROUND(SUM(AJ47:AL47),2) -> 0
B48: ATQ | C48: Atención quirúrgica | D48: ATQ-1 | E48: El centro quirúrgico está organizado para realizar cirugías según funciones básicas | F48: =IF(ISERROR(VLOOKUP($D48,CriteriosxEstandares!$A:$E,2,FALSE)),0,VLOOKUP($D48,CriteriosxEstandares!$A:$E,2,FALSE)) -> 0 | G48: =IF(ISERROR(VLOOKUP($D48,CriteriosxEstandares!$A:$E,3,FALSE)),0,VLOOKUP($D48,CriteriosxEstandares!$A:$E,3,FALSE)) -> 0 | H48: =IF(ISERROR(VLOOKUP($D48,CriteriosxEstandares!$A:$E,4,FALSE)),0,VLOOKUP($D48,CriteriosxEstandares!$A:$E,4,FALSE)) -> 0 | I48: =IF(ISERROR(VLOOKUP($D48,CriteriosxEstandares!$A:$E,5,FALSE)),0,VLOOKUP($D48,CriteriosxEstandares!$A:$E,5,FALSE)) -> 0 | J48: =SUM(G48:I48) -> 0 | K48: =+G48*2 -> 0 | L48: =+H48*2 -> 0 | M48: =+I48*2 -> 0 | N48: =+K48+L48+M48 -> 0 | O48: 1 | P48: 2 | Q48: 3 | R48: =SUM(O48:Q48) -> 6 | S48: =+K48*O48 -> 0 | T48: =+L48*P48 -> 0 | U48: =+M48*Q48 -> 0 | V48: =SUM(S48:U48) -> 0 | W48: =IF(ISERR(S48/$V48*100),0,S48/$V48*100) -> 0 | X48: =IF(ISERR(T48/$V48*100),0,T48/$V48*100) -> 0 | Y48: =IF(ISERR(U48/$V48*100),0,U48/$V48*100) -> 0 | Z48: =+N48 -> 0 | AA48: =SUM(W48:Y48) -> 0 | AB48: =IF(ISERROR(VLOOKUP($D48,ResultxEstandar!$A:$E,3,FALSE)),0,VLOOKUP($D48,ResultxEstandar!$A:$E,3,FALSE)) -> 0 | AC48: =IF(ISERROR(VLOOKUP($D48,ResultxEstandar!$A:$E,4,FALSE)),0,VLOOKUP($D48,ResultxEstandar!$A:$E,4,FALSE)) -> 0 | AD48: =IF(ISERROR(VLOOKUP($D48,ResultxEstandar!$A:$E,5,FALSE)),0,VLOOKUP($D48,ResultxEstandar!$A:$E,5,FALSE)) -> 0 | AE48: =ROUND(SUM(AB48:AD48),2) -> 0 | AF48: =IF(ISERROR(+W48/100*Z48),0,+W48/100*Z48) -> 0 | AG48: =IF(ISERROR(+X48/100*Z48),0,+X48/100*Z48) -> 0 | AH48: =IF(ISERROR(+Y48/100*Z48),0,+Y48/100*Z48) -> 0 | AI48: =ROUND(SUM(AF48:AH48),2) -> 0 | AJ48: =IF(ISERROR(+AB48*AF48/K48),0,+AB48*AF48/K48) -> 0 | AK48: =IF(ISERROR(+AC48*AG48/L48),0,+AC48*AG48/L48) -> 0 | AL48: =IF(ISERROR(+AD48*AH48/M48),0,+AD48*AH48/M48) -> 0 | AM48: =ROUND(SUM(AJ48:AL48),2) -> 0
D49: ATQ-2 | E49: El personal de enfermería realiza procedimientos de preparación quirúrgica orientados a la seguridad del usuario | F49: =IF(ISERROR(VLOOKUP($D49,CriteriosxEstandares!$A:$E,2,FALSE)),0,VLOOKUP($D49,CriteriosxEstandares!$A:$E,2,FALSE)) -> 0 | G49: =IF(ISERROR(VLOOKUP($D49,CriteriosxEstandares!$A:$E,3,FALSE)),0,VLOOKUP($D49,CriteriosxEstandares!$A:$E,3,FALSE)) -> 0 | H49: =IF(ISERROR(VLOOKUP($D49,CriteriosxEstandares!$A:$E,4,FALSE)),0,VLOOKUP($D49,CriteriosxEstandares!$A:$E,4,FALSE)) -> 0 | I49: =IF(ISERROR(VLOOKUP($D49,CriteriosxEstandares!$A:$E,5,FALSE)),0,VLOOKUP($D49,CriteriosxEstandares!$A:$E,5,FALSE)) -> 0 | J49: =SUM(G49:I49) -> 0 | K49: =+G49*2 -> 0 | L49: =+H49*2 -> 0 | M49: =+I49*2 -> 0 | N49: =+K49+L49+M49 -> 0 | O49: 1 | P49: 2 | Q49: 3 | R49: =SUM(O49:Q49) -> 6 | S49: =+K49*O49 -> 0 | T49: =+L49*P49 -> 0 | U49: =+M49*Q49 -> 0 | V49: =SUM(S49:U49) -> 0 | W49: =IF(ISERR(S49/$V49*100),0,S49/$V49*100) -> 0 | X49: =IF(ISERR(T49/$V49*100),0,T49/$V49*100) -> 0 | Y49: =IF(ISERR(U49/$V49*100),0,U49/$V49*100) -> 0 | Z49: =+N49 -> 0 | AA49: =SUM(W49:Y49) -> 0 | AB49: =IF(ISERROR(VLOOKUP($D49,ResultxEstandar!$A:$E,3,FALSE)),0,VLOOKUP($D49,ResultxEstandar!$A:$E,3,FALSE)) -> 0 | AC49: =IF(ISERROR(VLOOKUP($D49,ResultxEstandar!$A:$E,4,FALSE)),0,VLOOKUP($D49,ResultxEstandar!$A:$E,4,FALSE)) -> 0 | AD49: =IF(ISERROR(VLOOKUP($D49,ResultxEstandar!$A:$E,5,FALSE)),0,VLOOKUP($D49,ResultxEstandar!$A:$E,5,FALSE)) -> 0 | AE49: =ROUND(SUM(AB49:AD49),2) -> 0 | AF49: =IF(ISERROR(+W49/100*Z49),0,+W49/100*Z49) -> 0 | AG49: =IF(ISERROR(+X49/100*Z49),0,+X49/100*Z49) -> 0 | AH49: =IF(ISERROR(+Y49/100*Z49),0,+Y49/100*Z49) -> 0 | AI49: =ROUND(SUM(AF49:AH49),2) -> 0 | AJ49: =IF(ISERROR(+AB49*AF49/K49),0,+AB49*AF49/K49) -> 0 | AK49: =IF(ISERROR(+AC49*AG49/L49),0,+AC49*AG49/L49) -> 0 | AL49: =IF(ISERROR(+AD49*AH49/M49),0,+AD49*AH49/M49) -> 0 | AM49: =ROUND(SUM(AJ49:AL49),2) -> 0
D50: ATQ-3 | E50: El acto quirúrgico se brinda según los procedimientos establecidos | F50: =IF(ISERROR(VLOOKUP($D50,CriteriosxEstandares!$A:$E,2,FALSE)),0,VLOOKUP($D50,CriteriosxEstandares!$A:$E,2,FALSE)) -> 0 | G50: =IF(ISERROR(VLOOKUP($D50,CriteriosxEstandares!$A:$E,3,FALSE)),0,VLOOKUP($D50,CriteriosxEstandares!$A:$E,3,FALSE)) -> 0 | H50: =IF(ISERROR(VLOOKUP($D50,CriteriosxEstandares!$A:$E,4,FALSE)),0,VLOOKUP($D50,CriteriosxEstandares!$A:$E,4,FALSE)) -> 0 | I50: =IF(ISERROR(VLOOKUP($D50,CriteriosxEstandares!$A:$E,5,FALSE)),0,VLOOKUP($D50,CriteriosxEstandares!$A:$E,5,FALSE)) -> 0 | J50: =SUM(G50:I50) -> 0 | K50: =+G50*2 -> 0 | L50: =+H50*2 -> 0 | M50: =+I50*2 -> 0 | N50: =+K50+L50+M50 -> 0 | O50: 1 | P50: 2 | Q50: 3 | R50: =SUM(O50:Q50) -> 6 | S50: =+K50*O50 -> 0 | T50: =+L50*P50 -> 0 | U50: =+M50*Q50 -> 0 | V50: =SUM(S50:U50) -> 0 | W50: =IF(ISERR(S50/$V50*100),0,S50/$V50*100) -> 0 | X50: =IF(ISERR(T50/$V50*100),0,T50/$V50*100) -> 0 | Y50: =IF(ISERR(U50/$V50*100),0,U50/$V50*100) -> 0 | Z50: =+N50 -> 0 | AA50: =SUM(W50:Y50) -> 0 | AB50: =IF(ISERROR(VLOOKUP($D50,ResultxEstandar!$A:$E,3,FALSE)),0,VLOOKUP($D50,ResultxEstandar!$A:$E,3,FALSE)) -> 0 | AC50: =IF(ISERROR(VLOOKUP($D50,ResultxEstandar!$A:$E,4,FALSE)),0,VLOOKUP($D50,ResultxEstandar!$A:$E,4,FALSE)) -> 0 | AD50: =IF(ISERROR(VLOOKUP($D50,ResultxEstandar!$A:$E,5,FALSE)),0,VLOOKUP($D50,ResultxEstandar!$A:$E,5,FALSE)) -> 0 | AE50: =ROUND(SUM(AB50:AD50),2) -> 0 | AF50: =IF(ISERROR(+W50/100*Z50),0,+W50/100*Z50) -> 0 | AG50: =IF(ISERROR(+X50/100*Z50),0,+X50/100*Z50) -> 0 | AH50: =IF(ISERROR(+Y50/100*Z50),0,+Y50/100*Z50) -> 0 | AI50: =ROUND(SUM(AF50:AH50),2) -> 0 | AJ50: =IF(ISERROR(+AB50*AF50/K50),0,+AB50*AF50/K50) -> 0 | AK50: =IF(ISERROR(+AC50*AG50/L50),0,+AC50*AG50/L50) -> 0 | AL50: =IF(ISERROR(+AD50*AH50/M50),0,+AD50*AH50/M50) -> 0 | AM50: =ROUND(SUM(AJ50:AL50),2) -> 0
D51: ATQ-4 | E51: El establecimiento de salud realiza acciones de control de las prestaciones brindadas en el centro quirúrgico e implementa acciones para su mejora | F51: =IF(ISERROR(VLOOKUP($D51,CriteriosxEstandares!$A:$E,2,FALSE)),0,VLOOKUP($D51,CriteriosxEstandares!$A:$E,2,FALSE)) -> 0 | G51: =IF(ISERROR(VLOOKUP($D51,CriteriosxEstandares!$A:$E,3,FALSE)),0,VLOOKUP($D51,CriteriosxEstandares!$A:$E,3,FALSE)) -> 0 | H51: =IF(ISERROR(VLOOKUP($D51,CriteriosxEstandares!$A:$E,4,FALSE)),0,VLOOKUP($D51,CriteriosxEstandares!$A:$E,4,FALSE)) -> 0 | I51: =IF(ISERROR(VLOOKUP($D51,CriteriosxEstandares!$A:$E,5,FALSE)),0,VLOOKUP($D51,CriteriosxEstandares!$A:$E,5,FALSE)) -> 0 | J51: =SUM(G51:I51) -> 0 | K51: =+G51*2 -> 0 | L51: =+H51*2 -> 0 | M51: =+I51*2 -> 0 | N51: =+K51+L51+M51 -> 0 | O51: 1 | P51: 2 | Q51: 3 | R51: =SUM(O51:Q51) -> 6 | S51: =+K51*O51 -> 0 | T51: =+L51*P51 -> 0 | U51: =+M51*Q51 -> 0 | V51: =SUM(S51:U51) -> 0 | W51: =IF(ISERR(S51/$V51*100),0,S51/$V51*100) -> 0 | X51: =IF(ISERR(T51/$V51*100),0,T51/$V51*100) -> 0 | Y51: =IF(ISERR(U51/$V51*100),0,U51/$V51*100) -> 0 | Z51: =+N51 -> 0 | AA51: =SUM(W51:Y51) -> 0 | AB51: =IF(ISERROR(VLOOKUP($D51,ResultxEstandar!$A:$E,3,FALSE)),0,VLOOKUP($D51,ResultxEstandar!$A:$E,3,FALSE)) -> 0 | AC51: =IF(ISERROR(VLOOKUP($D51,ResultxEstandar!$A:$E,4,FALSE)),0,VLOOKUP($D51,ResultxEstandar!$A:$E,4,FALSE)) -> 0 | AD51: =IF(ISERROR(VLOOKUP($D51,ResultxEstandar!$A:$E,5,FALSE)),0,VLOOKUP($D51,ResultxEstandar!$A:$E,5,FALSE)) -> 0 | AE51: =ROUND(SUM(AB51:AD51),2) -> 0 | AF51: =IF(ISERROR(+W51/100*Z51),0,+W51/100*Z51) -> 0 | AG51: =IF(ISERROR(+X51/100*Z51),0,+X51/100*Z51) -> 0 | AH51: =IF(ISERROR(+Y51/100*Z51),0,+Y51/100*Z51) -> 0 | AI51: =ROUND(SUM(AF51:AH51),2) -> 0 | AJ51: =IF(ISERROR(+AB51*AF51/K51),0,+AB51*AF51/K51) -> 0 | AK51: =IF(ISERROR(+AC51*AG51/L51),0,+AC51*AG51/L51) -> 0 | AL51: =IF(ISERROR(+AD51*AH51/M51),0,+AD51*AH51/M51) -> 0 | AM51: =ROUND(SUM(AJ51:AL51),2) -> 0
B52: DIV | C52: Docencia e Investigación | D52: DIV-1 | E52: El establecimiento está organizado para desarrollar actividades de docencia e investigación | F52: =IF(ISERROR(VLOOKUP($D52,CriteriosxEstandares!$A:$E,2,FALSE)),0,VLOOKUP($D52,CriteriosxEstandares!$A:$E,2,FALSE)) -> 0 | G52: =IF(ISERROR(VLOOKUP($D52,CriteriosxEstandares!$A:$E,3,FALSE)),0,VLOOKUP($D52,CriteriosxEstandares!$A:$E,3,FALSE)) -> 0 | H52: =IF(ISERROR(VLOOKUP($D52,CriteriosxEstandares!$A:$E,4,FALSE)),0,VLOOKUP($D52,CriteriosxEstandares!$A:$E,4,FALSE)) -> 0 | I52: =IF(ISERROR(VLOOKUP($D52,CriteriosxEstandares!$A:$E,5,FALSE)),0,VLOOKUP($D52,CriteriosxEstandares!$A:$E,5,FALSE)) -> 0 | J52: =SUM(G52:I52) -> 0 | K52: =+G52*2 -> 0 | L52: =+H52*2 -> 0 | M52: =+I52*2 -> 0 | N52: =+K52+L52+M52 -> 0 | O52: 1 | P52: 2 | Q52: 3 | R52: =SUM(O52:Q52) -> 6 | S52: =+K52*O52 -> 0 | T52: =+L52*P52 -> 0 | U52: =+M52*Q52 -> 0 | V52: =SUM(S52:U52) -> 0 | W52: =IF(ISERR(S52/$V52*100),0,S52/$V52*100) -> 0 | X52: =IF(ISERR(T52/$V52*100),0,T52/$V52*100) -> 0 | Y52: =IF(ISERR(U52/$V52*100),0,U52/$V52*100) -> 0 | Z52: =+N52 -> 0 | AA52: =SUM(W52:Y52) -> 0 | AB52: =IF(ISERROR(VLOOKUP($D52,ResultxEstandar!$A:$E,3,FALSE)),0,VLOOKUP($D52,ResultxEstandar!$A:$E,3,FALSE)) -> 0 | AC52: =IF(ISERROR(VLOOKUP($D52,ResultxEstandar!$A:$E,4,FALSE)),0,VLOOKUP($D52,ResultxEstandar!$A:$E,4,FALSE)) -> 0 | AD52: =IF(ISERROR(VLOOKUP($D52,ResultxEstandar!$A:$E,5,FALSE)),0,VLOOKUP($D52,ResultxEstandar!$A:$E,5,FALSE)) -> 0 | AE52: =ROUND(SUM(AB52:AD52),2) -> 0 | AF52: =IF(ISERROR(+W52/100*Z52),0,+W52/100*Z52) -> 0 | AG52: =IF(ISERROR(+X52/100*Z52),0,+X52/100*Z52) -> 0 | AH52: =IF(ISERROR(+Y52/100*Z52),0,+Y52/100*Z52) -> 0 | AI52: =ROUND(SUM(AF52:AH52),2) -> 0 | AJ52: =IF(ISERROR(+AB52*AF52/K52),0,+AB52*AF52/K52) -> 0 | AK52: =IF(ISERROR(+AC52*AG52/L52),0,+AC52*AG52/L52) -> 0 | AL52: =IF(ISERROR(+AD52*AH52/M52),0,+AD52*AH52/M52) -> 0 | AM52: =ROUND(SUM(AJ52:AL52),2) -> 0
D53: DIV-2 | E53: Se desarrollan actividades académicas y de investigación de acuerdo con lo establecido en el plan de trabajo | F53: =IF(ISERROR(VLOOKUP($D53,CriteriosxEstandares!$A:$E,2,FALSE)),0,VLOOKUP($D53,CriteriosxEstandares!$A:$E,2,FALSE)) -> 0 | G53: =IF(ISERROR(VLOOKUP($D53,CriteriosxEstandares!$A:$E,3,FALSE)),0,VLOOKUP($D53,CriteriosxEstandares!$A:$E,3,FALSE)) -> 0 | H53: =IF(ISERROR(VLOOKUP($D53,CriteriosxEstandares!$A:$E,4,FALSE)),0,VLOOKUP($D53,CriteriosxEstandares!$A:$E,4,FALSE)) -> 0 | I53: =IF(ISERROR(VLOOKUP($D53,CriteriosxEstandares!$A:$E,5,FALSE)),0,VLOOKUP($D53,CriteriosxEstandares!$A:$E,5,FALSE)) -> 0 | J53: =SUM(G53:I53) -> 0 | K53: =+G53*2 -> 0 | L53: =+H53*2 -> 0 | M53: =+I53*2 -> 0 | N53: =+K53+L53+M53 -> 0 | O53: 1 | P53: 2 | Q53: 3 | R53: =SUM(O53:Q53) -> 6 | S53: =+K53*O53 -> 0 | T53: =+L53*P53 -> 0 | U53: =+M53*Q53 -> 0 | V53: =SUM(S53:U53) -> 0 | W53: =IF(ISERR(S53/$V53*100),0,S53/$V53*100) -> 0 | X53: =IF(ISERR(T53/$V53*100),0,T53/$V53*100) -> 0 | Y53: =IF(ISERR(U53/$V53*100),0,U53/$V53*100) -> 0 | Z53: =+N53 -> 0 | AA53: =SUM(W53:Y53) -> 0 | AB53: =IF(ISERROR(VLOOKUP($D53,ResultxEstandar!$A:$E,3,FALSE)),0,VLOOKUP($D53,ResultxEstandar!$A:$E,3,FALSE)) -> 0 | AC53: =IF(ISERROR(VLOOKUP($D53,ResultxEstandar!$A:$E,4,FALSE)),0,VLOOKUP($D53,ResultxEstandar!$A:$E,4,FALSE)) -> 0 | AD53: =IF(ISERROR(VLOOKUP($D53,ResultxEstandar!$A:$E,5,FALSE)),0,VLOOKUP($D53,ResultxEstandar!$A:$E,5,FALSE)) -> 0 | AE53: =ROUND(SUM(AB53:AD53),2) -> 0 | AF53: =IF(ISERROR(+W53/100*Z53),0,+W53/100*Z53) -> 0 | AG53: =IF(ISERROR(+X53/100*Z53),0,+X53/100*Z53) -> 0 | AH53: =IF(ISERROR(+Y53/100*Z53),0,+Y53/100*Z53) -> 0 | AI53: =ROUND(SUM(AF53:AH53),2) -> 0 | AJ53: =IF(ISERROR(+AB53*AF53/K53),0,+AB53*AF53/K53) -> 0 | AK53: =IF(ISERROR(+AC53*AG53/L53),0,+AC53*AG53/L53) -> 0 | AL53: =IF(ISERROR(+AD53*AH53/M53),0,+AD53*AH53/M53) -> 0 | AM53: =ROUND(SUM(AJ53:AL53),2) -> 0
B54: ADT | C54: Atención de Apoyo diagnóstico y terapéutico | D54: ADT-1 | E54: Los servicios de apoyo diagnóstico y tratamiento garantizan la idoneidad de sus procedimientos. | F54: =IF(ISERROR(VLOOKUP($D54,CriteriosxEstandares!$A:$E,2,FALSE)),0,VLOOKUP($D54,CriteriosxEstandares!$A:$E,2,FALSE)) -> 0 | G54: =IF(ISERROR(VLOOKUP($D54,CriteriosxEstandares!$A:$E,3,FALSE)),0,VLOOKUP($D54,CriteriosxEstandares!$A:$E,3,FALSE)) -> 0 | H54: =IF(ISERROR(VLOOKUP($D54,CriteriosxEstandares!$A:$E,4,FALSE)),0,VLOOKUP($D54,CriteriosxEstandares!$A:$E,4,FALSE)) -> 0 | I54: =IF(ISERROR(VLOOKUP($D54,CriteriosxEstandares!$A:$E,5,FALSE)),0,VLOOKUP($D54,CriteriosxEstandares!$A:$E,5,FALSE)) -> 0 | J54: =SUM(G54:I54) -> 0 | K54: =+G54*2 -> 0 | L54: =+H54*2 -> 0 | M54: =+I54*2 -> 0 | N54: =+K54+L54+M54 -> 0 | O54: 1 | P54: 2 | Q54: 3 | R54: =SUM(O54:Q54) -> 6 | S54: =+K54*O54 -> 0 | T54: =+L54*P54 -> 0 | U54: =+M54*Q54 -> 0 | V54: =SUM(S54:U54) -> 0 | W54: =IF(ISERR(S54/$V54*100),0,S54/$V54*100) -> 0 | X54: =IF(ISERR(T54/$V54*100),0,T54/$V54*100) -> 0 | Y54: =IF(ISERR(U54/$V54*100),0,U54/$V54*100) -> 0 | Z54: =+N54 -> 0 | AA54: =SUM(W54:Y54) -> 0 | AB54: =IF(ISERROR(VLOOKUP($D54,ResultxEstandar!$A:$E,3,FALSE)),0,VLOOKUP($D54,ResultxEstandar!$A:$E,3,FALSE)) -> 0 | AC54: =IF(ISERROR(VLOOKUP($D54,ResultxEstandar!$A:$E,4,FALSE)),0,VLOOKUP($D54,ResultxEstandar!$A:$E,4,FALSE)) -> 0 | AD54: =IF(ISERROR(VLOOKUP($D54,ResultxEstandar!$A:$E,5,FALSE)),0,VLOOKUP($D54,ResultxEstandar!$A:$E,5,FALSE)) -> 0 | AE54: =ROUND(SUM(AB54:AD54),2) -> 0 | AF54: =IF(ISERROR(+W54/100*Z54),0,+W54/100*Z54) -> 0 | AG54: =IF(ISERROR(+X54/100*Z54),0,+X54/100*Z54) -> 0 | AH54: =IF(ISERROR(+Y54/100*Z54),0,+Y54/100*Z54) -> 0 | AI54: =ROUND(SUM(AF54:AH54),2) -> 0 | AJ54: =IF(ISERROR(+AB54*AF54/K54),0,+AB54*AF54/K54) -> 0 | AK54: =IF(ISERROR(+AC54*AG54/L54),0,+AC54*AG54/L54) -> 0 | AL54: =IF(ISERROR(+AD54*AH54/M54),0,+AD54*AH54/M54) -> 0 | AM54: =ROUND(SUM(AJ54:AL54),2) -> 0
D55: ADT-2 | E55: El proceso de planeación del cuidado y tratamiento incluye la investigación diagnóstica cuando la patología lo hace necesario. | F55: =IF(ISERROR(VLOOKUP($D55,CriteriosxEstandares!$A:$E,2,FALSE)),0,VLOOKUP($D55,CriteriosxEstandares!$A:$E,2,FALSE)) -> 0 | G55: =IF(ISERROR(VLOOKUP($D55,CriteriosxEstandares!$A:$E,3,FALSE)),0,VLOOKUP($D55,CriteriosxEstandares!$A:$E,3,FALSE)) -> 0 | H55: =IF(ISERROR(VLOOKUP($D55,CriteriosxEstandares!$A:$E,4,FALSE)),0,VLOOKUP($D55,CriteriosxEstandares!$A:$E,4,FALSE)) -> 0 | I55: =IF(ISERROR(VLOOKUP($D55,CriteriosxEstandares!$A:$E,5,FALSE)),0,VLOOKUP($D55,CriteriosxEstandares!$A:$E,5,FALSE)) -> 0 | J55: =SUM(G55:I55) -> 0 | K55: =+G55*2 -> 0 | L55: =+H55*2 -> 0 | M55: =+I55*2 -> 0 | N55: =+K55+L55+M55 -> 0 | O55: 1 | P55: 2 | Q55: 3 | R55: =SUM(O55:Q55) -> 6 | S55: =+K55*O55 -> 0 | T55: =+L55*P55 -> 0 | U55: =+M55*Q55 -> 0 | V55: =SUM(S55:U55) -> 0 | W55: =IF(ISERR(S55/$V55*100),0,S55/$V55*100) -> 0 | X55: =IF(ISERR(T55/$V55*100),0,T55/$V55*100) -> 0 | Y55: =IF(ISERR(U55/$V55*100),0,U55/$V55*100) -> 0 | Z55: =+N55 -> 0 | AA55: =SUM(W55:Y55) -> 0 | AB55: =IF(ISERROR(VLOOKUP($D55,ResultxEstandar!$A:$E,3,FALSE)),0,VLOOKUP($D55,ResultxEstandar!$A:$E,3,FALSE)) -> 0 | AC55: =IF(ISERROR(VLOOKUP($D55,ResultxEstandar!$A:$E,4,FALSE)),0,VLOOKUP($D55,ResultxEstandar!$A:$E,4,FALSE)) -> 0 | AD55: =IF(ISERROR(VLOOKUP($D55,ResultxEstandar!$A:$E,5,FALSE)),0,VLOOKUP($D55,ResultxEstandar!$A:$E,5,FALSE)) -> 0 | AE55: =ROUND(SUM(AB55:AD55),2) -> 0 | AF55: =IF(ISERROR(+W55/100*Z55),0,+W55/100*Z55) -> 0 | AG55: =IF(ISERROR(+X55/100*Z55),0,+X55/100*Z55) -> 0 | AH55: =IF(ISERROR(+Y55/100*Z55),0,+Y55/100*Z55) -> 0 | AI55: =ROUND(SUM(AF55:AH55),2) -> 0 | AJ55: =IF(ISERROR(+AB55*AF55/K55),0,+AB55*AF55/K55) -> 0 | AK55: =IF(ISERROR(+AC55*AG55/L55),0,+AC55*AG55/L55) -> 0 | AL55: =IF(ISERROR(+AD55*AH55/M55),0,+AD55*AH55/M55) -> 0 | AM55: =ROUND(SUM(AJ55:AL55),2) -> 0
D56: ADT-3 | E56: Se controla la calidad de las actividades de apoyo diagnóstico según normatividad nacional, subsectorial o institucional. | F56: =IF(ISERROR(VLOOKUP($D56,CriteriosxEstandares!$A:$E,2,FALSE)),0,VLOOKUP($D56,CriteriosxEstandares!$A:$E,2,FALSE)) -> 0 | G56: =IF(ISERROR(VLOOKUP($D56,CriteriosxEstandares!$A:$E,3,FALSE)),0,VLOOKUP($D56,CriteriosxEstandares!$A:$E,3,FALSE)) -> 0 | H56: =IF(ISERROR(VLOOKUP($D56,CriteriosxEstandares!$A:$E,4,FALSE)),0,VLOOKUP($D56,CriteriosxEstandares!$A:$E,4,FALSE)) -> 0 | I56: =IF(ISERROR(VLOOKUP($D56,CriteriosxEstandares!$A:$E,5,FALSE)),0,VLOOKUP($D56,CriteriosxEstandares!$A:$E,5,FALSE)) -> 0 | J56: =SUM(G56:I56) -> 0 | K56: =+G56*2 -> 0 | L56: =+H56*2 -> 0 | M56: =+I56*2 -> 0 | N56: =+K56+L56+M56 -> 0 | O56: 1 | P56: 2 | Q56: 3 | R56: =SUM(O56:Q56) -> 6 | S56: =+K56*O56 -> 0 | T56: =+L56*P56 -> 0 | U56: =+M56*Q56 -> 0 | V56: =SUM(S56:U56) -> 0 | W56: =IF(ISERR(S56/$V56*100),0,S56/$V56*100) -> 0 | X56: =IF(ISERR(T56/$V56*100),0,T56/$V56*100) -> 0 | Y56: =IF(ISERR(U56/$V56*100),0,U56/$V56*100) -> 0 | Z56: =+N56 -> 0 | AA56: =SUM(W56:Y56) -> 0 | AB56: =IF(ISERROR(VLOOKUP($D56,ResultxEstandar!$A:$E,3,FALSE)),0,VLOOKUP($D56,ResultxEstandar!$A:$E,3,FALSE)) -> 0 | AC56: =IF(ISERROR(VLOOKUP($D56,ResultxEstandar!$A:$E,4,FALSE)),0,VLOOKUP($D56,ResultxEstandar!$A:$E,4,FALSE)) -> 0 | AD56: =IF(ISERROR(VLOOKUP($D56,ResultxEstandar!$A:$E,5,FALSE)),0,VLOOKUP($D56,ResultxEstandar!$A:$E,5,FALSE)) -> 0 | AE56: =ROUND(SUM(AB56:AD56),2) -> 0 | AF56: =IF(ISERROR(+W56/100*Z56),0,+W56/100*Z56) -> 0 | AG56: =IF(ISERROR(+X56/100*Z56),0,+X56/100*Z56) -> 0 | AH56: =IF(ISERROR(+Y56/100*Z56),0,+Y56/100*Z56) -> 0 | AI56: =ROUND(SUM(AF56:AH56),2) -> 0 | AJ56: =IF(ISERROR(+AB56*AF56/K56),0,+AB56*AF56/K56) -> 0 | AK56: =IF(ISERROR(+AC56*AG56/L56),0,+AC56*AG56/L56) -> 0 | AL56: =IF(ISERROR(+AD56*AH56/M56),0,+AD56*AH56/M56) -> 0 | AM56: =ROUND(SUM(AJ56:AL56),2) -> 0
B57: ADA | C57: Admisión y alta | D57: ADA-1 | E57: El establecimiento está organizado para garantizar el proceso de admisión a los usuarios bajo los atributos de oportunidad, continuidad y según las normas institucionales. | F57: =IF(ISERROR(VLOOKUP($D57,CriteriosxEstandares!$A:$E,2,FALSE)),0,VLOOKUP($D57,CriteriosxEstandares!$A:$E,2,FALSE)) -> 4 | G57: =IF(ISERROR(VLOOKUP($D57,CriteriosxEstandares!$A:$E,3,FALSE)),0,VLOOKUP($D57,CriteriosxEstandares!$A:$E,3,FALSE)) -> 2 | H57: =IF(ISERROR(VLOOKUP($D57,CriteriosxEstandares!$A:$E,4,FALSE)),0,VLOOKUP($D57,CriteriosxEstandares!$A:$E,4,FALSE)) -> 2 | I57: =IF(ISERROR(VLOOKUP($D57,CriteriosxEstandares!$A:$E,5,FALSE)),0,VLOOKUP($D57,CriteriosxEstandares!$A:$E,5,FALSE)) -> 0 | J57: =SUM(G57:I57) -> 4 | K57: =+G57*2 -> 4 | L57: =+H57*2 -> 4 | M57: =+I57*2 -> 0 | N57: =+K57+L57+M57 -> 8 | O57: 1 | P57: 2 | Q57: 3 | R57: =SUM(O57:Q57) -> 6 | S57: =+K57*O57 -> 4 | T57: =+L57*P57 -> 8 | U57: =+M57*Q57 -> 0 | V57: =SUM(S57:U57) -> 12 | W57: =IF(ISERR(S57/$V57*100),0,S57/$V57*100) -> 33.333333 | X57: =IF(ISERR(T57/$V57*100),0,T57/$V57*100) -> 66.666667 | Y57: =IF(ISERR(U57/$V57*100),0,U57/$V57*100) -> 0 | Z57: =+N57 -> 8 | AA57: =SUM(W57:Y57) -> 100 | AB57: =IF(ISERROR(VLOOKUP($D57,ResultxEstandar!$A:$E,3,FALSE)),0,VLOOKUP($D57,ResultxEstandar!$A:$E,3,FALSE)) -> 4 | AC57: =IF(ISERROR(VLOOKUP($D57,ResultxEstandar!$A:$E,4,FALSE)),0,VLOOKUP($D57,ResultxEstandar!$A:$E,4,FALSE)) -> 3 | AD57: =IF(ISERROR(VLOOKUP($D57,ResultxEstandar!$A:$E,5,FALSE)),0,VLOOKUP($D57,ResultxEstandar!$A:$E,5,FALSE)) -> 0 | AE57: =ROUND(SUM(AB57:AD57),2) -> 7 | AF57: =IF(ISERROR(+W57/100*Z57),0,+W57/100*Z57) -> 2.6666667 | AG57: =IF(ISERROR(+X57/100*Z57),0,+X57/100*Z57) -> 5.3333333 | AH57: =IF(ISERROR(+Y57/100*Z57),0,+Y57/100*Z57) -> 0 | AI57: =ROUND(SUM(AF57:AH57),2) -> 8 | AJ57: =IF(ISERROR(+AB57*AF57/K57),0,+AB57*AF57/K57) -> 2.6666667 | AK57: =IF(ISERROR(+AC57*AG57/L57),0,+AC57*AG57/L57) -> 4 | AL57: =IF(ISERROR(+AD57*AH57/M57),0,+AD57*AH57/M57) -> 0 | AM57: =ROUND(SUM(AJ57:AL57),2) -> 6.67
D58: ADA-2 | E58: El establecimiento de salud brinda servicios de admisión integral con enfoque al usuario. | F58: =IF(ISERROR(VLOOKUP($D58,CriteriosxEstandares!$A:$E,2,FALSE)),0,VLOOKUP($D58,CriteriosxEstandares!$A:$E,2,FALSE)) -> 0 | G58: =IF(ISERROR(VLOOKUP($D58,CriteriosxEstandares!$A:$E,3,FALSE)),0,VLOOKUP($D58,CriteriosxEstandares!$A:$E,3,FALSE)) -> 0 | H58: =IF(ISERROR(VLOOKUP($D58,CriteriosxEstandares!$A:$E,4,FALSE)),0,VLOOKUP($D58,CriteriosxEstandares!$A:$E,4,FALSE)) -> 0 | I58: =IF(ISERROR(VLOOKUP($D58,CriteriosxEstandares!$A:$E,5,FALSE)),0,VLOOKUP($D58,CriteriosxEstandares!$A:$E,5,FALSE)) -> 0 | J58: =SUM(G58:I58) -> 0 | K58: =+G58*2 -> 0 | L58: =+H58*2 -> 0 | M58: =+I58*2 -> 0 | N58: =+K58+L58+M58 -> 0 | O58: 1 | P58: 2 | Q58: 3 | R58: =SUM(O58:Q58) -> 6 | S58: =+K58*O58 -> 0 | T58: =+L58*P58 -> 0 | U58: =+M58*Q58 -> 0 | V58: =SUM(S58:U58) -> 0 | W58: =IF(ISERR(S58/$V58*100),0,S58/$V58*100) -> 0 | X58: =IF(ISERR(T58/$V58*100),0,T58/$V58*100) -> 0 | Y58: =IF(ISERR(U58/$V58*100),0,U58/$V58*100) -> 0 | Z58: =+N58 -> 0 | AA58: =SUM(W58:Y58) -> 0 | AB58: =IF(ISERROR(VLOOKUP($D58,ResultxEstandar!$A:$E,3,FALSE)),0,VLOOKUP($D58,ResultxEstandar!$A:$E,3,FALSE)) -> 0 | AC58: =IF(ISERROR(VLOOKUP($D58,ResultxEstandar!$A:$E,4,FALSE)),0,VLOOKUP($D58,ResultxEstandar!$A:$E,4,FALSE)) -> 0 | AD58: =IF(ISERROR(VLOOKUP($D58,ResultxEstandar!$A:$E,5,FALSE)),0,VLOOKUP($D58,ResultxEstandar!$A:$E,5,FALSE)) -> 0 | AE58: =ROUND(SUM(AB58:AD58),2) -> 0 | AF58: =IF(ISERROR(+W58/100*Z58),0,+W58/100*Z58) -> 0 | AG58: =IF(ISERROR(+X58/100*Z58),0,+X58/100*Z58) -> 0 | AH58: =IF(ISERROR(+Y58/100*Z58),0,+Y58/100*Z58) -> 0 | AI58: =ROUND(SUM(AF58:AH58),2) -> 0 | AJ58: =IF(ISERROR(+AB58*AF58/K58),0,+AB58*AF58/K58) -> 0 | AK58: =IF(ISERROR(+AC58*AG58/L58),0,+AC58*AG58/L58) -> 0 | AL58: =IF(ISERROR(+AD58*AH58/M58),0,+AD58*AH58/M58) -> 0 | AM58: =ROUND(SUM(AJ58:AL58),2) -> 0
D59: ADA-3 | E59: El establecimiento de salud realiza el proceso de alta según los atributos de oportunidad, continuidad, integralidad. | F59: =IF(ISERROR(VLOOKUP($D59,CriteriosxEstandares!$A:$E,2,FALSE)),0,VLOOKUP($D59,CriteriosxEstandares!$A:$E,2,FALSE)) -> 0 | G59: =IF(ISERROR(VLOOKUP($D59,CriteriosxEstandares!$A:$E,3,FALSE)),0,VLOOKUP($D59,CriteriosxEstandares!$A:$E,3,FALSE)) -> 0 | H59: =IF(ISERROR(VLOOKUP($D59,CriteriosxEstandares!$A:$E,4,FALSE)),0,VLOOKUP($D59,CriteriosxEstandares!$A:$E,4,FALSE)) -> 0 | I59: =IF(ISERROR(VLOOKUP($D59,CriteriosxEstandares!$A:$E,5,FALSE)),0,VLOOKUP($D59,CriteriosxEstandares!$A:$E,5,FALSE)) -> 0 | J59: =SUM(G59:I59) -> 0 | K59: =+G59*2 -> 0 | L59: =+H59*2 -> 0 | M59: =+I59*2 -> 0 | N59: =+K59+L59+M59 -> 0 | O59: 1 | P59: 2 | Q59: 3 | R59: =SUM(O59:Q59) -> 6 | S59: =+K59*O59 -> 0 | T59: =+L59*P59 -> 0 | U59: =+M59*Q59 -> 0 | V59: =SUM(S59:U59) -> 0 | W59: =IF(ISERR(S59/$V59*100),0,S59/$V59*100) -> 0 | X59: =IF(ISERR(T59/$V59*100),0,T59/$V59*100) -> 0 | Y59: =IF(ISERR(U59/$V59*100),0,U59/$V59*100) -> 0 | Z59: =+N59 -> 0 | AA59: =SUM(W59:Y59) -> 0 | AB59: =IF(ISERROR(VLOOKUP($D59,ResultxEstandar!$A:$E,3,FALSE)),0,VLOOKUP($D59,ResultxEstandar!$A:$E,3,FALSE)) -> 0 | AC59: =IF(ISERROR(VLOOKUP($D59,ResultxEstandar!$A:$E,4,FALSE)),0,VLOOKUP($D59,ResultxEstandar!$A:$E,4,FALSE)) -> 0 | AD59: =IF(ISERROR(VLOOKUP($D59,ResultxEstandar!$A:$E,5,FALSE)),0,VLOOKUP($D59,ResultxEstandar!$A:$E,5,FALSE)) -> 0 | AE59: =ROUND(SUM(AB59:AD59),2) -> 0 | AF59: =IF(ISERROR(+W59/100*Z59),0,+W59/100*Z59) -> 0 | AG59: =IF(ISERROR(+X59/100*Z59),0,+X59/100*Z59) -> 0 | AH59: =IF(ISERROR(+Y59/100*Z59),0,+Y59/100*Z59) -> 0 | AI59: =ROUND(SUM(AF59:AH59),2) -> 0 | AJ59: =IF(ISERROR(+AB59*AF59/K59),0,+AB59*AF59/K59) -> 0 | AK59: =IF(ISERROR(+AC59*AG59/L59),0,+AC59*AG59/L59) -> 0 | AL59: =IF(ISERROR(+AD59*AH59/M59),0,+AD59*AH59/M59) -> 0 | AM59: =ROUND(SUM(AJ59:AL59),2) -> 0
D60: ADA-4 | E60: El establecimiento de salud garantiza que el paciente reciba atención continuada después del alta. | F60: =IF(ISERROR(VLOOKUP($D60,CriteriosxEstandares!$A:$E,2,FALSE)),0,VLOOKUP($D60,CriteriosxEstandares!$A:$E,2,FALSE)) -> 0 | G60: =IF(ISERROR(VLOOKUP($D60,CriteriosxEstandares!$A:$E,3,FALSE)),0,VLOOKUP($D60,CriteriosxEstandares!$A:$E,3,FALSE)) -> 0 | H60: =IF(ISERROR(VLOOKUP($D60,CriteriosxEstandares!$A:$E,4,FALSE)),0,VLOOKUP($D60,CriteriosxEstandares!$A:$E,4,FALSE)) -> 0 | I60: =IF(ISERROR(VLOOKUP($D60,CriteriosxEstandares!$A:$E,5,FALSE)),0,VLOOKUP($D60,CriteriosxEstandares!$A:$E,5,FALSE)) -> 0 | J60: =SUM(G60:I60) -> 0 | K60: =+G60*2 -> 0 | L60: =+H60*2 -> 0 | M60: =+I60*2 -> 0 | N60: =+K60+L60+M60 -> 0 | O60: 1 | P60: 2 | Q60: 3 | R60: =SUM(O60:Q60) -> 6 | S60: =+K60*O60 -> 0 | T60: =+L60*P60 -> 0 | U60: =+M60*Q60 -> 0 | V60: =SUM(S60:U60) -> 0 | W60: =IF(ISERR(S60/$V60*100),0,S60/$V60*100) -> 0 | X60: =IF(ISERR(T60/$V60*100),0,T60/$V60*100) -> 0 | Y60: =IF(ISERR(U60/$V60*100),0,U60/$V60*100) -> 0 | Z60: =+N60 -> 0 | AA60: =SUM(W60:Y60) -> 0 | AB60: =IF(ISERROR(VLOOKUP($D60,ResultxEstandar!$A:$E,3,FALSE)),0,VLOOKUP($D60,ResultxEstandar!$A:$E,3,FALSE)) -> 0 | AC60: =IF(ISERROR(VLOOKUP($D60,ResultxEstandar!$A:$E,4,FALSE)),0,VLOOKUP($D60,ResultxEstandar!$A:$E,4,FALSE)) -> 0 | AD60: =IF(ISERROR(VLOOKUP($D60,ResultxEstandar!$A:$E,5,FALSE)),0,VLOOKUP($D60,ResultxEstandar!$A:$E,5,FALSE)) -> 0 | AE60: =ROUND(SUM(AB60:AD60),2) -> 0 | AF60: =IF(ISERROR(+W60/100*Z60),0,+W60/100*Z60) -> 0 | AG60: =IF(ISERROR(+X60/100*Z60),0,+X60/100*Z60) -> 0 | AH60: =IF(ISERROR(+Y60/100*Z60),0,+Y60/100*Z60) -> 0 | AI60: =ROUND(SUM(AF60:AH60),2) -> 0 | AJ60: =IF(ISERROR(+AB60*AF60/K60),0,+AB60*AF60/K60) -> 0 | AK60: =IF(ISERROR(+AC60*AG60/L60),0,+AC60*AG60/L60) -> 0 | AL60: =IF(ISERROR(+AD60*AH60/M60),0,+AD60*AH60/M60) -> 0 | AM60: =ROUND(SUM(AJ60:AL60),2) -> 0
B61: RCR | C61: Referencia y contrarreferencia | D61: RCR-1 | E61: El establecimiento de salud está organizado para referir pacientes y recibir contrarreferencias. | F61: =IF(ISERROR(VLOOKUP($D61,CriteriosxEstandares!$A:$E,2,FALSE)),0,VLOOKUP($D61,CriteriosxEstandares!$A:$E,2,FALSE)) -> 3 | G61: =IF(ISERROR(VLOOKUP($D61,CriteriosxEstandares!$A:$E,3,FALSE)),0,VLOOKUP($D61,CriteriosxEstandares!$A:$E,3,FALSE)) -> 3 | H61: =IF(ISERROR(VLOOKUP($D61,CriteriosxEstandares!$A:$E,4,FALSE)),0,VLOOKUP($D61,CriteriosxEstandares!$A:$E,4,FALSE)) -> 0 | I61: =IF(ISERROR(VLOOKUP($D61,CriteriosxEstandares!$A:$E,5,FALSE)),0,VLOOKUP($D61,CriteriosxEstandares!$A:$E,5,FALSE)) -> 0 | J61: =SUM(G61:I61) -> 3 | K61: =+G61*2 -> 6 | L61: =+H61*2 -> 0 | M61: =+I61*2 -> 0 | N61: =+K61+L61+M61 -> 6 | O61: 1 | P61: 2 | Q61: 3 | R61: =SUM(O61:Q61) -> 6 | S61: =+K61*O61 -> 6 | T61: =+L61*P61 -> 0 | U61: =+M61*Q61 -> 0 | V61: =SUM(S61:U61) -> 6 | W61: =IF(ISERR(S61/$V61*100),0,S61/$V61*100) -> 100 | X61: =IF(ISERR(T61/$V61*100),0,T61/$V61*100) -> 0 | Y61: =IF(ISERR(U61/$V61*100),0,U61/$V61*100) -> 0 | Z61: =+N61 -> 6 | AA61: =SUM(W61:Y61) -> 100 | AB61: =IF(ISERROR(VLOOKUP($D61,ResultxEstandar!$A:$E,3,FALSE)),0,VLOOKUP($D61,ResultxEstandar!$A:$E,3,FALSE)) -> 6 | AC61: =IF(ISERROR(VLOOKUP($D61,ResultxEstandar!$A:$E,4,FALSE)),0,VLOOKUP($D61,ResultxEstandar!$A:$E,4,FALSE)) -> 0 | AD61: =IF(ISERROR(VLOOKUP($D61,ResultxEstandar!$A:$E,5,FALSE)),0,VLOOKUP($D61,ResultxEstandar!$A:$E,5,FALSE)) -> 0 | AE61: =ROUND(SUM(AB61:AD61),2) -> 6 | AF61: =IF(ISERROR(+W61/100*Z61),0,+W61/100*Z61) -> 6 | AG61: =IF(ISERROR(+X61/100*Z61),0,+X61/100*Z61) -> 0 | AH61: =IF(ISERROR(+Y61/100*Z61),0,+Y61/100*Z61) -> 0 | AI61: =ROUND(SUM(AF61:AH61),2) -> 6 | AJ61: =IF(ISERROR(+AB61*AF61/K61),0,+AB61*AF61/K61) -> 6 | AK61: =IF(ISERROR(+AC61*AG61/L61),0,+AC61*AG61/L61) -> 0 | AL61: =IF(ISERROR(+AD61*AH61/M61),0,+AD61*AH61/M61) -> 0 | AM61: =ROUND(SUM(AJ61:AL61),2) -> 6
D62: RCR-2 | E62: El establecimiento de salud está organizado para asegurar un traslado oportuno y seguro de los usuarios. | F62: =IF(ISERROR(VLOOKUP($D62,CriteriosxEstandares!$A:$E,2,FALSE)),0,VLOOKUP($D62,CriteriosxEstandares!$A:$E,2,FALSE)) -> 0 | G62: =IF(ISERROR(VLOOKUP($D62,CriteriosxEstandares!$A:$E,3,FALSE)),0,VLOOKUP($D62,CriteriosxEstandares!$A:$E,3,FALSE)) -> 0 | H62: =IF(ISERROR(VLOOKUP($D62,CriteriosxEstandares!$A:$E,4,FALSE)),0,VLOOKUP($D62,CriteriosxEstandares!$A:$E,4,FALSE)) -> 0 | I62: =IF(ISERROR(VLOOKUP($D62,CriteriosxEstandares!$A:$E,5,FALSE)),0,VLOOKUP($D62,CriteriosxEstandares!$A:$E,5,FALSE)) -> 0 | J62: =SUM(G62:I62) -> 0 | K62: =+G62*2 -> 0 | L62: =+H62*2 -> 0 | M62: =+I62*2 -> 0 | N62: =+K62+L62+M62 -> 0 | O62: 1 | P62: 2 | Q62: 3 | R62: =SUM(O62:Q62) -> 6 | S62: =+K62*O62 -> 0 | T62: =+L62*P62 -> 0 | U62: =+M62*Q62 -> 0 | V62: =SUM(S62:U62) -> 0 | W62: =IF(ISERR(S62/$V62*100),0,S62/$V62*100) -> 0 | X62: =IF(ISERR(T62/$V62*100),0,T62/$V62*100) -> 0 | Y62: =IF(ISERR(U62/$V62*100),0,U62/$V62*100) -> 0 | Z62: =+N62 -> 0 | AA62: =SUM(W62:Y62) -> 0 | AB62: =IF(ISERROR(VLOOKUP($D62,ResultxEstandar!$A:$E,3,FALSE)),0,VLOOKUP($D62,ResultxEstandar!$A:$E,3,FALSE)) -> 0 | AC62: =IF(ISERROR(VLOOKUP($D62,ResultxEstandar!$A:$E,4,FALSE)),0,VLOOKUP($D62,ResultxEstandar!$A:$E,4,FALSE)) -> 0 | AD62: =IF(ISERROR(VLOOKUP($D62,ResultxEstandar!$A:$E,5,FALSE)),0,VLOOKUP($D62,ResultxEstandar!$A:$E,5,FALSE)) -> 0 | AE62: =ROUND(SUM(AB62:AD62),2) -> 0 | AF62: =IF(ISERROR(+W62/100*Z62),0,+W62/100*Z62) -> 0 | AG62: =IF(ISERROR(+X62/100*Z62),0,+X62/100*Z62) -> 0 | AH62: =IF(ISERROR(+Y62/100*Z62),0,+Y62/100*Z62) -> 0 | AI62: =ROUND(SUM(AF62:AH62),2) -> 0 | AJ62: =IF(ISERROR(+AB62*AF62/K62),0,+AB62*AF62/K62) -> 0 | AK62: =IF(ISERROR(+AC62*AG62/L62),0,+AC62*AG62/L62) -> 0 | AL62: =IF(ISERROR(+AD62*AH62/M62),0,+AD62*AH62/M62) -> 0 | AM62: =ROUND(SUM(AJ62:AL62),2) -> 0
D63: RCR-3 | E63: Se aplican los procedimientos establecidos para la referencia y contrarreferencia de pacientes. | F63: =IF(ISERROR(VLOOKUP($D63,CriteriosxEstandares!$A:$E,2,FALSE)),0,VLOOKUP($D63,CriteriosxEstandares!$A:$E,2,FALSE)) -> 4 | G63: =IF(ISERROR(VLOOKUP($D63,CriteriosxEstandares!$A:$E,3,FALSE)),0,VLOOKUP($D63,CriteriosxEstandares!$A:$E,3,FALSE)) -> 0 | H63: =IF(ISERROR(VLOOKUP($D63,CriteriosxEstandares!$A:$E,4,FALSE)),0,VLOOKUP($D63,CriteriosxEstandares!$A:$E,4,FALSE)) -> 1 | I63: =IF(ISERROR(VLOOKUP($D63,CriteriosxEstandares!$A:$E,5,FALSE)),0,VLOOKUP($D63,CriteriosxEstandares!$A:$E,5,FALSE)) -> 3 | J63: =SUM(G63:I63) -> 4 | K63: =+G63*2 -> 0 | L63: =+H63*2 -> 2 | M63: =+I63*2 -> 6 | N63: =+K63+L63+M63 -> 8 | O63: 1 | P63: 2 | Q63: 3 | R63: =SUM(O63:Q63) -> 6 | S63: =+K63*O63 -> 0 | T63: =+L63*P63 -> 4 | U63: =+M63*Q63 -> 18 | V63: =SUM(S63:U63) -> 22 | W63: =IF(ISERR(S63/$V63*100),0,S63/$V63*100) -> 0 | X63: =IF(ISERR(T63/$V63*100),0,T63/$V63*100) -> 18.181818 | Y63: =IF(ISERR(U63/$V63*100),0,U63/$V63*100) -> 81.818182 | Z63: =+N63 -> 8 | AA63: =SUM(W63:Y63) -> 100 | AB63: =IF(ISERROR(VLOOKUP($D63,ResultxEstandar!$A:$E,3,FALSE)),0,VLOOKUP($D63,ResultxEstandar!$A:$E,3,FALSE)) -> 0 | AC63: =IF(ISERROR(VLOOKUP($D63,ResultxEstandar!$A:$E,4,FALSE)),0,VLOOKUP($D63,ResultxEstandar!$A:$E,4,FALSE)) -> 2 | AD63: =IF(ISERROR(VLOOKUP($D63,ResultxEstandar!$A:$E,5,FALSE)),0,VLOOKUP($D63,ResultxEstandar!$A:$E,5,FALSE)) -> 6 | AE63: =ROUND(SUM(AB63:AD63),2) -> 8 | AF63: =IF(ISERROR(+W63/100*Z63),0,+W63/100*Z63) -> 0 | AG63: =IF(ISERROR(+X63/100*Z63),0,+X63/100*Z63) -> 1.4545455 | AH63: =IF(ISERROR(+Y63/100*Z63),0,+Y63/100*Z63) -> 6.5454545 | AI63: =ROUND(SUM(AF63:AH63),2) -> 8 | AJ63: =IF(ISERROR(+AB63*AF63/K63),0,+AB63*AF63/K63) -> 0 | AK63: =IF(ISERROR(+AC63*AG63/L63),0,+AC63*AG63/L63) -> 1.4545455 | AL63: =IF(ISERROR(+AD63*AH63/M63),0,+AD63*AH63/M63) -> 6.5454545 | AM63: =ROUND(SUM(AJ63:AL63),2) -> 8
D64: RCR-4 | E64: Se establecen mecanismos de participación de la población organizada en los procesos de identificación, seguimiento y apoyo en la referencia y contrarreferencia de usuarios. | F64: =IF(ISERROR(VLOOKUP($D64,CriteriosxEstandares!$A:$E,2,FALSE)),0,VLOOKUP($D64,CriteriosxEstandares!$A:$E,2,FALSE)) -> 3 | G64: =IF(ISERROR(VLOOKUP($D64,CriteriosxEstandares!$A:$E,3,FALSE)),0,VLOOKUP($D64,CriteriosxEstandares!$A:$E,3,FALSE)) -> 3 | H64: =IF(ISERROR(VLOOKUP($D64,CriteriosxEstandares!$A:$E,4,FALSE)),0,VLOOKUP($D64,CriteriosxEstandares!$A:$E,4,FALSE)) -> 0 | I64: =IF(ISERROR(VLOOKUP($D64,CriteriosxEstandares!$A:$E,5,FALSE)),0,VLOOKUP($D64,CriteriosxEstandares!$A:$E,5,FALSE)) -> 0 | J64: =SUM(G64:I64) -> 3 | K64: =+G64*2 -> 6 | L64: =+H64*2 -> 0 | M64: =+I64*2 -> 0 | N64: =+K64+L64+M64 -> 6 | O64: 1 | P64: 2 | Q64: 3 | R64: =SUM(O64:Q64) -> 6 | S64: =+K64*O64 -> 6 | T64: =+L64*P64 -> 0 | U64: =+M64*Q64 -> 0 | V64: =SUM(S64:U64) -> 6 | W64: =IF(ISERR(S64/$V64*100),0,S64/$V64*100) -> 100 | X64: =IF(ISERR(T64/$V64*100),0,T64/$V64*100) -> 0 | Y64: =IF(ISERR(U64/$V64*100),0,U64/$V64*100) -> 0 | Z64: =+N64 -> 6 | AA64: =SUM(W64:Y64) -> 100 | AB64: =IF(ISERROR(VLOOKUP($D64,ResultxEstandar!$A:$E,3,FALSE)),0,VLOOKUP($D64,ResultxEstandar!$A:$E,3,FALSE)) -> 2 | AC64: =IF(ISERROR(VLOOKUP($D64,ResultxEstandar!$A:$E,4,FALSE)),0,VLOOKUP($D64,ResultxEstandar!$A:$E,4,FALSE)) -> 0 | AD64: =IF(ISERROR(VLOOKUP($D64,ResultxEstandar!$A:$E,5,FALSE)),0,VLOOKUP($D64,ResultxEstandar!$A:$E,5,FALSE)) -> 0 | AE64: =ROUND(SUM(AB64:AD64),2) -> 2 | AF64: =IF(ISERROR(+W64/100*Z64),0,+W64/100*Z64) -> 6 | AG64: =IF(ISERROR(+X64/100*Z64),0,+X64/100*Z64) -> 0 | AH64: =IF(ISERROR(+Y64/100*Z64),0,+Y64/100*Z64) -> 0 | AI64: =ROUND(SUM(AF64:AH64),2) -> 6 | AJ64: =IF(ISERROR(+AB64*AF64/K64),0,+AB64*AF64/K64) -> 2 | AK64: =IF(ISERROR(+AC64*AG64/L64),0,+AC64*AG64/L64) -> 0 | AL64: =IF(ISERROR(+AD64*AH64/M64),0,+AD64*AH64/M64) -> 0 | AM64: =ROUND(SUM(AJ64:AL64),2) -> 2
B65: GMD | C65: Gestión de medicamentos | D65: GMD-1 | E65: El establecimiento está organizado para un manejo adecuado de los medicamentos e insumos antes de su dispensación al usuario | F65: =IF(ISERROR(VLOOKUP($D65,CriteriosxEstandares!$A:$E,2,FALSE)),0,VLOOKUP($D65,CriteriosxEstandares!$A:$E,2,FALSE)) -> 4 | G65: =IF(ISERROR(VLOOKUP($D65,CriteriosxEstandares!$A:$E,3,FALSE)),0,VLOOKUP($D65,CriteriosxEstandares!$A:$E,3,FALSE)) -> 1 | H65: =IF(ISERROR(VLOOKUP($D65,CriteriosxEstandares!$A:$E,4,FALSE)),0,VLOOKUP($D65,CriteriosxEstandares!$A:$E,4,FALSE)) -> 3 | I65: =IF(ISERROR(VLOOKUP($D65,CriteriosxEstandares!$A:$E,5,FALSE)),0,VLOOKUP($D65,CriteriosxEstandares!$A:$E,5,FALSE)) -> 0 | J65: =SUM(G65:I65) -> 4 | K65: =+G65*2 -> 2 | L65: =+H65*2 -> 6 | M65: =+I65*2 -> 0 | N65: =+K65+L65+M65 -> 8 | O65: 1 | P65: 2 | Q65: 3 | R65: =SUM(O65:Q65) -> 6 | S65: =+K65*O65 -> 2 | T65: =+L65*P65 -> 12 | U65: =+M65*Q65 -> 0 | V65: =SUM(S65:U65) -> 14 | W65: =IF(ISERR(S65/$V65*100),0,S65/$V65*100) -> 14.285714 | X65: =IF(ISERR(T65/$V65*100),0,T65/$V65*100) -> 85.714286 | Y65: =IF(ISERR(U65/$V65*100),0,U65/$V65*100) -> 0 | Z65: =+N65 -> 8 | AA65: =SUM(W65:Y65) -> 100 | AB65: =IF(ISERROR(VLOOKUP($D65,ResultxEstandar!$A:$E,3,FALSE)),0,VLOOKUP($D65,ResultxEstandar!$A:$E,3,FALSE)) -> 2 | AC65: =IF(ISERROR(VLOOKUP($D65,ResultxEstandar!$A:$E,4,FALSE)),0,VLOOKUP($D65,ResultxEstandar!$A:$E,4,FALSE)) -> 6 | AD65: =IF(ISERROR(VLOOKUP($D65,ResultxEstandar!$A:$E,5,FALSE)),0,VLOOKUP($D65,ResultxEstandar!$A:$E,5,FALSE)) -> 0 | AE65: =ROUND(SUM(AB65:AD65),2) -> 8 | AF65: =IF(ISERROR(+W65/100*Z65),0,+W65/100*Z65) -> 1.1428571 | AG65: =IF(ISERROR(+X65/100*Z65),0,+X65/100*Z65) -> 6.8571429 | AH65: =IF(ISERROR(+Y65/100*Z65),0,+Y65/100*Z65) -> 0 | AI65: =ROUND(SUM(AF65:AH65),2) -> 8 | AJ65: =IF(ISERROR(+AB65*AF65/K65),0,+AB65*AF65/K65) -> 1.1428571 | AK65: =IF(ISERROR(+AC65*AG65/L65),0,+AC65*AG65/L65) -> 6.8571429 | AL65: =IF(ISERROR(+AD65*AH65/M65),0,+AD65*AH65/M65) -> 0 | AM65: =ROUND(SUM(AJ65:AL65),2) -> 8
D66: GMD-2 | E66: El establecimiento realiza acciones para que la prescripcion y dispensación de los medicamentos e insumos se brinde de manera segura y confiable | F66: =IF(ISERROR(VLOOKUP($D66,CriteriosxEstandares!$A:$E,2,FALSE)),0,VLOOKUP($D66,CriteriosxEstandares!$A:$E,2,FALSE)) -> 1 | G66: =IF(ISERROR(VLOOKUP($D66,CriteriosxEstandares!$A:$E,3,FALSE)),0,VLOOKUP($D66,CriteriosxEstandares!$A:$E,3,FALSE)) -> 0 | H66: =IF(ISERROR(VLOOKUP($D66,CriteriosxEstandares!$A:$E,4,FALSE)),0,VLOOKUP($D66,CriteriosxEstandares!$A:$E,4,FALSE)) -> 1 | I66: =IF(ISERROR(VLOOKUP($D66,CriteriosxEstandares!$A:$E,5,FALSE)),0,VLOOKUP($D66,CriteriosxEstandares!$A:$E,5,FALSE)) -> 0 | J66: =SUM(G66:I66) -> 1 | K66: =+G66*2 -> 0 | L66: =+H66*2 -> 2 | M66: =+I66*2 -> 0 | N66: =+K66+L66+M66 -> 2 | O66: 1 | P66: 2 | Q66: 3 | R66: =SUM(O66:Q66) -> 6 | S66: =+K66*O66 -> 0 | T66: =+L66*P66 -> 4 | U66: =+M66*Q66 -> 0 | V66: =SUM(S66:U66) -> 4 | W66: =IF(ISERR(S66/$V66*100),0,S66/$V66*100) -> 0 | X66: =IF(ISERR(T66/$V66*100),0,T66/$V66*100) -> 100 | Y66: =IF(ISERR(U66/$V66*100),0,U66/$V66*100) -> 0 | Z66: =+N66 -> 2 | AA66: =SUM(W66:Y66) -> 100 | AB66: =IF(ISERROR(VLOOKUP($D66,ResultxEstandar!$A:$E,3,FALSE)),0,VLOOKUP($D66,ResultxEstandar!$A:$E,3,FALSE)) -> 0 | AC66: =IF(ISERROR(VLOOKUP($D66,ResultxEstandar!$A:$E,4,FALSE)),0,VLOOKUP($D66,ResultxEstandar!$A:$E,4,FALSE)) -> 2 | AD66: =IF(ISERROR(VLOOKUP($D66,ResultxEstandar!$A:$E,5,FALSE)),0,VLOOKUP($D66,ResultxEstandar!$A:$E,5,FALSE)) -> 0 | AE66: =ROUND(SUM(AB66:AD66),2) -> 2 | AF66: =IF(ISERROR(+W66/100*Z66),0,+W66/100*Z66) -> 0 | AG66: =IF(ISERROR(+X66/100*Z66),0,+X66/100*Z66) -> 2 | AH66: =IF(ISERROR(+Y66/100*Z66),0,+Y66/100*Z66) -> 0 | AI66: =ROUND(SUM(AF66:AH66),2) -> 2 | AJ66: =IF(ISERROR(+AB66*AF66/K66),0,+AB66*AF66/K66) -> 0 | AK66: =IF(ISERROR(+AC66*AG66/L66),0,+AC66*AG66/L66) -> 2 | AL66: =IF(ISERROR(+AD66*AH66/M66),0,+AD66*AH66/M66) -> 0 | AM66: =ROUND(SUM(AJ66:AL66),2) -> 2
D67: GMD-3 | E67: El establecimiento de salud vela por los resultados de la gestión de medicamentos e insumos | F67: =IF(ISERROR(VLOOKUP($D67,CriteriosxEstandares!$A:$E,2,FALSE)),0,VLOOKUP($D67,CriteriosxEstandares!$A:$E,2,FALSE)) -> 2 | G67: =IF(ISERROR(VLOOKUP($D67,CriteriosxEstandares!$A:$E,3,FALSE)),0,VLOOKUP($D67,CriteriosxEstandares!$A:$E,3,FALSE)) -> 2 | H67: =IF(ISERROR(VLOOKUP($D67,CriteriosxEstandares!$A:$E,4,FALSE)),0,VLOOKUP($D67,CriteriosxEstandares!$A:$E,4,FALSE)) -> 0 | I67: =IF(ISERROR(VLOOKUP($D67,CriteriosxEstandares!$A:$E,5,FALSE)),0,VLOOKUP($D67,CriteriosxEstandares!$A:$E,5,FALSE)) -> 0 | J67: =SUM(G67:I67) -> 2 | K67: =+G67*2 -> 4 | L67: =+H67*2 -> 0 | M67: =+I67*2 -> 0 | N67: =+K67+L67+M67 -> 4 | O67: 1 | P67: 2 | Q67: 3 | R67: =SUM(O67:Q67) -> 6 | S67: =+K67*O67 -> 4 | T67: =+L67*P67 -> 0 | U67: =+M67*Q67 -> 0 | V67: =SUM(S67:U67) -> 4 | W67: =IF(ISERR(S67/$V67*100),0,S67/$V67*100) -> 100 | X67: =IF(ISERR(T67/$V67*100),0,T67/$V67*100) -> 0 | Y67: =IF(ISERR(U67/$V67*100),0,U67/$V67*100) -> 0 | Z67: =+N67 -> 4 | AA67: =SUM(W67:Y67) -> 100 | AB67: =IF(ISERROR(VLOOKUP($D67,ResultxEstandar!$A:$E,3,FALSE)),0,VLOOKUP($D67,ResultxEstandar!$A:$E,3,FALSE)) -> 4 | AC67: =IF(ISERROR(VLOOKUP($D67,ResultxEstandar!$A:$E,4,FALSE)),0,VLOOKUP($D67,ResultxEstandar!$A:$E,4,FALSE)) -> 0 | AD67: =IF(ISERROR(VLOOKUP($D67,ResultxEstandar!$A:$E,5,FALSE)),0,VLOOKUP($D67,ResultxEstandar!$A:$E,5,FALSE)) -> 0 | AE67: =ROUND(SUM(AB67:AD67),2) -> 4 | AF67: =IF(ISERROR(+W67/100*Z67),0,+W67/100*Z67) -> 4 | AG67: =IF(ISERROR(+X67/100*Z67),0,+X67/100*Z67) -> 0 | AH67: =IF(ISERROR(+Y67/100*Z67),0,+Y67/100*Z67) -> 0 | AI67: =ROUND(SUM(AF67:AH67),2) -> 4 | AJ67: =IF(ISERROR(+AB67*AF67/K67),0,+AB67*AF67/K67) -> 4 | AK67: =IF(ISERROR(+AC67*AG67/L67),0,+AC67*AG67/L67) -> 0 | AL67: =IF(ISERROR(+AD67*AH67/M67),0,+AD67*AH67/M67) -> 0 | AM67: =ROUND(SUM(AJ67:AL67),2) -> 4
B68: GIN | C68: Gestión de la información | D68: GIN-1 | E68: El establecimiento de salud promueve una gestión integral de la información. | F68: =IF(ISERROR(VLOOKUP($D68,CriteriosxEstandares!$A:$E,2,FALSE)),0,VLOOKUP($D68,CriteriosxEstandares!$A:$E,2,FALSE)) -> 4 | G68: =IF(ISERROR(VLOOKUP($D68,CriteriosxEstandares!$A:$E,3,FALSE)),0,VLOOKUP($D68,CriteriosxEstandares!$A:$E,3,FALSE)) -> 3 | H68: =IF(ISERROR(VLOOKUP($D68,CriteriosxEstandares!$A:$E,4,FALSE)),0,VLOOKUP($D68,CriteriosxEstandares!$A:$E,4,FALSE)) -> 1 | I68: =IF(ISERROR(VLOOKUP($D68,CriteriosxEstandares!$A:$E,5,FALSE)),0,VLOOKUP($D68,CriteriosxEstandares!$A:$E,5,FALSE)) -> 0 | J68: =SUM(G68:I68) -> 4 | K68: =+G68*2 -> 6 | L68: =+H68*2 -> 2 | M68: =+I68*2 -> 0 | N68: =+K68+L68+M68 -> 8 | O68: 1 | P68: 2 | Q68: 3 | R68: =SUM(O68:Q68) -> 6 | S68: =+K68*O68 -> 6 | T68: =+L68*P68 -> 4 | U68: =+M68*Q68 -> 0 | V68: =SUM(S68:U68) -> 10 | W68: =IF(ISERR(S68/$V68*100),0,S68/$V68*100) -> 60 | X68: =IF(ISERR(T68/$V68*100),0,T68/$V68*100) -> 40 | Y68: =IF(ISERR(U68/$V68*100),0,U68/$V68*100) -> 0 | Z68: =+N68 -> 8 | AA68: =SUM(W68:Y68) -> 100 | AB68: =IF(ISERROR(VLOOKUP($D68,ResultxEstandar!$A:$E,3,FALSE)),0,VLOOKUP($D68,ResultxEstandar!$A:$E,3,FALSE)) -> 6 | AC68: =IF(ISERROR(VLOOKUP($D68,ResultxEstandar!$A:$E,4,FALSE)),0,VLOOKUP($D68,ResultxEstandar!$A:$E,4,FALSE)) -> 1 | AD68: =IF(ISERROR(VLOOKUP($D68,ResultxEstandar!$A:$E,5,FALSE)),0,VLOOKUP($D68,ResultxEstandar!$A:$E,5,FALSE)) -> 0 | AE68: =ROUND(SUM(AB68:AD68),2) -> 7 | AF68: =IF(ISERROR(+W68/100*Z68),0,+W68/100*Z68) -> 4.8 | AG68: =IF(ISERROR(+X68/100*Z68),0,+X68/100*Z68) -> 3.2 | AH68: =IF(ISERROR(+Y68/100*Z68),0,+Y68/100*Z68) -> 0 | AI68: =ROUND(SUM(AF68:AH68),2) -> 8 | AJ68: =IF(ISERROR(+AB68*AF68/K68),0,+AB68*AF68/K68) -> 4.8 | AK68: =IF(ISERROR(+AC68*AG68/L68),0,+AC68*AG68/L68) -> 1.6 | AL68: =IF(ISERROR(+AD68*AH68/M68),0,+AD68*AH68/M68) -> 0 | AM68: =ROUND(SUM(AJ68:AL68),2) -> 6.4
D69: GIN-2 | E69: El establecimiento de salud realiza sistemáticamente el análisis de la veracidad, confiabilidad y la oportunidad de la información. | F69: =IF(ISERROR(VLOOKUP($D69,CriteriosxEstandares!$A:$E,2,FALSE)),0,VLOOKUP($D69,CriteriosxEstandares!$A:$E,2,FALSE)) -> 0 | G69: =IF(ISERROR(VLOOKUP($D69,CriteriosxEstandares!$A:$E,3,FALSE)),0,VLOOKUP($D69,CriteriosxEstandares!$A:$E,3,FALSE)) -> 0 | H69: =IF(ISERROR(VLOOKUP($D69,CriteriosxEstandares!$A:$E,4,FALSE)),0,VLOOKUP($D69,CriteriosxEstandares!$A:$E,4,FALSE)) -> 0 | I69: =IF(ISERROR(VLOOKUP($D69,CriteriosxEstandares!$A:$E,5,FALSE)),0,VLOOKUP($D69,CriteriosxEstandares!$A:$E,5,FALSE)) -> 0 | J69: =SUM(G69:I69) -> 0 | K69: =+G69*2 -> 0 | L69: =+H69*2 -> 0 | M69: =+I69*2 -> 0 | N69: =+K69+L69+M69 -> 0 | O69: 1 | P69: 2 | Q69: 3 | R69: =SUM(O69:Q69) -> 6 | S69: =+K69*O69 -> 0 | T69: =+L69*P69 -> 0 | U69: =+M69*Q69 -> 0 | V69: =SUM(S69:U69) -> 0 | W69: =IF(ISERR(S69/$V69*100),0,S69/$V69*100) -> 0 | X69: =IF(ISERR(T69/$V69*100),0,T69/$V69*100) -> 0 | Y69: =IF(ISERR(U69/$V69*100),0,U69/$V69*100) -> 0 | Z69: =+N69 -> 0 | AA69: =SUM(W69:Y69) -> 0 | AB69: =IF(ISERROR(VLOOKUP($D69,ResultxEstandar!$A:$E,3,FALSE)),0,VLOOKUP($D69,ResultxEstandar!$A:$E,3,FALSE)) -> 0 | AC69: =IF(ISERROR(VLOOKUP($D69,ResultxEstandar!$A:$E,4,FALSE)),0,VLOOKUP($D69,ResultxEstandar!$A:$E,4,FALSE)) -> 0 | AD69: =IF(ISERROR(VLOOKUP($D69,ResultxEstandar!$A:$E,5,FALSE)),0,VLOOKUP($D69,ResultxEstandar!$A:$E,5,FALSE)) -> 0 | AE69: =ROUND(SUM(AB69:AD69),2) -> 0 | AF69: =IF(ISERROR(+W69/100*Z69),0,+W69/100*Z69) -> 0 | AG69: =IF(ISERROR(+X69/100*Z69),0,+X69/100*Z69) -> 0 | AH69: =IF(ISERROR(+Y69/100*Z69),0,+Y69/100*Z69) -> 0 | AI69: =ROUND(SUM(AF69:AH69),2) -> 0 | AJ69: =IF(ISERROR(+AB69*AF69/K69),0,+AB69*AF69/K69) -> 0 | AK69: =IF(ISERROR(+AC69*AG69/L69),0,+AC69*AG69/L69) -> 0 | AL69: =IF(ISERROR(+AD69*AH69/M69),0,+AD69*AH69/M69) -> 0 | AM69: =ROUND(SUM(AJ69:AL69),2) -> 0
D70: GIN-3 | E70: El establecimiento de salud promueve la cultura de la toma de decisiones basada en información | F70: =IF(ISERROR(VLOOKUP($D70,CriteriosxEstandares!$A:$E,2,FALSE)),0,VLOOKUP($D70,CriteriosxEstandares!$A:$E,2,FALSE)) -> 3 | G70: =IF(ISERROR(VLOOKUP($D70,CriteriosxEstandares!$A:$E,3,FALSE)),0,VLOOKUP($D70,CriteriosxEstandares!$A:$E,3,FALSE)) -> 0 | H70: =IF(ISERROR(VLOOKUP($D70,CriteriosxEstandares!$A:$E,4,FALSE)),0,VLOOKUP($D70,CriteriosxEstandares!$A:$E,4,FALSE)) -> 3 | I70: =IF(ISERROR(VLOOKUP($D70,CriteriosxEstandares!$A:$E,5,FALSE)),0,VLOOKUP($D70,CriteriosxEstandares!$A:$E,5,FALSE)) -> 0 | J70: =SUM(G70:I70) -> 3 | K70: =+G70*2 -> 0 | L70: =+H70*2 -> 6 | M70: =+I70*2 -> 0 | N70: =+K70+L70+M70 -> 6 | O70: 1 | P70: 2 | Q70: 3 | R70: =SUM(O70:Q70) -> 6 | S70: =+K70*O70 -> 0 | T70: =+L70*P70 -> 12 | U70: =+M70*Q70 -> 0 | V70: =SUM(S70:U70) -> 12 | W70: =IF(ISERR(S70/$V70*100),0,S70/$V70*100) -> 0 | X70: =IF(ISERR(T70/$V70*100),0,T70/$V70*100) -> 100 | Y70: =IF(ISERR(U70/$V70*100),0,U70/$V70*100) -> 0 | Z70: =+N70 -> 6 | AA70: =SUM(W70:Y70) -> 100 | AB70: =IF(ISERROR(VLOOKUP($D70,ResultxEstandar!$A:$E,3,FALSE)),0,VLOOKUP($D70,ResultxEstandar!$A:$E,3,FALSE)) -> 0 | AC70: =IF(ISERROR(VLOOKUP($D70,ResultxEstandar!$A:$E,4,FALSE)),0,VLOOKUP($D70,ResultxEstandar!$A:$E,4,FALSE)) -> 3 | AD70: =IF(ISERROR(VLOOKUP($D70,ResultxEstandar!$A:$E,5,FALSE)),0,VLOOKUP($D70,ResultxEstandar!$A:$E,5,FALSE)) -> 0 | AE70: =ROUND(SUM(AB70:AD70),2) -> 3 | AF70: =IF(ISERROR(+W70/100*Z70),0,+W70/100*Z70) -> 0 | AG70: =IF(ISERROR(+X70/100*Z70),0,+X70/100*Z70) -> 6 | AH70: =IF(ISERROR(+Y70/100*Z70),0,+Y70/100*Z70) -> 0 | AI70: =ROUND(SUM(AF70:AH70),2) -> 6 | AJ70: =IF(ISERROR(+AB70*AF70/K70),0,+AB70*AF70/K70) -> 0 | AK70: =IF(ISERROR(+AC70*AG70/L70),0,+AC70*AG70/L70) -> 3 | AL70: =IF(ISERROR(+AD70*AH70/M70),0,+AD70*AH70/M70) -> 0 | AM70: =ROUND(SUM(AJ70:AL70),2) -> 3
B71: DLDE | C71: Descontaminación, Limpieza, Desinfección y Esterilización | D71: DLDE-1 | E71: El establecimiento de salud se organiza para aplicar medidas de decontaminacion, limpieza, desinfección y esterilización de materiales, equipos, enseres e instalaciones. | F71: =IF(ISERROR(VLOOKUP($D71,CriteriosxEstandares!$A:$E,2,FALSE)),0,VLOOKUP($D71,CriteriosxEstandares!$A:$E,2,FALSE)) -> 1 | G71: =IF(ISERROR(VLOOKUP($D71,CriteriosxEstandares!$A:$E,3,FALSE)),0,VLOOKUP($D71,CriteriosxEstandares!$A:$E,3,FALSE)) -> 1 | H71: =IF(ISERROR(VLOOKUP($D71,CriteriosxEstandares!$A:$E,4,FALSE)),0,VLOOKUP($D71,CriteriosxEstandares!$A:$E,4,FALSE)) -> 0 | I71: =IF(ISERROR(VLOOKUP($D71,CriteriosxEstandares!$A:$E,5,FALSE)),0,VLOOKUP($D71,CriteriosxEstandares!$A:$E,5,FALSE)) -> 0 | J71: =SUM(G71:I71) -> 1 | K71: =+G71*2 -> 2 | L71: =+H71*2 -> 0 | M71: =+I71*2 -> 0 | N71: =+K71+L71+M71 -> 2 | O71: 1 | P71: 2 | Q71: 3 | R71: =SUM(O71:Q71) -> 6 | S71: =+K71*O71 -> 2 | T71: =+L71*P71 -> 0 | U71: =+M71*Q71 -> 0 | V71: =SUM(S71:U71) -> 2 | W71: =IF(ISERR(S71/$V71*100),0,S71/$V71*100) -> 100 | X71: =IF(ISERR(T71/$V71*100),0,T71/$V71*100) -> 0 | Y71: =IF(ISERR(U71/$V71*100),0,U71/$V71*100) -> 0 | Z71: =+N71 -> 2 | AA71: =SUM(W71:Y71) -> 100 | AB71: =IF(ISERROR(VLOOKUP($D71,ResultxEstandar!$A:$E,3,FALSE)),0,VLOOKUP($D71,ResultxEstandar!$A:$E,3,FALSE)) -> 2 | AC71: =IF(ISERROR(VLOOKUP($D71,ResultxEstandar!$A:$E,4,FALSE)),0,VLOOKUP($D71,ResultxEstandar!$A:$E,4,FALSE)) -> 0 | AD71: =IF(ISERROR(VLOOKUP($D71,ResultxEstandar!$A:$E,5,FALSE)),0,VLOOKUP($D71,ResultxEstandar!$A:$E,5,FALSE)) -> 0 | AE71: =ROUND(SUM(AB71:AD71),2) -> 2 | AF71: =IF(ISERROR(+W71/100*Z71),0,+W71/100*Z71) -> 2 | AG71: =IF(ISERROR(+X71/100*Z71),0,+X71/100*Z71) -> 0 | AH71: =IF(ISERROR(+Y71/100*Z71),0,+Y71/100*Z71) -> 0 | AI71: =ROUND(SUM(AF71:AH71),2) -> 2 | AJ71: =IF(ISERROR(+AB71*AF71/K71),0,+AB71*AF71/K71) -> 2 | AK71: =IF(ISERROR(+AC71*AG71/L71),0,+AC71*AG71/L71) -> 0 | AL71: =IF(ISERROR(+AD71*AH71/M71),0,+AD71*AH71/M71) -> 0 | AM71: =ROUND(SUM(AJ71:AL71),2) -> 2
D72: DLDE-2 | E72: Se realizan los procesos de decontaminacion, limpieza, desinfección, empaque, esterilización, almacenamiento y distribución de los materiales de acuerdo con normas establecidas. | F72: =IF(ISERROR(VLOOKUP($D72,CriteriosxEstandares!$A:$E,2,FALSE)),0,VLOOKUP($D72,CriteriosxEstandares!$A:$E,2,FALSE)) -> 1 | G72: =IF(ISERROR(VLOOKUP($D72,CriteriosxEstandares!$A:$E,3,FALSE)),0,VLOOKUP($D72,CriteriosxEstandares!$A:$E,3,FALSE)) -> 0 | H72: =IF(ISERROR(VLOOKUP($D72,CriteriosxEstandares!$A:$E,4,FALSE)),0,VLOOKUP($D72,CriteriosxEstandares!$A:$E,4,FALSE)) -> 1 | I72: =IF(ISERROR(VLOOKUP($D72,CriteriosxEstandares!$A:$E,5,FALSE)),0,VLOOKUP($D72,CriteriosxEstandares!$A:$E,5,FALSE)) -> 0 | J72: =SUM(G72:I72) -> 1 | K72: =+G72*2 -> 0 | L72: =+H72*2 -> 2 | M72: =+I72*2 -> 0 | N72: =+K72+L72+M72 -> 2 | O72: 1 | P72: 2 | Q72: 3 | R72: =SUM(O72:Q72) -> 6 | S72: =+K72*O72 -> 0 | T72: =+L72*P72 -> 4 | U72: =+M72*Q72 -> 0 | V72: =SUM(S72:U72) -> 4 | W72: =IF(ISERR(S72/$V72*100),0,S72/$V72*100) -> 0 | X72: =IF(ISERR(T72/$V72*100),0,T72/$V72*100) -> 100 | Y72: =IF(ISERR(U72/$V72*100),0,U72/$V72*100) -> 0 | Z72: =+N72 -> 2 | AA72: =SUM(W72:Y72) -> 100 | AB72: =IF(ISERROR(VLOOKUP($D72,ResultxEstandar!$A:$E,3,FALSE)),0,VLOOKUP($D72,ResultxEstandar!$A:$E,3,FALSE)) -> 0 | AC72: =IF(ISERROR(VLOOKUP($D72,ResultxEstandar!$A:$E,4,FALSE)),0,VLOOKUP($D72,ResultxEstandar!$A:$E,4,FALSE)) -> 2 | AD72: =IF(ISERROR(VLOOKUP($D72,ResultxEstandar!$A:$E,5,FALSE)),0,VLOOKUP($D72,ResultxEstandar!$A:$E,5,FALSE)) -> 0 | AE72: =ROUND(SUM(AB72:AD72),2) -> 2 | AF72: =IF(ISERROR(+W72/100*Z72),0,+W72/100*Z72) -> 0 | AG72: =IF(ISERROR(+X72/100*Z72),0,+X72/100*Z72) -> 2 | AH72: =IF(ISERROR(+Y72/100*Z72),0,+Y72/100*Z72) -> 0 | AI72: =ROUND(SUM(AF72:AH72),2) -> 2 | AJ72: =IF(ISERROR(+AB72*AF72/K72),0,+AB72*AF72/K72) -> 0 | AK72: =IF(ISERROR(+AC72*AG72/L72),0,+AC72*AG72/L72) -> 2 | AL72: =IF(ISERROR(+AD72*AH72/M72),0,+AD72*AH72/M72) -> 0 | AM72: =ROUND(SUM(AJ72:AL72),2) -> 2
D73: DLDE-3 | E73: Se realizan los procesos de limpieza y tratamiento de enseres de cama y ropa de pacientes y personal de acuerdo con procedimientos establecidos. | F73: =IF(ISERROR(VLOOKUP($D73,CriteriosxEstandares!$A:$E,2,FALSE)),0,VLOOKUP($D73,CriteriosxEstandares!$A:$E,2,FALSE)) -> 0 | G73: =IF(ISERROR(VLOOKUP($D73,CriteriosxEstandares!$A:$E,3,FALSE)),0,VLOOKUP($D73,CriteriosxEstandares!$A:$E,3,FALSE)) -> 0 | H73: =IF(ISERROR(VLOOKUP($D73,CriteriosxEstandares!$A:$E,4,FALSE)),0,VLOOKUP($D73,CriteriosxEstandares!$A:$E,4,FALSE)) -> 0 | I73: =IF(ISERROR(VLOOKUP($D73,CriteriosxEstandares!$A:$E,5,FALSE)),0,VLOOKUP($D73,CriteriosxEstandares!$A:$E,5,FALSE)) -> 0 | J73: =SUM(G73:I73) -> 0 | K73: =+G73*2 -> 0 | L73: =+H73*2 -> 0 | M73: =+I73*2 -> 0 | N73: =+K73+L73+M73 -> 0 | O73: 1 | P73: 2 | Q73: 3 | R73: =SUM(O73:Q73) -> 6 | S73: =+K73*O73 -> 0 | T73: =+L73*P73 -> 0 | U73: =+M73*Q73 -> 0 | V73: =SUM(S73:U73) -> 0 | W73: =IF(ISERR(S73/$V73*100),0,S73/$V73*100) -> 0 | X73: =IF(ISERR(T73/$V73*100),0,T73/$V73*100) -> 0 | Y73: =IF(ISERR(U73/$V73*100),0,U73/$V73*100) -> 0 | Z73: =+N73 -> 0 | AA73: =SUM(W73:Y73) -> 0 | AB73: =IF(ISERROR(VLOOKUP($D73,ResultxEstandar!$A:$E,3,FALSE)),0,VLOOKUP($D73,ResultxEstandar!$A:$E,3,FALSE)) -> 0 | AC73: =IF(ISERROR(VLOOKUP($D73,ResultxEstandar!$A:$E,4,FALSE)),0,VLOOKUP($D73,ResultxEstandar!$A:$E,4,FALSE)) -> 0 | AD73: =IF(ISERROR(VLOOKUP($D73,ResultxEstandar!$A:$E,5,FALSE)),0,VLOOKUP($D73,ResultxEstandar!$A:$E,5,FALSE)) -> 0 | AE73: =ROUND(SUM(AB73:AD73),2) -> 0 | AF73: =IF(ISERROR(+W73/100*Z73),0,+W73/100*Z73) -> 0 | AG73: =IF(ISERROR(+X73/100*Z73),0,+X73/100*Z73) -> 0 | AH73: =IF(ISERROR(+Y73/100*Z73),0,+Y73/100*Z73) -> 0 | AI73: =ROUND(SUM(AF73:AH73),2) -> 0 | AJ73: =IF(ISERROR(+AB73*AF73/K73),0,+AB73*AF73/K73) -> 0 | AK73: =IF(ISERROR(+AC73*AG73/L73),0,+AC73*AG73/L73) -> 0 | AL73: =IF(ISERROR(+AD73*AH73/M73),0,+AD73*AH73/M73) -> 0 | AM73: =ROUND(SUM(AJ73:AL73),2) -> 0
D74: DLDE-4 | E74: Se realiza la limpieza de las instalaciones del establecimiento de acuerdo con normas específicas. | F74: =IF(ISERROR(VLOOKUP($D74,CriteriosxEstandares!$A:$E,2,FALSE)),0,VLOOKUP($D74,CriteriosxEstandares!$A:$E,2,FALSE)) -> 2 | G74: =IF(ISERROR(VLOOKUP($D74,CriteriosxEstandares!$A:$E,3,FALSE)),0,VLOOKUP($D74,CriteriosxEstandares!$A:$E,3,FALSE)) -> 1 | H74: =IF(ISERROR(VLOOKUP($D74,CriteriosxEstandares!$A:$E,4,FALSE)),0,VLOOKUP($D74,CriteriosxEstandares!$A:$E,4,FALSE)) -> 0 | I74: =IF(ISERROR(VLOOKUP($D74,CriteriosxEstandares!$A:$E,5,FALSE)),0,VLOOKUP($D74,CriteriosxEstandares!$A:$E,5,FALSE)) -> 1 | J74: =SUM(G74:I74) -> 2 | K74: =+G74*2 -> 2 | L74: =+H74*2 -> 0 | M74: =+I74*2 -> 2 | N74: =+K74+L74+M74 -> 4 | O74: 1 | P74: 2 | Q74: 3 | R74: =SUM(O74:Q74) -> 6 | S74: =+K74*O74 -> 2 | T74: =+L74*P74 -> 0 | U74: =+M74*Q74 -> 6 | V74: =SUM(S74:U74) -> 8 | W74: =IF(ISERR(S74/$V74*100),0,S74/$V74*100) -> 25 | X74: =IF(ISERR(T74/$V74*100),0,T74/$V74*100) -> 0 | Y74: =IF(ISERR(U74/$V74*100),0,U74/$V74*100) -> 75 | Z74: =+N74 -> 4 | AA74: =SUM(W74:Y74) -> 100 | AB74: =IF(ISERROR(VLOOKUP($D74,ResultxEstandar!$A:$E,3,FALSE)),0,VLOOKUP($D74,ResultxEstandar!$A:$E,3,FALSE)) -> 2 | AC74: =IF(ISERROR(VLOOKUP($D74,ResultxEstandar!$A:$E,4,FALSE)),0,VLOOKUP($D74,ResultxEstandar!$A:$E,4,FALSE)) -> 0 | AD74: =IF(ISERROR(VLOOKUP($D74,ResultxEstandar!$A:$E,5,FALSE)),0,VLOOKUP($D74,ResultxEstandar!$A:$E,5,FALSE)) -> 2 | AE74: =ROUND(SUM(AB74:AD74),2) -> 4 | AF74: =IF(ISERROR(+W74/100*Z74),0,+W74/100*Z74) -> 1 | AG74: =IF(ISERROR(+X74/100*Z74),0,+X74/100*Z74) -> 0 | AH74: =IF(ISERROR(+Y74/100*Z74),0,+Y74/100*Z74) -> 3 | AI74: =ROUND(SUM(AF74:AH74),2) -> 4 | AJ74: =IF(ISERROR(+AB74*AF74/K74),0,+AB74*AF74/K74) -> 1 | AK74: =IF(ISERROR(+AC74*AG74/L74),0,+AC74*AG74/L74) -> 0 | AL74: =IF(ISERROR(+AD74*AH74/M74),0,+AD74*AH74/M74) -> 3 | AM74: =ROUND(SUM(AJ74:AL74),2) -> 4
B75: MRS | C75: Manejo del riesgo social | D75: MRS-1 | E75: El establecimiento de salud está organizado y cuenta con mecanismos para realizar de forma confiable la evaluación socioeconómica de los usuarios. | F75: =IF(ISERROR(VLOOKUP($D75,CriteriosxEstandares!$A:$E,2,FALSE)),0,VLOOKUP($D75,CriteriosxEstandares!$A:$E,2,FALSE)) -> 0 | G75: =IF(ISERROR(VLOOKUP($D75,CriteriosxEstandares!$A:$E,3,FALSE)),0,VLOOKUP($D75,CriteriosxEstandares!$A:$E,3,FALSE)) -> 0 | H75: =IF(ISERROR(VLOOKUP($D75,CriteriosxEstandares!$A:$E,4,FALSE)),0,VLOOKUP($D75,CriteriosxEstandares!$A:$E,4,FALSE)) -> 0 | I75: =IF(ISERROR(VLOOKUP($D75,CriteriosxEstandares!$A:$E,5,FALSE)),0,VLOOKUP($D75,CriteriosxEstandares!$A:$E,5,FALSE)) -> 0 | J75: =SUM(G75:I75) -> 0 | K75: =+G75*2 -> 0 | L75: =+H75*2 -> 0 | M75: =+I75*2 -> 0 | N75: =+K75+L75+M75 -> 0 | O75: 1 | P75: 2 | Q75: 3 | R75: =SUM(O75:Q75) -> 6 | S75: =+K75*O75 -> 0 | T75: =+L75*P75 -> 0 | U75: =+M75*Q75 -> 0 | V75: =SUM(S75:U75) -> 0 | W75: =IF(ISERR(S75/$V75*100),0,S75/$V75*100) -> 0 | X75: =IF(ISERR(T75/$V75*100),0,T75/$V75*100) -> 0 | Y75: =IF(ISERR(U75/$V75*100),0,U75/$V75*100) -> 0 | Z75: =+N75 -> 0 | AA75: =SUM(W75:Y75) -> 0 | AB75: =IF(ISERROR(VLOOKUP($D75,ResultxEstandar!$A:$E,3,FALSE)),0,VLOOKUP($D75,ResultxEstandar!$A:$E,3,FALSE)) -> 0 | AC75: =IF(ISERROR(VLOOKUP($D75,ResultxEstandar!$A:$E,4,FALSE)),0,VLOOKUP($D75,ResultxEstandar!$A:$E,4,FALSE)) -> 0 | AD75: =IF(ISERROR(VLOOKUP($D75,ResultxEstandar!$A:$E,5,FALSE)),0,VLOOKUP($D75,ResultxEstandar!$A:$E,5,FALSE)) -> 0 | AE75: =ROUND(SUM(AB75:AD75),2) -> 0 | AF75: =IF(ISERROR(+W75/100*Z75),0,+W75/100*Z75) -> 0 | AG75: =IF(ISERROR(+X75/100*Z75),0,+X75/100*Z75) -> 0 | AH75: =IF(ISERROR(+Y75/100*Z75),0,+Y75/100*Z75) -> 0 | AI75: =ROUND(SUM(AF75:AH75),2) -> 0 | AJ75: =IF(ISERROR(+AB75*AF75/K75),0,+AB75*AF75/K75) -> 0 | AK75: =IF(ISERROR(+AC75*AG75/L75),0,+AC75*AG75/L75) -> 0 | AL75: =IF(ISERROR(+AD75*AH75/M75),0,+AD75*AH75/M75) -> 0 | AM75: =ROUND(SUM(AJ75:AL75),2) -> 0
D76: MRS-2 | E76: El establecimiento de salud destina recursos financieros para la atención de casos especiales y de extrema pobreza. | F76: =IF(ISERROR(VLOOKUP($D76,CriteriosxEstandares!$A:$E,2,FALSE)),0,VLOOKUP($D76,CriteriosxEstandares!$A:$E,2,FALSE)) -> 2 | G76: =IF(ISERROR(VLOOKUP($D76,CriteriosxEstandares!$A:$E,3,FALSE)),0,VLOOKUP($D76,CriteriosxEstandares!$A:$E,3,FALSE)) -> 0 | H76: =IF(ISERROR(VLOOKUP($D76,CriteriosxEstandares!$A:$E,4,FALSE)),0,VLOOKUP($D76,CriteriosxEstandares!$A:$E,4,FALSE)) -> 1 | I76: =IF(ISERROR(VLOOKUP($D76,CriteriosxEstandares!$A:$E,5,FALSE)),0,VLOOKUP($D76,CriteriosxEstandares!$A:$E,5,FALSE)) -> 1 | J76: =SUM(G76:I76) -> 2 | K76: =+G76*2 -> 0 | L76: =+H76*2 -> 2 | M76: =+I76*2 -> 2 | N76: =+K76+L76+M76 -> 4 | O76: 1 | P76: 2 | Q76: 3 | R76: =SUM(O76:Q76) -> 6 | S76: =+K76*O76 -> 0 | T76: =+L76*P76 -> 4 | U76: =+M76*Q76 -> 6 | V76: =SUM(S76:U76) -> 10 | W76: =IF(ISERR(S76/$V76*100),0,S76/$V76*100) -> 0 | X76: =IF(ISERR(T76/$V76*100),0,T76/$V76*100) -> 40 | Y76: =IF(ISERR(U76/$V76*100),0,U76/$V76*100) -> 60 | Z76: =+N76 -> 4 | AA76: =SUM(W76:Y76) -> 100 | AB76: =IF(ISERROR(VLOOKUP($D76,ResultxEstandar!$A:$E,3,FALSE)),0,VLOOKUP($D76,ResultxEstandar!$A:$E,3,FALSE)) -> 0 | AC76: =IF(ISERROR(VLOOKUP($D76,ResultxEstandar!$A:$E,4,FALSE)),0,VLOOKUP($D76,ResultxEstandar!$A:$E,4,FALSE)) -> 0 | AD76: =IF(ISERROR(VLOOKUP($D76,ResultxEstandar!$A:$E,5,FALSE)),0,VLOOKUP($D76,ResultxEstandar!$A:$E,5,FALSE)) -> 2 | AE76: =ROUND(SUM(AB76:AD76),2) -> 2 | AF76: =IF(ISERROR(+W76/100*Z76),0,+W76/100*Z76) -> 0 | AG76: =IF(ISERROR(+X76/100*Z76),0,+X76/100*Z76) -> 1.6 | AH76: =IF(ISERROR(+Y76/100*Z76),0,+Y76/100*Z76) -> 2.4 | AI76: =ROUND(SUM(AF76:AH76),2) -> 4 | AJ76: =IF(ISERROR(+AB76*AF76/K76),0,+AB76*AF76/K76) -> 0 | AK76: =IF(ISERROR(+AC76*AG76/L76),0,+AC76*AG76/L76) -> 0 | AL76: =IF(ISERROR(+AD76*AH76/M76),0,+AD76*AH76/M76) -> 2.4 | AM76: =ROUND(SUM(AJ76:AL76),2) -> 2.4
B77: NYD | C77: Nutrición y dietética | D77: NYD-1 | E77: El establecimiento de salud está organizado para brindar servicios de nutrición y dietética, según normatividad vigente. | F77: =IF(ISERROR(VLOOKUP($D77,CriteriosxEstandares!$A:$E,2,FALSE)),0,VLOOKUP($D77,CriteriosxEstandares!$A:$E,2,FALSE)) -> 0 | G77: =IF(ISERROR(VLOOKUP($D77,CriteriosxEstandares!$A:$E,3,FALSE)),0,VLOOKUP($D77,CriteriosxEstandares!$A:$E,3,FALSE)) -> 0 | H77: =IF(ISERROR(VLOOKUP($D77,CriteriosxEstandares!$A:$E,4,FALSE)),0,VLOOKUP($D77,CriteriosxEstandares!$A:$E,4,FALSE)) -> 0 | I77: =IF(ISERROR(VLOOKUP($D77,CriteriosxEstandares!$A:$E,5,FALSE)),0,VLOOKUP($D77,CriteriosxEstandares!$A:$E,5,FALSE)) -> 0 | J77: =SUM(G77:I77) -> 0 | K77: =+G77*2 -> 0 | L77: =+H77*2 -> 0 | M77: =+I77*2 -> 0 | N77: =+K77+L77+M77 -> 0 | O77: 1 | P77: 2 | Q77: 3 | R77: =SUM(O77:Q77) -> 6 | S77: =+K77*O77 -> 0 | T77: =+L77*P77 -> 0 | U77: =+M77*Q77 -> 0 | V77: =SUM(S77:U77) -> 0 | W77: =IF(ISERR(S77/$V77*100),0,S77/$V77*100) -> 0 | X77: =IF(ISERR(T77/$V77*100),0,T77/$V77*100) -> 0 | Y77: =IF(ISERR(U77/$V77*100),0,U77/$V77*100) -> 0 | Z77: =+N77 -> 0 | AA77: =SUM(W77:Y77) -> 0 | AB77: =IF(ISERROR(VLOOKUP($D77,ResultxEstandar!$A:$E,3,FALSE)),0,VLOOKUP($D77,ResultxEstandar!$A:$E,3,FALSE)) -> 0 | AC77: =IF(ISERROR(VLOOKUP($D77,ResultxEstandar!$A:$E,4,FALSE)),0,VLOOKUP($D77,ResultxEstandar!$A:$E,4,FALSE)) -> 0 | AD77: =IF(ISERROR(VLOOKUP($D77,ResultxEstandar!$A:$E,5,FALSE)),0,VLOOKUP($D77,ResultxEstandar!$A:$E,5,FALSE)) -> 0 | AE77: =ROUND(SUM(AB77:AD77),2) -> 0 | AF77: =IF(ISERROR(+W77/100*Z77),0,+W77/100*Z77) -> 0 | AG77: =IF(ISERROR(+X77/100*Z77),0,+X77/100*Z77) -> 0 | AH77: =IF(ISERROR(+Y77/100*Z77),0,+Y77/100*Z77) -> 0 | AI77: =ROUND(SUM(AF77:AH77),2) -> 0 | AJ77: =IF(ISERROR(+AB77*AF77/K77),0,+AB77*AF77/K77) -> 0 | AK77: =IF(ISERROR(+AC77*AG77/L77),0,+AC77*AG77/L77) -> 0 | AL77: =IF(ISERROR(+AD77*AH77/M77),0,+AD77*AH77/M77) -> 0 | AM77: =ROUND(SUM(AJ77:AL77),2) -> 0
